BEGIN:VCALENDAR
VERSION:2.0
PRODID:-//Living Skies Regional Council - ECPv6.15.20//NONSGML v1.0//EN
CALSCALE:GREGORIAN
METHOD:PUBLISH
X-WR-CALNAME:Living Skies Regional Council
X-ORIGINAL-URL:https://livingskiesrc.ca
X-WR-CALDESC:Events for Living Skies Regional Council
REFRESH-INTERVAL;VALUE=DURATION:PT1H
X-Robots-Tag:noindex
X-PUBLISHED-TTL:PT1H
BEGIN:VTIMEZONE
TZID:America/Regina
BEGIN:STANDARD
TZOFFSETFROM:-0600
TZOFFSETTO:-0600
TZNAME:CST
DTSTART:20220101T000000
END:STANDARD
END:VTIMEZONE
BEGIN:VEVENT
DTSTART;TZID=America/Regina:20230905T130000
DTEND;TZID=America/Regina:20230905T143000
DTSTAMP:20260423T123158
CREATED:20230509T204248Z
LAST-MODIFIED:20230509T204248Z
UID:10000648-1693918800-1693924200@livingskiesrc.ca
SUMMARY:Ministry Personnel Gathering
DESCRIPTION:Ministry Personnel are warmly invited to join colleagues for unstructured collegial support. \nJoin the Zoom meeting at: \nhttps://united-church.zoom.us/j/89879201577?pwd=eFh5STgybWVnS2RsVlkrek84S01zUT09 
URL:https://livingskiesrc.ca/event/ministry-personnel-gathering-100/
LOCATION:Zoom
CATEGORIES:Regional Events
END:VEVENT
BEGIN:VEVENT
DTSTART;TZID=America/Regina:20230829T130000
DTEND;TZID=America/Regina:20230829T143000
DTSTAMP:20260423T123158
CREATED:20230509T204213Z
LAST-MODIFIED:20230509T204213Z
UID:10000647-1693314000-1693319400@livingskiesrc.ca
SUMMARY:Ministry Personnel Gathering
DESCRIPTION:Ministry Personnel are warmly invited to join colleagues for unstructured collegial support. \nJoin the Zoom meeting at: \nhttps://united-church.zoom.us/j/89879201577?pwd=eFh5STgybWVnS2RsVlkrek84S01zUT09 
URL:https://livingskiesrc.ca/event/ministry-personnel-gathering-99/
LOCATION:Zoom
CATEGORIES:Regional Events
END:VEVENT
BEGIN:VEVENT
DTSTART;TZID=America/Regina:20230822T130000
DTEND;TZID=America/Regina:20230822T143000
DTSTAMP:20260423T123158
CREATED:20230509T204141Z
LAST-MODIFIED:20230509T204141Z
UID:10000646-1692709200-1692714600@livingskiesrc.ca
SUMMARY:Ministry Personnel Gathering
DESCRIPTION:Ministry Personnel are warmly invited to join colleagues for unstructured collegial support. \nJoin the Zoom meeting at: \nhttps://united-church.zoom.us/j/89879201577?pwd=eFh5STgybWVnS2RsVlkrek84S01zUT09 
URL:https://livingskiesrc.ca/event/ministry-personnel-gathering-98/
LOCATION:Zoom
CATEGORIES:Regional Events
END:VEVENT
BEGIN:VEVENT
DTSTART;TZID=America/Regina:20230815T130000
DTEND;TZID=America/Regina:20230815T143000
DTSTAMP:20260423T123158
CREATED:20230509T204103Z
LAST-MODIFIED:20230509T204103Z
UID:10000645-1692104400-1692109800@livingskiesrc.ca
SUMMARY:Ministry Personnel Gathering
DESCRIPTION:Ministry Personnel are warmly invited to join colleagues for unstructured collegial support. \nJoin the Zoom meeting at: \nhttps://united-church.zoom.us/j/89879201577?pwd=eFh5STgybWVnS2RsVlkrek84S01zUT09 
URL:https://livingskiesrc.ca/event/ministry-personnel-gathering-97/
LOCATION:Zoom
CATEGORIES:Regional Events
END:VEVENT
BEGIN:VEVENT
DTSTART;TZID=America/Regina:20230808T130000
DTEND;TZID=America/Regina:20230808T143000
DTSTAMP:20260423T123158
CREATED:20230509T204023Z
LAST-MODIFIED:20230509T204023Z
UID:10000644-1691499600-1691505000@livingskiesrc.ca
SUMMARY:Ministry Personnel Gathering
DESCRIPTION:Ministry Personnel are warmly invited to join colleagues for unstructured collegial support. \nJoin the Zoom meeting at: \nhttps://united-church.zoom.us/j/89879201577?pwd=eFh5STgybWVnS2RsVlkrek84S01zUT09 
URL:https://livingskiesrc.ca/event/ministry-personnel-gathering-96/
LOCATION:Zoom
CATEGORIES:Regional Events
END:VEVENT
BEGIN:VEVENT
DTSTART;TZID=America/Regina:20230801T130000
DTEND;TZID=America/Regina:20230801T143000
DTSTAMP:20260423T123158
CREATED:20230509T203955Z
LAST-MODIFIED:20230509T203955Z
UID:10000643-1690894800-1690900200@livingskiesrc.ca
SUMMARY:Ministry Personnel Gathering
DESCRIPTION:Ministry Personnel are warmly invited to join colleagues for unstructured collegial support. \nJoin the Zoom meeting at: \nhttps://united-church.zoom.us/j/89879201577?pwd=eFh5STgybWVnS2RsVlkrek84S01zUT09 
URL:https://livingskiesrc.ca/event/ministry-personnel-gathering-95/
LOCATION:Zoom
CATEGORIES:Regional Events
END:VEVENT
BEGIN:VEVENT
DTSTART;TZID=America/Regina:20230725T130000
DTEND;TZID=America/Regina:20230725T143000
DTSTAMP:20260423T123158
CREATED:20230509T203904Z
LAST-MODIFIED:20230509T203904Z
UID:10000642-1690290000-1690295400@livingskiesrc.ca
SUMMARY:Ministry Personnel Gathering
DESCRIPTION:Ministry Personnel are warmly invited to join colleagues for unstructured collegial support. \nJoin the Zoom meeting at: \nhttps://united-church.zoom.us/j/89879201577?pwd=eFh5STgybWVnS2RsVlkrek84S01zUT09 
URL:https://livingskiesrc.ca/event/ministry-personnel-gathering-94/
LOCATION:Zoom
CATEGORIES:Regional Events
END:VEVENT
BEGIN:VEVENT
DTSTART;TZID=America/Regina:20230718T130000
DTEND;TZID=America/Regina:20230718T143000
DTSTAMP:20260423T123158
CREATED:20230509T203831Z
LAST-MODIFIED:20230509T203831Z
UID:10000641-1689685200-1689690600@livingskiesrc.ca
SUMMARY:Ministry Personnel Gathering
DESCRIPTION:Ministry Personnel are warmly invited to join colleagues for unstructured collegial support. \nJoin the Zoom meeting at: \nhttps://united-church.zoom.us/j/89879201577?pwd=eFh5STgybWVnS2RsVlkrek84S01zUT09 
URL:https://livingskiesrc.ca/event/ministry-personnel-gathering-93/
LOCATION:Zoom
CATEGORIES:Regional Events
END:VEVENT
BEGIN:VEVENT
DTSTART;TZID=America/Regina:20230711T130000
DTEND;TZID=America/Regina:20230711T143000
DTSTAMP:20260423T123158
CREATED:20230509T203623Z
LAST-MODIFIED:20230509T203623Z
UID:10000640-1689080400-1689085800@livingskiesrc.ca
SUMMARY:Ministry Personnel Gathering
DESCRIPTION:Ministry Personnel are warmly invited to join colleagues for unstructured collegial support. \nJoin the Zoom meeting at: \nhttps://united-church.zoom.us/j/89879201577?pwd=eFh5STgybWVnS2RsVlkrek84S01zUT09 
URL:https://livingskiesrc.ca/event/ministry-personnel-gathering-92/
LOCATION:Zoom
CATEGORIES:Regional Events
END:VEVENT
BEGIN:VEVENT
DTSTART;TZID=America/Regina:20230704T130000
DTEND;TZID=America/Regina:20230704T143000
DTSTAMP:20260423T123158
CREATED:20230509T203520Z
LAST-MODIFIED:20230509T203520Z
UID:10000639-1688475600-1688481000@livingskiesrc.ca
SUMMARY:Ministry Personnel Gathering
DESCRIPTION:Ministry Personnel are warmly invited to join colleagues for unstructured collegial support. \nJoin the Zoom meeting at: \nhttps://united-church.zoom.us/j/89879201577?pwd=eFh5STgybWVnS2RsVlkrek84S01zUT09 
URL:https://livingskiesrc.ca/event/ministry-personnel-gathering-91/
LOCATION:Zoom
CATEGORIES:Regional Events
END:VEVENT
BEGIN:VEVENT
DTSTART;TZID=America/Regina:20230627T130000
DTEND;TZID=America/Regina:20230627T143000
DTSTAMP:20260423T123158
CREATED:20230509T203341Z
LAST-MODIFIED:20230509T203341Z
UID:10000638-1687870800-1687876200@livingskiesrc.ca
SUMMARY:Ministry Personnel Gathering
DESCRIPTION:Ministry Personnel are warmly invited to join colleagues for unstructured collegial support. \nJoin the Zoom meeting at: \nhttps://united-church.zoom.us/j/89879201577?pwd=eFh5STgybWVnS2RsVlkrek84S01zUT09 
URL:https://livingskiesrc.ca/event/ministry-personnel-gathering-90/
LOCATION:Zoom
CATEGORIES:Regional Events
END:VEVENT
BEGIN:VEVENT
DTSTART;TZID=America/Regina:20230620T130000
DTEND;TZID=America/Regina:20230620T143000
DTSTAMP:20260423T123158
CREATED:20230509T202426Z
LAST-MODIFIED:20230509T202426Z
UID:10000637-1687266000-1687271400@livingskiesrc.ca
SUMMARY:Ministry Personnel Gathering
DESCRIPTION:Ministry Personnel are warmly invited to join colleagues over Zoom for conversation\, support and information sharing. \nJoin the Zoom meeting at: \nhttps://united-church.zoom.us/j/89879201577?pwd=eFh5STgybWVnS2RsVlkrek84S01zUT09 
URL:https://livingskiesrc.ca/event/ministry-personnel-gathering-89/
LOCATION:Zoom
CATEGORIES:Regional Events
END:VEVENT
BEGIN:VEVENT
DTSTART;TZID=America/Regina:20230613T130000
DTEND;TZID=America/Regina:20230613T143000
DTSTAMP:20260423T123158
CREATED:20230509T202210Z
LAST-MODIFIED:20230509T202210Z
UID:10000636-1686661200-1686666600@livingskiesrc.ca
SUMMARY:Ministry Personnel Gathering
DESCRIPTION:Ministry Personnel are warmly invited to join colleagues over Zoom for conversation\, support and information sharing. \nJoin the Zoom meeting at: \nhttps://united-church.zoom.us/j/89879201577?pwd=eFh5STgybWVnS2RsVlkrek84S01zUT09 
URL:https://livingskiesrc.ca/event/ministry-personnel-gathering-88/
LOCATION:Zoom
CATEGORIES:Regional Events
END:VEVENT
BEGIN:VEVENT
DTSTART;TZID=America/Regina:20230606T130000
DTEND;TZID=America/Regina:20230606T143000
DTSTAMP:20260423T123158
CREATED:20230509T202111Z
LAST-MODIFIED:20230509T202111Z
UID:10000635-1686056400-1686061800@livingskiesrc.ca
SUMMARY:Ministry Personnel Gathering
DESCRIPTION:Ministry Personnel are warmly invited to join colleagues over Zoom for conversation\, support and information sharing. \nJoin the Zoom meeting at: \nhttps://united-church.zoom.us/j/89879201577?pwd=eFh5STgybWVnS2RsVlkrek84S01zUT09 
URL:https://livingskiesrc.ca/event/ministry-personnel-gathering-87/
LOCATION:Zoom
CATEGORIES:Regional Events
END:VEVENT
BEGIN:VEVENT
DTSTART;TZID=America/Regina:20230530T130000
DTEND;TZID=America/Regina:20230530T143000
DTSTAMP:20260423T123158
CREATED:20230509T201742Z
LAST-MODIFIED:20230509T201742Z
UID:10000634-1685451600-1685457000@livingskiesrc.ca
SUMMARY:Ministry Personnel Gathering
DESCRIPTION:Ministry Personnel are warmly invited to join colleagues over Zoom for conversation\, support and information sharing. \nJoin the Zoom meeting at: \nhttps://united-church.zoom.us/j/89879201577?pwd=eFh5STgybWVnS2RsVlkrek84S01zUT09 
URL:https://livingskiesrc.ca/event/ministry-personnel-gathering-86/
LOCATION:Zoom
CATEGORIES:Regional Events
END:VEVENT
BEGIN:VEVENT
DTSTART;TZID=America/Regina:20230523T130000
DTEND;TZID=America/Regina:20230523T143000
DTSTAMP:20260423T123158
CREATED:20230509T201626Z
LAST-MODIFIED:20230509T201626Z
UID:10000633-1684846800-1684852200@livingskiesrc.ca
SUMMARY:Ministry Personnel Gathering
DESCRIPTION:Ministry Personnel are warmly invited to join colleagues over Zoom for conversation\, support and information sharing. \nJoin the Zoom meeting at: \nhttps://united-church.zoom.us/j/89879201577?pwd=eFh5STgybWVnS2RsVlkrek84S01zUT09 
URL:https://livingskiesrc.ca/event/ministry-personnel-gathering-85/
LOCATION:Zoom
CATEGORIES:Regional Events
END:VEVENT
BEGIN:VEVENT
DTSTART;TZID=America/Regina:20230516T130000
DTEND;TZID=America/Regina:20230516T143000
DTSTAMP:20260423T123158
CREATED:20230302T205814Z
LAST-MODIFIED:20230302T205814Z
UID:10000619-1684242000-1684247400@livingskiesrc.ca
SUMMARY:Ministry Personnel Gathering
DESCRIPTION:Ministry Personnel are warmly invited to join colleagues over Zoom for conversation\, support and information sharing. \nJoin the Zoom meeting at: \nhttps://united-church.zoom.us/j/89879201577?pwd=eFh5STgybWVnS2RsVlkrek84S01zUT09 
URL:https://livingskiesrc.ca/event/ministry-personnel-gathering-84/
LOCATION:Zoom
CATEGORIES:Regional Events
END:VEVENT
BEGIN:VEVENT
DTSTART;TZID=America/Regina:20230509T130000
DTEND;TZID=America/Regina:20230509T143000
DTSTAMP:20260423T123158
CREATED:20230302T205717Z
LAST-MODIFIED:20230302T205717Z
UID:10000618-1683637200-1683642600@livingskiesrc.ca
SUMMARY:Ministry Personnel Gathering
DESCRIPTION:Ministry Personnel are warmly invited to join colleagues over Zoom for conversation\, support and information sharing. \nJoin the Zoom meeting at: \nhttps://united-church.zoom.us/j/89879201577?pwd=eFh5STgybWVnS2RsVlkrek84S01zUT09 
URL:https://livingskiesrc.ca/event/ministry-personnel-gathering-83/
LOCATION:Zoom
CATEGORIES:Regional Events
END:VEVENT
BEGIN:VEVENT
DTSTART;TZID=America/Regina:20230502T130000
DTEND;TZID=America/Regina:20230502T143000
DTSTAMP:20260423T123158
CREATED:20230302T205604Z
LAST-MODIFIED:20230302T205604Z
UID:10000617-1683032400-1683037800@livingskiesrc.ca
SUMMARY:Ministry Personnel Gathering
DESCRIPTION:Ministry Personnel are warmly invited to join colleagues over Zoom for conversation\, support and information sharing. \nJoin the Zoom meeting at: \nhttps://united-church.zoom.us/j/89879201577?pwd=eFh5STgybWVnS2RsVlkrek84S01zUT09 
URL:https://livingskiesrc.ca/event/ministry-personnel-gathering-82/
LOCATION:Zoom
CATEGORIES:Regional Events
END:VEVENT
BEGIN:VEVENT
DTSTART;TZID=America/Regina:20230425T130000
DTEND;TZID=America/Regina:20230425T143000
DTSTAMP:20260423T123158
CREATED:20230302T205441Z
LAST-MODIFIED:20230302T205441Z
UID:10000616-1682427600-1682433000@livingskiesrc.ca
SUMMARY:Ministry Personnel Gathering
DESCRIPTION:Ministry Personnel are warmly invited to join colleagues over Zoom for conversation\, support and information sharing. \nJoin the Zoom meeting at: \nhttps://united-church.zoom.us/j/89879201577?pwd=eFh5STgybWVnS2RsVlkrek84S01zUT09 
URL:https://livingskiesrc.ca/event/ministry-personnel-gathering-81/
LOCATION:Zoom
CATEGORIES:Regional Events
END:VEVENT
BEGIN:VEVENT
DTSTART;TZID=America/Regina:20230418T130000
DTEND;TZID=America/Regina:20230418T143000
DTSTAMP:20260423T123158
CREATED:20230302T204922Z
LAST-MODIFIED:20230302T204922Z
UID:10000615-1681822800-1681828200@livingskiesrc.ca
SUMMARY:Ministry Personnel Gathering
DESCRIPTION:Ministry Personnel are warmly invited to join colleagues over Zoom for conversation\, support and information sharing. \nJoin the Zoom meeting at: \nhttps://united-church.zoom.us/j/89879201577?pwd=eFh5STgybWVnS2RsVlkrek84S01zUT09 
URL:https://livingskiesrc.ca/event/ministry-personnel-gathering-80/
LOCATION:Zoom
CATEGORIES:Regional Events
END:VEVENT
BEGIN:VEVENT
DTSTART;TZID=America/Regina:20230411T130000
DTEND;TZID=America/Regina:20230411T143000
DTSTAMP:20260423T123158
CREATED:20230302T204522Z
LAST-MODIFIED:20230302T204522Z
UID:10000614-1681218000-1681223400@livingskiesrc.ca
SUMMARY:Ministry Personnel Gathering
DESCRIPTION:Ministry Personnel are warmly invited to join colleagues over Zoom for conversation\, support and information sharing. \nJoin the Zoom meeting at: \nhttps://united-church.zoom.us/j/89879201577?pwd=eFh5STgybWVnS2RsVlkrek84S01zUT09 
URL:https://livingskiesrc.ca/event/ministry-personnel-gathering-79/
LOCATION:Zoom
CATEGORIES:Regional Events
END:VEVENT
BEGIN:VEVENT
DTSTART;TZID=America/Regina:20230404T130000
DTEND;TZID=America/Regina:20230404T143000
DTSTAMP:20260423T123158
CREATED:20230302T202806Z
LAST-MODIFIED:20230302T202806Z
UID:10000608-1680613200-1680618600@livingskiesrc.ca
SUMMARY:Ministry Personnel Gathering
DESCRIPTION:Ministry Personnel are warmly invited to join colleagues over Zoom for conversation\, support and information sharing. \nJoin the Zoom meeting at: \nhttps://united-church.zoom.us/j/89879201577?pwd=eFh5STgybWVnS2RsVlkrek84S01zUT09 
URL:https://livingskiesrc.ca/event/ministry-personnel-gathering-77/
LOCATION:Zoom
CATEGORIES:Regional Events
END:VEVENT
BEGIN:VEVENT
DTSTART;TZID=America/Regina:20230328T130000
DTEND;TZID=America/Regina:20230328T143000
DTSTAMP:20260423T123158
CREATED:20230302T204209Z
LAST-MODIFIED:20230302T204209Z
UID:10000612-1680008400-1680013800@livingskiesrc.ca
SUMMARY:Ministry Personnel Gathering
DESCRIPTION:Ministry Personnel are warmly invited to join colleagues over Zoom for conversation\, support and information sharing. \nJoin the Zoom meeting at: \nhttps://united-church.zoom.us/j/89879201577?pwd=eFh5STgybWVnS2RsVlkrek84S01zUT09 \n 
URL:https://livingskiesrc.ca/event/ministry-personnel-gathering-78/
LOCATION:Zoom
CATEGORIES:Regional Events
END:VEVENT
BEGIN:VEVENT
DTSTART;TZID=America/Regina:20230321T130000
DTEND;TZID=America/Regina:20230321T143000
DTSTAMP:20260423T123158
CREATED:20230106T162759Z
LAST-MODIFIED:20230314T212108Z
UID:10000594-1679403600-1679409000@livingskiesrc.ca
SUMMARY:Ministry Personnel Gathering
DESCRIPTION:Ministry Personnel are warmly invited to join colleagues over Zoom for conversation\, support and information sharing.  Today\, we will be joined online by Adele Halliday\, Anti-Racism and Equity Lead. \nJoin the Zoom meeting at: \nhttps://united-church.zoom.us/j/91785072233?pwd=dFB3RUZDNjhPai9wRlVZUzBsYzZ5dz09
URL:https://livingskiesrc.ca/event/ministry-personnel-gathering-76/
LOCATION:Zoom
CATEGORIES:Regional Events
END:VEVENT
BEGIN:VEVENT
DTSTART;TZID=America/Regina:20230314T130000
DTEND;TZID=America/Regina:20230314T143000
DTSTAMP:20260423T123158
CREATED:20230106T162714Z
LAST-MODIFIED:20230106T162714Z
UID:10000593-1678798800-1678804200@livingskiesrc.ca
SUMMARY:Ministry Personnel Gathering
DESCRIPTION:Ministry Personnel are warmly invited to join colleagues over Zoom for conversation\, support and information sharing. \nJoin the Zoom meeting at: \nhttps://united-church.zoom.us/j/91785072233?pwd=dFB3RUZDNjhPai9wRlVZUzBsYzZ5dz09
URL:https://livingskiesrc.ca/event/ministry-personnel-gathering-75/
LOCATION:Zoom
CATEGORIES:Regional Events
END:VEVENT
BEGIN:VEVENT
DTSTART;TZID=America/Regina:20230307T130000
DTEND;TZID=America/Regina:20230307T143000
DTSTAMP:20260423T123158
CREATED:20230106T162540Z
LAST-MODIFIED:20230306T180113Z
UID:10000592-1678194000-1678199400@livingskiesrc.ca
SUMMARY:Ministry Personnel Gathering
DESCRIPTION:Ministry Personnel are warmly invited to join colleagues over Zoom for conversation\, support and information sharing.  Join the Zoom meeting at: \nhttps://united-church.zoom.us/j/91785072233?pwd=dFB3RUZDNjhPai9wRlVZUzBsYzZ5dz09
URL:https://livingskiesrc.ca/event/ministry-personnel-gathering-74/
LOCATION:Zoom
CATEGORIES:Regional Events
END:VEVENT
BEGIN:VEVENT
DTSTART;TZID=America/Regina:20230228T130000
DTEND;TZID=America/Regina:20230228T143000
DTSTAMP:20260423T123158
CREATED:20230106T162415Z
LAST-MODIFIED:20230106T162415Z
UID:10000591-1677589200-1677594600@livingskiesrc.ca
SUMMARY:Ministry Personnel Gathering
DESCRIPTION:Ministry Personnel are warmly invited to join colleagues over Zoom for conversation\, support and information sharing. \nJoin the Zoom meeting at: \nhttps://united-church.zoom.us/j/91785072233?pwd=dFB3RUZDNjhPai9wRlVZUzBsYzZ5dz09
URL:https://livingskiesrc.ca/event/ministry-personnel-gathering-73/
LOCATION:Zoom
CATEGORIES:Regional Events
END:VEVENT
BEGIN:VEVENT
DTSTART;TZID=America/Regina:20230221T130000
DTEND;TZID=America/Regina:20230221T143000
DTSTAMP:20260423T123158
CREATED:20230106T162321Z
LAST-MODIFIED:20230106T162321Z
UID:10000590-1676984400-1676989800@livingskiesrc.ca
SUMMARY:Ministry Personnel Gathering
DESCRIPTION:Ministry Personnel are warmly invited to join colleagues over Zoom for conversation\, support and information sharing. \nJoin the Zoom meeting at: \nhttps://united-church.zoom.us/j/91785072233?pwd=dFB3RUZDNjhPai9wRlVZUzBsYzZ5dz09
URL:https://livingskiesrc.ca/event/ministry-personnel-gathering-72/
LOCATION:Zoom
CATEGORIES:Regional Events
END:VEVENT
BEGIN:VEVENT
DTSTART;TZID=America/Regina:20230214T130000
DTEND;TZID=America/Regina:20230214T143000
DTSTAMP:20260423T123158
CREATED:20230106T162231Z
LAST-MODIFIED:20230106T162231Z
UID:10000589-1676379600-1676385000@livingskiesrc.ca
SUMMARY:Ministry Personnel Gathering
DESCRIPTION:Ministry Personnel are warmly invited to join colleagues over Zoom for conversation\, support and information sharing. \nJoin the Zoom meeting at: \nhttps://united-church.zoom.us/j/91785072233?pwd=dFB3RUZDNjhPai9wRlVZUzBsYzZ5dz09
URL:https://livingskiesrc.ca/event/ministry-personnel-gathering-71/
LOCATION:Zoom
CATEGORIES:Regional Events
END:VEVENT
END:VCALENDAR