BEGIN:VCALENDAR
VERSION:2.0
PRODID:-//Living Skies Regional Council - ECPv6.15.20//NONSGML v1.0//EN
CALSCALE:GREGORIAN
METHOD:PUBLISH
X-WR-CALNAME:Living Skies Regional Council
X-ORIGINAL-URL:https://livingskiesrc.ca
X-WR-CALDESC:Events for Living Skies Regional Council
REFRESH-INTERVAL;VALUE=DURATION:PT1H
X-Robots-Tag:noindex
X-PUBLISHED-TTL:PT1H
BEGIN:VTIMEZONE
TZID:America/Regina
BEGIN:STANDARD
TZOFFSETFROM:-0600
TZOFFSETTO:-0600
TZNAME:CST
DTSTART:20210101T000000
END:STANDARD
END:VTIMEZONE
BEGIN:VEVENT
DTSTART;TZID=America/Regina:20241214T140000
DTEND;TZID=America/Regina:20241214T160000
DTSTAMP:20260420T032141
CREATED:20241104T165415Z
LAST-MODIFIED:20241104T165415Z
UID:10001551-1734184800-1734192000@livingskiesrc.ca
SUMMARY:Jay Semko and Danica Lorer Fundraising Concert
DESCRIPTION:Please join us for a Saturday afternoon of Christmas music\, winter stories\, and laughter followed by coffee\, tea\, and cookies! \nJay and Danica have joined forces to bring decades of experience\, laughter\, songs both familiar and new\, and sweet harmonies to the stage. They are working on their first collaborative album and performing together throughout Saskatchewan. What happens when a Canadian musical icon and a nationally renowned storyteller join forces? Musical magic and tales to touch the heart! \nJay Semko of Canadian rock icons The Northern Pikes\, music composer for the beloved classic Canadian TV series Due South\, and award-winning singer/songwriter and poet with 9 solo albums released\, has joined with Danica Lorer\, nationally celebrated storyteller who has shared her stories and songs across Canada. Danica is a published poet\, writer and visual artist\, radiant survivor of a lightning strike and collisions with a moose and rogue semi-tire\, and singer/songwriter who composes and performs songs for young and old alike. \nIn concert their smiles and songs are infectious – warm acoustic guitar with luscious harmony vocals\, soul-stirring stories invoking laughter\, tears\, and everything in between\, and a sense of unique oneness with the audience that once experienced will never be forgotten. \nJay and Danica’s musical repertoire includes songs of The Northern Pikes\, Jay’s solo catalogue\, original compositions from Danica’s live storytelling performances\, songs from the new soon-to-be-released Jay and Danica album\, and well-loved classics covered in a unique “Jay & Danica” style.\nTickets are $25 at the door (and including cookie reception afterwards).
URL:https://livingskiesrc.ca/event/jay-semko-and-danica-lorer-fundraising-concert/
LOCATION:Saskatoon: Mount Royal Emmanuel United Church\, 521 Vancouver Ave. N.\, Saskatoon\, Saskatchewan\, S7L 4J8\, Canada
CATEGORIES:Community of Faith Events
ATTACH;FMTTYPE=image/jpeg:https://livingskiesrc.ca/wp-content/uploads/2024/10/464474625_122136424622340931_5512179588683652339_n.jpg
END:VEVENT
BEGIN:VEVENT
DTSTART;TZID=America/Regina:20240815T190000
DTEND;TZID=America/Regina:20240815T213000
DTSTAMP:20260420T032141
CREATED:20240802T215358Z
LAST-MODIFIED:20240802T215358Z
UID:10000952-1723748400-1723757400@livingskiesrc.ca
SUMMARY:Saltwater Joy
DESCRIPTION:Nova Scotia’s Saltwater Joy delivers a resurgence of Atlantic Coast Music favourites\, Newfoundland accordion folk\, sea shanties\, along with Irish & old time classics. \nbringin’ the Atlantic Shore to our door \nProceeds to go to Mount Royal Emmanuel United Church Women.
URL:https://livingskiesrc.ca/event/saltwater-joy/
LOCATION:Saskatoon: Mount Royal Emmanuel United Church\, 521 Vancouver Ave. N.\, Saskatoon\, Saskatchewan\, S7L 4J8\, Canada
CATEGORIES:Community of Faith Events
ATTACH;FMTTYPE=image/jpeg:https://livingskiesrc.ca/wp-content/uploads/2024/08/Saltwater-Joy-Poster-7-scaled.jpg
END:VEVENT
BEGIN:VEVENT
DTSTART;TZID=America/Regina:20221016T170000
DTEND;TZID=America/Regina:20221016T220000
DTSTAMP:20260420T032141
CREATED:20221003T220227Z
LAST-MODIFIED:20221003T220227Z
UID:10000296-1665939600-1665957600@livingskiesrc.ca
SUMMARY:60th Anniversary Celebration
DESCRIPTION:Mount Royal Emmanuel United Church\nCelebrates it’s\n60th Anniversary\nSunday\, October 16\, 2022 from 9am- Noon\nGuest Speaker – Rev. Dale Morrison \n60th Anniversary Celebration Banquet\nSunday\, November 6\, 2022\nat Western Development Museum\nGuest Speaker – Rev. Debra Berg \nTickets are $40.00 each (phone 306-978-0800 to reserve a ticket)
URL:https://livingskiesrc.ca/event/60th-anniversary-celebration/2022-10-16/2/
LOCATION:Saskatoon: Mount Royal Emmanuel United Church\, 521 Vancouver Ave. N.\, Saskatoon\, Saskatchewan\, S7L 4J8\, Canada
CATEGORIES:Community of Faith Events
ATTACH;FMTTYPE=image/jpeg:https://livingskiesrc.ca/wp-content/uploads/2022/09/scan0002-small.jpg
END:VEVENT
BEGIN:VEVENT
DTSTART;TZID=America/Regina:20221016T090000
DTEND;TZID=America/Regina:20221016T120000
DTSTAMP:20260420T032141
CREATED:20221003T220227Z
LAST-MODIFIED:20221003T220227Z
UID:10000295-1665910800-1665921600@livingskiesrc.ca
SUMMARY:60th Anniversary Celebration
DESCRIPTION:Mount Royal Emmanuel United Church\nCelebrates it’s\n60th Anniversary\nSunday\, October 16\, 2022 from 9am- Noon\nGuest Speaker – Rev. Dale Morrison \n60th Anniversary Celebration Banquet\nSunday\, November 6\, 2022\nat Western Development Museum\nGuest Speaker – Rev. Debra Berg \nTickets are $40.00 each (phone 306-978-0800 to reserve a ticket)
URL:https://livingskiesrc.ca/event/60th-anniversary-celebration/2022-10-16/1/
LOCATION:Saskatoon: Mount Royal Emmanuel United Church\, 521 Vancouver Ave. N.\, Saskatoon\, Saskatchewan\, S7L 4J8\, Canada
CATEGORIES:Community of Faith Events
ATTACH;FMTTYPE=image/jpeg:https://livingskiesrc.ca/wp-content/uploads/2022/09/scan0002-small.jpg
END:VEVENT
END:VCALENDAR