BEGIN:VCALENDAR
VERSION:2.0
PRODID:-//Living Skies Regional Council - ECPv6.15.20//NONSGML v1.0//EN
CALSCALE:GREGORIAN
METHOD:PUBLISH
X-ORIGINAL-URL:https://livingskiesrc.ca
X-WR-CALDESC:Events for Living Skies Regional Council
REFRESH-INTERVAL;VALUE=DURATION:PT1H
X-Robots-Tag:noindex
X-PUBLISHED-TTL:PT1H
BEGIN:VTIMEZONE
TZID:America/Regina
BEGIN:STANDARD
TZOFFSETFROM:-0600
TZOFFSETTO:-0600
TZNAME:CST
DTSTART:20250101T000000
END:STANDARD
END:VTIMEZONE
BEGIN:VEVENT
DTSTART;TZID=America/Regina:20260607T103000
DTEND;TZID=America/Regina:20260607T130000
DTSTAMP:20260423T043235
CREATED:20260420T165642Z
LAST-MODIFIED:20260420T165642Z
UID:10001797-1780828200-1780837200@livingskiesrc.ca
SUMMARY:Affirming Service of Celebration
DESCRIPTION:Affirming Service of Celebration\nSunday\, June 7th at 10:30 am
URL:https://livingskiesrc.ca/event/affirming-service-of-celebration/
LOCATION:Grace Westminster United Church – Saskatoon\, 505 10th Street East\, Saskatoon\, S7N 0E3\, Canada
CATEGORIES:Community of Faith Events,LGBTQIA+ Affirming
ATTACH;FMTTYPE=image/jpeg:https://livingskiesrc.ca/wp-content/uploads/2026/04/Affirm-poster-2-scaled.jpg
END:VEVENT
BEGIN:VEVENT
DTSTART;TZID=America/Regina:20260609T130000
DTEND;TZID=America/Regina:20260609T143000
DTSTAMP:20260423T043235
CREATED:20251203T202308Z
LAST-MODIFIED:20260210T163827Z
UID:10001774-1781010000-1781015400@livingskiesrc.ca
SUMMARY:Ministry Personnel Gathering
DESCRIPTION:Ministry Personnel are warmly invited to join colleagues over Zoom for conversation\, support and information sharing. \nJoin the Zoom meeting at:  https://united-church.zoom.us/j/85752646432?pwd=pl2baPuxTFLuY7KpizBr5MMEtFvKh5.1 \n  \n  \n  \n 
URL:https://livingskiesrc.ca/event/ministry-personnel-gathering-216/
LOCATION:Zoom
CATEGORIES:Pastoral Relations,Regional Events
END:VEVENT
BEGIN:VEVENT
DTSTART;TZID=America/Regina:20260616T130000
DTEND;TZID=America/Regina:20260616T143000
DTSTAMP:20260423T043235
CREATED:20251203T202406Z
LAST-MODIFIED:20260203T195423Z
UID:10001775-1781614800-1781620200@livingskiesrc.ca
SUMMARY:Ministry Personnel Gathering - CANCELLED
DESCRIPTION:This Ministry Personnel gathering has been cancelled. \n  \n  \n  \n  \n 
URL:https://livingskiesrc.ca/event/ministry-personnel-gathering-217/
LOCATION:Zoom
CATEGORIES:Pastoral Relations,Regional Events
END:VEVENT
BEGIN:VEVENT
DTSTART;TZID=America/Regina:20260621T140000
DTEND;TZID=America/Regina:20260621T160000
DTSTAMP:20260423T043235
CREATED:20260413T145754Z
LAST-MODIFIED:20260413T145754Z
UID:10001791-1782050400-1782057600@livingskiesrc.ca
SUMMARY:Scott Woods Fiddle Country
DESCRIPTION:A toe-tapping\, heartwarming experience that brings the best of Classic Country and Fiddle music to life. Featuring an unforgettable blend of Bluegrass\, Western Swing\, Canadian Old-Time Fiddling and Country Gospel. This two-hour performance is packed with real music\, real instruments\, and loads of family-friendly fun. An unforgettable show with a touch of Canadiana and plenty of humour. Tickets are $49.50 each
URL:https://livingskiesrc.ca/event/scott-woods-fiddle-country/
LOCATION:Heritage United Church\, Regina\, 1050 North Arnason Street\, Regina\, S4X 4K9\, Canada
CATEGORIES:Community of Faith Events
ATTACH;FMTTYPE=image/jpeg:https://livingskiesrc.ca/wp-content/uploads/2026/04/HUCScott-Woods-Fiddle-Country-2026-scaled.jpg
ORGANIZER;CN="Heritage United Church":MAILTO:heritage.uc@sasktel.net
END:VEVENT
BEGIN:VEVENT
DTSTART;TZID=America/Regina:20260623T130000
DTEND;TZID=America/Regina:20260623T140000
DTSTAMP:20260423T043235
CREATED:20251203T202502Z
LAST-MODIFIED:20251203T202502Z
UID:10001776-1782219600-1782223200@livingskiesrc.ca
SUMMARY:Ministry Personnel Prayer Gathering - a time to connect
DESCRIPTION:All ministry personnel – active\, retired\, honorary associates\, and candidates in appointment are warmly  invited to a one-hour online gathering of connection\, prayer and communion. \nBring along: something to eat if it’s your lunch hour (sharing optional 😊); communion elements\, and a candle (or anything that helps you center yourself) \nHere is the Zoom link.  It’s the same link each month\, \nhttps://united-church.zoom.us/j/88536612018 \nThis is a simple space to pause\, breathe\, and remember we are not alone in ministry.  Come for prayer\, community\, and the gift of communion shared across our regions.
URL:https://livingskiesrc.ca/event/ministry-personnel-prayer-gathering-a-time-to-connect-6/
LOCATION:Zoom
CATEGORIES:Regional Events
END:VEVENT
BEGIN:VEVENT
DTSTART;TZID=America/Regina:20260714T130000
DTEND;TZID=America/Regina:20260714T143000
DTSTAMP:20260423T043235
CREATED:20260210T164003Z
LAST-MODIFIED:20260210T164003Z
UID:10001782-1784034000-1784039400@livingskiesrc.ca
SUMMARY:Ministry Personnel Gathering
DESCRIPTION:Ministry Personnel are warmly invited to join colleagues over Zoom for conversation\, support and information sharing. \nJoin the Zoom meeting at:  https://united-church.zoom.us/j/85752646432?pwd=pl2baPuxTFLuY7KpizBr5MMEtFvKh5.1 \n  \n  \n  \n 
URL:https://livingskiesrc.ca/event/ministry-personnel-gathering-218/
LOCATION:Zoom
CATEGORIES:Pastoral Relations,Regional Events
END:VEVENT
END:VCALENDAR