BEGIN:VCALENDAR
VERSION:2.0
PRODID:-//Living Skies Regional Council - ECPv6.15.20//NONSGML v1.0//EN
CALSCALE:GREGORIAN
METHOD:PUBLISH
X-WR-CALNAME:Living Skies Regional Council
X-ORIGINAL-URL:https://livingskiesrc.ca
X-WR-CALDESC:Events for Living Skies Regional Council
REFRESH-INTERVAL;VALUE=DURATION:PT1H
X-Robots-Tag:noindex
X-PUBLISHED-TTL:PT1H
BEGIN:VTIMEZONE
TZID:America/Regina
BEGIN:STANDARD
TZOFFSETFROM:-0600
TZOFFSETTO:-0600
TZNAME:CST
DTSTART:20200101T000000
END:STANDARD
END:VTIMEZONE
BEGIN:VEVENT
DTSTART;TZID=America/Regina:20210623T190000
DTEND;TZID=America/Regina:20210623T200000
DTSTAMP:20260423T074511
CREATED:20210610T214413Z
LAST-MODIFIED:20210610T214731Z
UID:10000260-1624474800-1624478400@livingskiesrc.ca
SUMMARY:Mutchmor Lodge AGM
DESCRIPTION:AGM for Mutchmor Lodge
URL:https://livingskiesrc.ca/event/mutchmor-lodge-agm/
LOCATION:Online Event
CATEGORIES:Community of Faith Events
END:VEVENT
END:VCALENDAR