BEGIN:VCALENDAR
VERSION:2.0
PRODID:-//Living Skies Regional Council - ECPv6.15.20//NONSGML v1.0//EN
CALSCALE:GREGORIAN
METHOD:PUBLISH
X-WR-CALNAME:Living Skies Regional Council
X-ORIGINAL-URL:https://livingskiesrc.ca
X-WR-CALDESC:Events for Living Skies Regional Council
REFRESH-INTERVAL;VALUE=DURATION:PT1H
X-Robots-Tag:noindex
X-PUBLISHED-TTL:PT1H
BEGIN:VTIMEZONE
TZID:America/Regina
BEGIN:STANDARD
TZOFFSETFROM:-0600
TZOFFSETTO:-0600
TZNAME:CST
DTSTART:20190101T000000
END:STANDARD
END:VTIMEZONE
BEGIN:VEVENT
DTSTART;TZID=America/Regina:20201003T083000
DTEND;TZID=America/Regina:20201003T173000
DTSTAMP:20260423T062030
CREATED:20200824T164222Z
LAST-MODIFIED:20200824T164222Z
UID:10000001-1601713800-1601746200@livingskiesrc.ca
SUMMARY:Expressing Wonder: Seeing the World with Eyes Wide Open
DESCRIPTION:A reflective and interactive weekend of learning and appreciation about systemic racism and how those who are born into socio-economic\, racial\, gender\, sexual or cultural privilege can truly be allies. Ali Abukar (CEO of Saskatoon Open Door Society\, community relationship builder) and Ernie Louttit (retired police officer and author) will share their life experiences and wisdom about systemic racism through storytelling and interactive discussion. Join us for a Coffee House on Friday night Oct 2\, the Saturday sessions and a Spiritual Gathering on Sunday led by Nancy Steeves\, Chris New\, Gretta Vosper and Scott Kearns.
URL:https://livingskiesrc.ca/event/expressing-wonder-seeing-the-world-with-eyes-wide-open/
LOCATION:Zoom
CATEGORIES:Community of Faith Events,Regional Events
ATTACH;FMTTYPE=image/jpeg:https://livingskiesrc.ca/wp-content/uploads/2020/08/ExpW-eye-1.jpeg
ORGANIZER;CN="SSUC Saskatoon":MAILTO:ssucsaskatoon@gmail.com
END:VEVENT
END:VCALENDAR