BEGIN:VCALENDAR
VERSION:2.0
PRODID:-//Living Skies Regional Council - ECPv6.15.20//NONSGML v1.0//EN
CALSCALE:GREGORIAN
METHOD:PUBLISH
X-ORIGINAL-URL:https://livingskiesrc.ca
X-WR-CALDESC:Events for Living Skies Regional Council
REFRESH-INTERVAL;VALUE=DURATION:PT1H
X-Robots-Tag:noindex
X-PUBLISHED-TTL:PT1H
BEGIN:VTIMEZONE
TZID:America/Regina
BEGIN:STANDARD
TZOFFSETFROM:-0600
TZOFFSETTO:-0600
TZNAME:CST
DTSTART:20220101T000000
END:STANDARD
END:VTIMEZONE
BEGIN:VEVENT
DTSTART;TZID=America/Regina:20251113T160000
DTEND;TZID=America/Regina:20251113T190000
DTSTAMP:20260423T161820
CREATED:20251009T145019Z
LAST-MODIFIED:20251009T145019Z
UID:10001728-1763049600-1763060400@livingskiesrc.ca
SUMMARY:RNOM Fundraiser
DESCRIPTION:Fundraiser Supper at Nicky’s Cafe in Regina. RNOM is raising funds to purchase items so we can assemble essential items kits for Regina’s houseless. \nDate is Nov 13 from 4pm to 7pm. \n$30/ticket – your choice of chicken\, steak or ribs with a salad and non-alcoholic drink. \nThere will also be tickets for prize draws.
URL:https://livingskiesrc.ca/event/rnom-fundraiser/
CATEGORIES:Community of Faith Events
ATTACH;FMTTYPE=image/jpeg:https://livingskiesrc.ca/wp-content/uploads/2025/10/RNOM-Nickys-Supper-scaled.jpg
ORGANIZER;CN="Regina Native Outreach Ministry":MAILTO:reginanativeoutreachministry@gmail.com
END:VEVENT
BEGIN:VEVENT
DTSTART;TZID=America/Regina:20250913T140000
DTEND;TZID=America/Regina:20250913T160000
DTSTAMP:20260423T161820
CREATED:20250904T201913Z
LAST-MODIFIED:20250910T145412Z
UID:10001682-1757772000-1757779200@livingskiesrc.ca
SUMMARY:RNOM Traditional Feast of Thanksgiving for Truth & Reconciliation
DESCRIPTION:Saturday\, Sept 13\, 2025 at 2pm\nKnox Met United Church\, 2340 Victoria Ave(Use Victoria Ave entrance)\nWith Rev/Elder Deb Anderson-Pratt \nFeasts are a time for sharing a meal\, socializing\, and expressing gratitude to community members\, ancestors\, and spirits who have helped. \nIf you are able\, bring food to share\, a blanket to sit on and a feast bundle (a plate or bowl\, cutlery\, a cup\, and a bag to carry these items in). \nAll are welcome. \nFor more information see video on Regina Native Outreach Ministry’s facebook page.
URL:https://livingskiesrc.ca/event/rnom-traditional-feast-of-thanksgiving-for-truth-reconciliation/
LOCATION:Knox-Metropolitan United Church\, 2340 Victoria Ave\, Regina\, SK
CATEGORIES:Community of Faith Events,Events
ATTACH;FMTTYPE=image/jpeg:https://livingskiesrc.ca/wp-content/uploads/2025/09/Feast-2025.jpg
ORGANIZER;CN="Regina Native Outreach Ministry":MAILTO:reginanativeoutreachministry@gmail.com
END:VEVENT
BEGIN:VEVENT
DTSTART;TZID=America/Regina:20230502T190000
DTEND;TZID=America/Regina:20230502T210000
DTSTAMP:20260423T161820
CREATED:20230421T160435Z
LAST-MODIFIED:20230421T160435Z
UID:10000630-1683054000-1683061200@livingskiesrc.ca
SUMMARY:Truth & Reconciliation Round Tables
DESCRIPTION:Regina Native Outreach Ministry’s Rev. Deb Anderson-Pratt reached out to Rev. Alexander Campbell\, Diocesan Indigenous Ministry\, Anglican Diocese of Qu’Appelle to partner with in offering sessions to discuss Truth & Reconciliation with all denominations. \nRNOM is please to invite you to our first round table discussion on Tuesday\, May 2 from 7 to 9 at Knox-Met United\, Regina
URL:https://livingskiesrc.ca/event/truth-reconciliation-round-tables/
CATEGORIES:Community of Faith Events,Right Relations
ATTACH;FMTTYPE=image/jpeg:https://livingskiesrc.ca/wp-content/uploads/2023/04/TR-roundtables-11x8.5-scaled.jpg
ORGANIZER;CN="Regina Native Outreach Ministry":MAILTO:reginanativeoutreachministry@gmail.com
END:VEVENT
END:VCALENDAR