BEGIN:VCALENDAR
VERSION:2.0
PRODID:-//Living Skies Regional Council - ECPv6.15.20//NONSGML v1.0//EN
CALSCALE:GREGORIAN
METHOD:PUBLISH
X-ORIGINAL-URL:https://livingskiesrc.ca
X-WR-CALDESC:Events for Living Skies Regional Council
REFRESH-INTERVAL;VALUE=DURATION:PT1H
X-Robots-Tag:noindex
X-PUBLISHED-TTL:PT1H
BEGIN:VTIMEZONE
TZID:America/Regina
BEGIN:STANDARD
TZOFFSETFROM:-0600
TZOFFSETTO:-0600
TZNAME:CST
DTSTART:20220101T000000
END:STANDARD
END:VTIMEZONE
BEGIN:VEVENT
DTSTART;VALUE=DATE:20231103
DTEND;VALUE=DATE:20231106
DTSTAMP:20260423T164916
CREATED:20231010T213836Z
LAST-MODIFIED:20231010T213836Z
UID:10000706-1698969600-1699228799@livingskiesrc.ca
SUMMARY:Fall Youth Retreat 2023 (gr 7-12)
DESCRIPTION:Yep\, you’ve also found the right place for info about the… \nFall Youth Retreat\nNov 3-5\, 2023\nMelfort United Church\, Melfort SK.\n \nTo Register: https://form.jotform.com/232824845041252 \nIt’s fall and that means it’s time for another YOUTH RETREAT.  Grab a coupla pals or come on your own and meet new friends – it’s gonna be a great time.  We’ll play games\, discuss life’s big questions\, eat snacks\, and just enjoy hanging out with other amazing people! \nHere’s the quick bullet-point FAQ for now: \n\nFriday night to Sunday at noon so bring stuff for sleeping on a comfy church floor!\nGrades 7 & up\n$50 per participant (but just let Lindsay or Josie know if money is a little tight – we want you there!)\n\nCan’t wait to see you there! \nQuestions?  Wanna Join the Leadership & Planning Team?   Contact Meghan at lsyayac.meghan@gmail.com or Lindsay at livingskiesyaya@united-church.ca or 306-291-5943.
URL:https://livingskiesrc.ca/event/fall-youth-retreat-2023-gr-7-12/
LOCATION:Melfort United Church\, 220 Burrows Ave. W.\, Melfort\, Saskatchewan\, S0E 1A0\, Canada
CATEGORIES:Events,Regional Events,YAYAC
ATTACH;FMTTYPE=image/jpeg:https://livingskiesrc.ca/wp-content/uploads/2023/10/Retro-Rugged-Scrapbook-Youth-Sunday-Church-Presentation.jpg
END:VEVENT
END:VCALENDAR