BEGIN:VCALENDAR
VERSION:2.0
PRODID:-//Living Skies Regional Council - ECPv6.15.20//NONSGML v1.0//EN
CALSCALE:GREGORIAN
METHOD:PUBLISH
X-WR-CALNAME:Living Skies Regional Council
X-ORIGINAL-URL:https://livingskiesrc.ca
X-WR-CALDESC:Events for Living Skies Regional Council
REFRESH-INTERVAL;VALUE=DURATION:PT1H
X-Robots-Tag:noindex
X-PUBLISHED-TTL:PT1H
BEGIN:VTIMEZONE
TZID:America/Regina
BEGIN:STANDARD
TZOFFSETFROM:-0600
TZOFFSETTO:-0600
TZNAME:CST
DTSTART:20210101T000000
END:STANDARD
END:VTIMEZONE
BEGIN:VEVENT
DTSTART;TZID=America/Regina:20231001T170000
DTEND;TZID=America/Regina:20231001T210000
DTSTAMP:20260421T020630
CREATED:20230828T193044Z
LAST-MODIFIED:20230828T193044Z
UID:10000684-1696179600-1696194000@livingskiesrc.ca
SUMMARY:Mayfair United Fall Ukrainian Supper
DESCRIPTION:Mayfair United Church Fall Ukrainian Supper\nOct 1\,2023 2 sittings 5:00 pm\, 6:30 pm $ 20.00\ncontact the church office for tickets 306-382-6446\nor mayfairunitedchurch@gmail.com
URL:https://livingskiesrc.ca/event/mayfair-united-fall-ukrainian-supper/
LOCATION:Mayfair United Church\, 902 33rd St. West\, Saskatoon\, S7L 0W6
CATEGORIES:Community of Faith Events
ATTACH;FMTTYPE=image/jpeg:https://livingskiesrc.ca/wp-content/uploads/2023/08/Fall-Ukrainian-Supper-scaled.jpg
ORGANIZER;CN="Mayfair United Church Affirm Team":MAILTO:mayfairunitedchurch@gmail.com
END:VEVENT
BEGIN:VEVENT
DTSTART;TZID=America/Regina:20220709T130000
DTEND;TZID=America/Regina:20220709T160000
DTSTAMP:20260421T020630
CREATED:20220624T164641Z
LAST-MODIFIED:20220624T164641Z
UID:10000546-1657371600-1657382400@livingskiesrc.ca
SUMMARY:Saskatoon: Mayfair United Clothing Drive & Fair
DESCRIPTION:We are excited to share our upcoming Clothing Drive and Fair in support of a wonderful organization: https://www.facebook.com/transformingstyle\nTransforming Style\nWe are looking for good\, gently used clothing\, footwear\, belts\, purses and other accessories for all sizes for wonderful\, important work.\nIf you bring your donations on Saturday July 9th you can also have your nails painted\, enjoy a hotdog or some popcorn\, create Giant Bubbles and maybe even meet the FASHION FAIRY!!!\n(Donations also accepted afternoons of July 6-8 that week)\nAll are welcome.
URL:https://livingskiesrc.ca/event/saskatoon-mayfair-united-clothing-drive-fair/
CATEGORIES:Community of Faith Events,LGBTQIA+ Affirming
ATTACH;FMTTYPE=image/jpeg:https://livingskiesrc.ca/wp-content/uploads/2022/06/87081A55-2639-4079-9291-97C2F63D0B14.jpg
ORGANIZER;CN="Mayfair United Church Affirm Team":MAILTO:mayfairunitedchurch@gmail.com
END:VEVENT
END:VCALENDAR