BEGIN:VCALENDAR
VERSION:2.0
PRODID:-//Living Skies Regional Council - ECPv6.15.20//NONSGML v1.0//EN
CALSCALE:GREGORIAN
METHOD:PUBLISH
X-WR-CALNAME:Living Skies Regional Council
X-ORIGINAL-URL:https://livingskiesrc.ca
X-WR-CALDESC:Events for Living Skies Regional Council
REFRESH-INTERVAL;VALUE=DURATION:PT1H
X-Robots-Tag:noindex
X-PUBLISHED-TTL:PT1H
BEGIN:VTIMEZONE
TZID:America/Regina
BEGIN:STANDARD
TZOFFSETFROM:-0600
TZOFFSETTO:-0600
TZNAME:CST
DTSTART:20190101T000000
END:STANDARD
END:VTIMEZONE
BEGIN:VEVENT
DTSTART;TZID=America/Regina:20250617T130000
DTEND;TZID=America/Regina:20250617T160000
DTSTAMP:20260421T021100
CREATED:20250523T192021Z
LAST-MODIFIED:20250523T192021Z
UID:10001642-1750165200-1750176000@livingskiesrc.ca
SUMMARY:ICM Volunteer Appreciation Lunch & AGM – June 17\, 2025
DESCRIPTION:Hello Friends\,\nI hope this message finds you well! \nWe’re excited to invite you and the wider community to our Volunteer Appreciation Lunch & Annual General Meeting\, taking place on Tuesday\, June 17th from 1:00 PM to 4:00 PM at KAP House (226 Ave. V South\, Saskatoon\, SK). \nThis special event is our way of expressing gratitude to our incredible volunteers and sharing highlights from the past year at River Bend Integrated Community Ministries. \nKindly RSVP by June 10th at 5 PM to:\n📧 icmsaskatoon@gmail.com or 306-653-2662 \nThank you for your continued support and for helping us celebrate the amazing people who make our work possible. \nWarm regards\,\nChantalle Morrow-Fesciuc ( She/Her ) \nDirector River Bend ICM\nUnited Church of Canada\n226 Ave V South\nSaskatoon\, Saskatchewan\, S7M 3E3\n306 653 2662 – Office Cell\nicmsaskatoon@gmail.com
URL:https://livingskiesrc.ca/event/icm-volunteer-appreciation-lunch-agm-june-17-2025/
LOCATION:226 Ave V South Saskatoon\, Sask.\, 226 Avenue V South\, Saskatoon\, S7M 3E3\, Canada
CATEGORIES:Community of Faith Events
ATTACH;FMTTYPE=image/jpeg:https://livingskiesrc.ca/wp-content/uploads/2025/05/IMG_3129.jpeg
END:VEVENT
BEGIN:VEVENT
DTSTART;VALUE=DATE:20250428
DTEND;VALUE=DATE:20250601
DTSTAMP:20260421T021100
CREATED:20250429T150354Z
LAST-MODIFIED:20250429T150823Z
UID:10001628-1745798400-1748735999@livingskiesrc.ca
SUMMARY:River Bend Integrated Community Ministries (ICM) Spring Giving Fundraising Campaign
DESCRIPTION:River Bend Integrated Community Ministries (ICM) has launched its first ever PAR fundraising campaign! Become an ICM Bridge Builder – Donate today!\nICM\, a United Church of Canada social justice ministry\, operates in the heart of Saskatoon’s west side core. Everyday\, ICM offers assistance to vulnerable Saskatoon residents who may need help finding resources or navigating the complexities of accessing social programs\, housing supports\, mental health and addictions treatment\, etc. They also host community-led initiatives such as Chop & Chat\, a free\, weekly\, emergency hot lunch program; and The Sharing Circle\, a gathering led by traditional Metis and First Nation Elders that supports Indigenous mental health in culturally-supportive ways. ICM advocates fiercely in the interests of the core neighbourhoods and the TRC Calls to Action and works to uplift the voices of Saskatoon’s most marginalized residents.\nHelp them continue this vital work!\nClick here to become a monthly donor OR make ICM a part of your giving this year – one-time donations can be made by e-transfer to icmsaskatoon@gmail.com .\nICM is a registered charity – tax receipts can be issued for donations of $25 or more. For more information about ICM see their website: www.icmsaskatoon.com . For paper donation forms or tax receipts call 306-653-2662.
URL:https://livingskiesrc.ca/event/river-bend-integrated-community-ministries-icm-spring-giving-fundraising-campaign/
LOCATION:226 Ave V South Saskatoon\, Sask.\, 226 Avenue V South\, Saskatoon\, S7M 3E3\, Canada
CATEGORIES:Community of Faith Events,Intercultural,Justice,LGBTQIA+ Affirming
ATTACH;FMTTYPE=image/png:https://livingskiesrc.ca/wp-content/uploads/2025/04/ICM-PAR-LSRCalendar-QR.png
END:VEVENT
BEGIN:VEVENT
DTSTART;TZID=America/Regina:20210622T130000
DTEND;TZID=America/Regina:20210622T140000
DTSTAMP:20260421T021100
CREATED:20211129T210053Z
LAST-MODIFIED:20211129T210053Z
UID:10000164-1624366800-1624370400@livingskiesrc.ca
SUMMARY:Free Naloxone Training Hosted by River Bend ICM and Prairie Harm Reduction
DESCRIPTION:As requested by our core community\, ICM is responding to harm reduction needs in our neighbourhood. There has been an increased presence of substance use and homelessness which has prompted this education event.\nPrairie Harm Reduction (PHR) will do in-person training around Service navigation\, harm reduction and Naloxone training. The number of participants allowed within protocols is 10 and each participant will receive a naloxone kit to take home.\nMasks\, water and hand sanitizer will be available.\nWe have a limited number of spots open as we are following public health protocols very closely. Everyone is welcome; if you would like to reserve a free seat at this event\, please call Chantalle at 306-653-2662 or email at icmsaskatoon@gmail.com
URL:https://livingskiesrc.ca/event/free-naloxone-training-hosted-by-river-bend-icm-and-prairie-harm-reduction/
LOCATION:226 Ave V South Saskatoon\, Sask.\, 226 Avenue V South\, Saskatoon\, S7M 3E3\, Canada
CATEGORIES:Community of Faith Events
ATTACH;FMTTYPE=image/png:https://livingskiesrc.ca/wp-content/uploads/2021/06/Stacked.png
END:VEVENT
BEGIN:VEVENT
DTSTART;VALUE=DATE:20201102
DTEND;VALUE=DATE:20201120
DTSTAMP:20260421T021100
CREATED:20201028T193059Z
LAST-MODIFIED:20201029T144932Z
UID:10000032-1604275200-1605830399@livingskiesrc.ca
SUMMARY:ICM 10 x 10 Art Auction
DESCRIPTION:The 10×10 Art Show is back!\nIn March\, ICM launched the 11th season of the 10×10 art project. It draws together artists from many diverse backgrounds\, who live in\, work in and support Saskatoon’s Core neighborhoods. The show brings together experienced artists and new ones; indigenous\, metis and new immigrants; artists with jobs and those who struggle. Together their art is their voice- a glimpse into their diverse journeys. \nCOVID has forced us to think of new ways to complete the show. Instead of an in-person show\, bidding will take place online Nov. 2nd – 19th. \nThe bidding site will go live Nov. 2nd at 7 am showing the art and comments from the artists. \nwww.icmsaskatoon.webstore.com \nCheck the 10 x 10 Art Celebration Facebook page for regular Updates!!
URL:https://livingskiesrc.ca/event/icm-10-x-10-art-auction/
LOCATION:Online Event
CATEGORIES:Community of Faith Events,Events
ATTACH;FMTTYPE=image/jpeg:https://livingskiesrc.ca/wp-content/uploads/2020/10/2020-online-large-poster3.jpg
END:VEVENT
END:VCALENDAR