BEGIN:VCALENDAR
VERSION:2.0
PRODID:-//Living Skies Regional Council - ECPv6.15.20//NONSGML v1.0//EN
CALSCALE:GREGORIAN
METHOD:PUBLISH
X-ORIGINAL-URL:https://livingskiesrc.ca
X-WR-CALDESC:Events for Living Skies Regional Council
REFRESH-INTERVAL;VALUE=DURATION:PT1H
X-Robots-Tag:noindex
X-PUBLISHED-TTL:PT1H
BEGIN:VTIMEZONE
TZID:America/Regina
BEGIN:STANDARD
TZOFFSETFROM:-0600
TZOFFSETTO:-0600
TZNAME:CST
DTSTART:20240101T000000
END:STANDARD
END:VTIMEZONE
BEGIN:VEVENT
DTSTART;TZID=America/Regina:20250613T080000
DTEND;TZID=America/Regina:20250707T120000
DTSTAMP:20260422T055955
CREATED:20250613T172106Z
LAST-MODIFIED:20250613T172106Z
UID:10001652-1749801600-1751889600@livingskiesrc.ca
SUMMARY:Harmony United Church Annual Blueberry Sale
DESCRIPTION:Our annual blueberry sale offers BC fresh blueberries for sale to raise funds to support food security and social justice programs in Regina.
URL:https://livingskiesrc.ca/event/harmony-united-church-annual-blueberry-sale/
LOCATION:Harmony United Church\, 177 SUNSET DRIVE\, REGINA\, S4S 6Y7
CATEGORIES:Community of Faith Events
ATTACH;FMTTYPE=image/png:https://livingskiesrc.ca/wp-content/uploads/2025/06/2025-Blueberry-Pre-Order-Poster-FINAL-REV-scaled.png
ORGANIZER;CN="Harmony United Church%2C Regina":MAILTO:harmonyunited.offce@gmail.com
END:VEVENT
BEGIN:VEVENT
DTSTART;TZID=America/Regina:20250629T110000
DTEND;TZID=America/Regina:20250629T153000
DTSTAMP:20260422T055955
CREATED:20250626T144619Z
LAST-MODIFIED:20250626T144619Z
UID:10001653-1751194800-1751211000@livingskiesrc.ca
SUMMARY:Decovenanting Service for Rev. Beth Johnston
DESCRIPTION:A de-covenanting service will be held for Rev. Beth Johnston in Knox United Church (Codette) to say farewell as Rev. Beth returns to Nova Scotia after some 6 years of faithful devotion to the members of Nipawin United Church\, Knox United Church and the surrounding members of Carrot River\, White Fox\, Choiceland and Smeaton. If you are attending from a distance please get in touch with Joan Baxter at joan.baxter@hotmail.ca
URL:https://livingskiesrc.ca/event/decovenanting-service-for-rev-beth-johnston/
CATEGORIES:Community of Faith Events
END:VEVENT
BEGIN:VEVENT
DTSTART;TZID=America/Regina:20250629T140000
DTEND;TZID=America/Regina:20250629T170000
DTSTAMP:20260422T055955
CREATED:20250509T204515Z
LAST-MODIFIED:20250509T204515Z
UID:10001632-1751205600-1751216400@livingskiesrc.ca
SUMMARY:St Andrew United Church Closing Service
DESCRIPTION:St Andrews United Church\, Moose Jaw’s Closing Service is being held June 29th\, 2025 at 2pm. Guest Minister/Worship Leader will be Jim Tenford.  Service followed by refreshments and a time of Fellowship.  Everyone welcome!!
URL:https://livingskiesrc.ca/event/st-andrew-united-church-closing-service/
LOCATION:60 Athabasca St E\, 60 Athabasca Street East\, Moose Jaw\, S6H 0L2\, Canada
CATEGORIES:Community of Faith Events
END:VEVENT
END:VCALENDAR