BEGIN:VCALENDAR
VERSION:2.0
PRODID:-//Living Skies Regional Council - ECPv6.15.20//NONSGML v1.0//EN
CALSCALE:GREGORIAN
METHOD:PUBLISH
X-ORIGINAL-URL:https://livingskiesrc.ca
X-WR-CALDESC:Events for Living Skies Regional Council
REFRESH-INTERVAL;VALUE=DURATION:PT1H
X-Robots-Tag:noindex
X-PUBLISHED-TTL:PT1H
BEGIN:VTIMEZONE
TZID:America/Regina
BEGIN:STANDARD
TZOFFSETFROM:-0600
TZOFFSETTO:-0600
TZNAME:CST
DTSTART:20240101T000000
END:STANDARD
END:VTIMEZONE
BEGIN:VEVENT
DTSTART;VALUE=DATE:20250428
DTEND;VALUE=DATE:20250601
DTSTAMP:20260420T054258
CREATED:20250429T150354Z
LAST-MODIFIED:20250429T150823Z
UID:10001628-1745798400-1748735999@livingskiesrc.ca
SUMMARY:River Bend Integrated Community Ministries (ICM) Spring Giving Fundraising Campaign
DESCRIPTION:River Bend Integrated Community Ministries (ICM) has launched its first ever PAR fundraising campaign! Become an ICM Bridge Builder – Donate today!\nICM\, a United Church of Canada social justice ministry\, operates in the heart of Saskatoon’s west side core. Everyday\, ICM offers assistance to vulnerable Saskatoon residents who may need help finding resources or navigating the complexities of accessing social programs\, housing supports\, mental health and addictions treatment\, etc. They also host community-led initiatives such as Chop & Chat\, a free\, weekly\, emergency hot lunch program; and The Sharing Circle\, a gathering led by traditional Metis and First Nation Elders that supports Indigenous mental health in culturally-supportive ways. ICM advocates fiercely in the interests of the core neighbourhoods and the TRC Calls to Action and works to uplift the voices of Saskatoon’s most marginalized residents.\nHelp them continue this vital work!\nClick here to become a monthly donor OR make ICM a part of your giving this year – one-time donations can be made by e-transfer to icmsaskatoon@gmail.com .\nICM is a registered charity – tax receipts can be issued for donations of $25 or more. For more information about ICM see their website: www.icmsaskatoon.com . For paper donation forms or tax receipts call 306-653-2662.
URL:https://livingskiesrc.ca/event/river-bend-integrated-community-ministries-icm-spring-giving-fundraising-campaign/
LOCATION:226 Ave V South Saskatoon\, Sask.\, 226 Avenue V South\, Saskatoon\, S7M 3E3\, Canada
CATEGORIES:Community of Faith Events,Intercultural,Justice,LGBTQIA+ Affirming
ATTACH;FMTTYPE=image/png:https://livingskiesrc.ca/wp-content/uploads/2025/04/ICM-PAR-LSRCalendar-QR.png
END:VEVENT
BEGIN:VEVENT
DTSTART;VALUE=DATE:20250507
DTEND;VALUE=DATE:20250609
DTSTAMP:20260420T054258
CREATED:20250507T221025Z
LAST-MODIFIED:20250507T221025Z
UID:10001631-1746576000-1749427199@livingskiesrc.ca
SUMMARY:100 pairs of socks for 100 years
DESCRIPTION:On June 10\, the United Church of Canada will be celebrating its 100th birthday. To commemorate this occasion\, the Lafleche – Limerick Pastoral Charge will be collecting 100 pairs of socks to be given to people in need. If you would like to donate a pair of socks to our outreach program\, please drop them off at the Lafleche United Church Saturday May 10th from 10 am to 7 pm\, at the Lafleche Credit Union or contact Beth Tallon at 306 472 7816.
URL:https://livingskiesrc.ca/event/100-pairs-of-socks-for-100-years/
LOCATION:Lafleche United Church\, 102 2nd Street East\, Lafleche\, S0H2K0
CATEGORIES:100th Anniversary of the UCC,Community of Faith Events
ATTACH;FMTTYPE=image/png:https://livingskiesrc.ca/wp-content/uploads/2025/05/CCF_000003-1.png
END:VEVENT
BEGIN:VEVENT
DTSTART;TZID=America/Regina:20250525T103000
DTEND;TZID=America/Regina:20250525T123000
DTSTAMP:20260420T054258
CREATED:20250411T203027Z
LAST-MODIFIED:20250513T204621Z
UID:10001581-1748169000-1748176200@livingskiesrc.ca
SUMMARY:Celebration of Ministries and 100th Anniversary service
DESCRIPTION:Join us for Living Skies’ celebration of ministries service\, which will include the recognition of a designated lay minister\, and the commemoration of the 100th anniversary of the United Church. After church there will be cake! We look forward to the Recognition of Dale Worrall as a Designated Lay Minister; and to honouring Living Skies retirees: \nHeather Dootoff \nGary Johnson \nDeborah Springer \nAnnette Taylor \nBrad Wudrich \nThe service will also be livestreamed on the Grace-Westminster United YouTube channel. \nPlease plan to join us!
URL:https://livingskiesrc.ca/event/celebration-of-ministries-and-100th-anniversary-service/
LOCATION:Grace Westminster United Church – Saskatoon\, 505 10th Street East\, Saskatoon\, S7N 0E3\, Canada
CATEGORIES:100th Anniversary of the UCC,Regional Events
ATTACH;FMTTYPE=image/png:https://livingskiesrc.ca/wp-content/uploads/2025/04/Celebration-of-Ministries-LSRC-25May2025-landscape.png
ORGANIZER;CN="Living Skies Regional Council":MAILTO:livingskies@united-church.ca
END:VEVENT
BEGIN:VEVENT
DTSTART;TZID=America/Regina:20250527T130000
DTEND;TZID=America/Regina:20250527T140000
DTSTAMP:20260420T054258
CREATED:20250221T195543Z
LAST-MODIFIED:20250512T175803Z
UID:10001594-1748350800-1748354400@livingskiesrc.ca
SUMMARY:Cancelled - Ministry Personnel Prayer Gathering
DESCRIPTION:(including active\, retired\, honorary associates\, and candidates in appointment)  \nLaura has cancelled this session of the Ministry Personnel Prayer Gathering.  Please watch for it to start up again in the fall. \n  \nLaura Fouhse will be hosting a 1 hour (roughly) connection/prayer/communion Zoom gathering today at 1pm (on the 4th Tuesday of each month). \nYou are welcome to bring your lunch with you to the gathering (but you may need to share with those who forgot).  Also bring communion elements (obviously) and a candle (or whatever helps center you). \nHere is the Zoom link.  It will be the same link each month\, \nhttps://united-church.zoom.us/j/81483053358
URL:https://livingskiesrc.ca/event/ministry-personnel-prayer-gathering-5/
LOCATION:Zoom
CATEGORIES:Regional Events
END:VEVENT
BEGIN:VEVENT
DTSTART;TZID=America/Regina:20250527T180000
DTEND;TZID=America/Regina:20250527T200000
DTSTAMP:20260420T054258
CREATED:20250424T192015Z
LAST-MODIFIED:20250424T192015Z
UID:10001626-1748368800-1748376000@livingskiesrc.ca
SUMMARY:Assorted Flavours Dessert Concert
DESCRIPTION:The St. Martin’s United Church CONTEMPORARY SINGERS Present\nASSORTED FLAVOURS…the reboot \nDessert Concert featuring special guest\nErica McFadden Accompanied by Nathan Coppens \nDessert 6:15 p.m.\nConcert 7:00 p.m.\nTickets $20.00 \nTickets are available at the church office 306-343-7101 Sunday mornings April 27\, May 4\, 11\, 18\, 25 or from any Chorus member.\nProceeds to Contemporary Singers Music Fund. Hope to see you there!!
URL:https://livingskiesrc.ca/event/assorted-flavours-dessert-concert/
LOCATION:Saskatoon: St. Martin’s United Church\, 2617 Clarence Ave. S.\, Saskatoon\, SK\, S7J 1M5
CATEGORIES:Community of Faith Events
ATTACH;FMTTYPE=image/png:https://livingskiesrc.ca/wp-content/uploads/2025/04/Assorted-Flavours-Poster-scaled.png
ORGANIZER;CN="St. Martin's United Church":MAILTO:office@stmartinsuc.com
END:VEVENT
BEGIN:VEVENT
DTSTART;TZID=America/Regina:20250528T130000
DTEND;TZID=America/Regina:20250528T150000
DTSTAMP:20260420T054258
CREATED:20250423T212408Z
LAST-MODIFIED:20250423T212408Z
UID:10001622-1748437200-1748444400@livingskiesrc.ca
SUMMARY:Weekly Online Bible Study
DESCRIPTION:Join a with folks from Saskatchewan and beyond every Wednesday at 1pm for online Bible study.\nDig into scripture\, wonder together about what you are hearing\, draw out meaning for your life.\nHave a whole lot of fun and make new friends along the way! \nUse this zoom link to join: https://us02web.zoom.us/j/86276287258… \nNew participants always warmly welcomed.
URL:https://livingskiesrc.ca/event/weekly-online-bible-study-5/
CATEGORIES:Regional Events
END:VEVENT
BEGIN:VEVENT
DTSTART;TZID=America/Regina:20250529T190000
DTEND;TZID=America/Regina:20250529T200000
DTSTAMP:20260420T054258
CREATED:20250521T153306Z
LAST-MODIFIED:20250521T153306Z
UID:10001638-1748545200-1748548800@livingskiesrc.ca
SUMMARY:Celebrating the Trees of Life
DESCRIPTION:Celebrating the Trees of Life: an Arbor Week conversation with Walter Farquharson and Shawn Sanford Beck \nCome join us for an hour or so of enjoyable\, informal conversation. Discover the history and significance of Arbor Week\, consider the spiritual importance of trees\, and learn how to create a “forest chaplaincy” wherever you happen to live. \nThursday May 29\, from 7 – 8 pm (Sask time)\, over here on zoom: https://us06web.zoom.us/j/81565443701?pwd=qQTtXlgmABDvjhCwGGcb00cQe9awOv.1 \nFor more information\, please contact GreenSpirit Chaplain Shawn Sanford Beck at greenpriest@hotmail.ca
URL:https://livingskiesrc.ca/event/celebrating-the-trees-of-life/
CATEGORIES:Regional Events
ATTACH;FMTTYPE=image/jpeg:https://livingskiesrc.ca/wp-content/uploads/2025/05/oak-7468708_12801.jpg
ORGANIZER;CN="GreenSpirit Chaplaincy":MAILTO:greenpriest@hotmail.ca
END:VEVENT
BEGIN:VEVENT
DTSTART;TZID=America/Regina:20250529T190000
DTEND;TZID=America/Regina:20250529T203000
DTSTAMP:20260420T054258
CREATED:20250522T152811Z
LAST-MODIFIED:20250522T152811Z
UID:10001639-1748545200-1748550600@livingskiesrc.ca
SUMMARY:Séan McCann Great BIG Canadian Road Trip Benefit Concert
DESCRIPTION:SÉAN MCCANN is a founder of the iconic Canadian band GREAT BIG SEA and a recipient of the\nORDER OF CANADA for his MENTAL HEALTH + RECOVERY advocacy. \nHelp us raise much needed funds and GET YOUR TICKETS NOW AT EVENTBRITE.CA
URL:https://livingskiesrc.ca/event/sean-mccann-great-big-canadian-road-trip-benefit-concert/
LOCATION:177 SUNSET DRIVE\, REGINA\, 177 SUNSET DRIVE\, REGINA\, S4S 6Y7
CATEGORIES:Community of Faith Events
ATTACH;FMTTYPE=image/png:https://livingskiesrc.ca/wp-content/uploads/2025/05/Poster-scaled.png
ORGANIZER;CN="Harmony United Church%2C Regina":MAILTO:harmonyunited.offce@gmail.com
END:VEVENT
END:VCALENDAR