BEGIN:VCALENDAR
VERSION:2.0
PRODID:-//Living Skies Regional Council - ECPv6.15.20//NONSGML v1.0//EN
CALSCALE:GREGORIAN
METHOD:PUBLISH
X-WR-CALNAME:Living Skies Regional Council
X-ORIGINAL-URL:https://livingskiesrc.ca
X-WR-CALDESC:Events for Living Skies Regional Council
REFRESH-INTERVAL;VALUE=DURATION:PT1H
X-Robots-Tag:noindex
X-PUBLISHED-TTL:PT1H
BEGIN:VTIMEZONE
TZID:America/Regina
BEGIN:STANDARD
TZOFFSETFROM:-0600
TZOFFSETTO:-0600
TZNAME:CST
DTSTART:20240101T000000
END:STANDARD
END:VTIMEZONE
BEGIN:VEVENT
DTSTART;VALUE=DATE:20250428
DTEND;VALUE=DATE:20250601
DTSTAMP:20260420T054230
CREATED:20250429T150354Z
LAST-MODIFIED:20250429T150823Z
UID:10001628-1745798400-1748735999@livingskiesrc.ca
SUMMARY:River Bend Integrated Community Ministries (ICM) Spring Giving Fundraising Campaign
DESCRIPTION:River Bend Integrated Community Ministries (ICM) has launched its first ever PAR fundraising campaign! Become an ICM Bridge Builder – Donate today!\nICM\, a United Church of Canada social justice ministry\, operates in the heart of Saskatoon’s west side core. Everyday\, ICM offers assistance to vulnerable Saskatoon residents who may need help finding resources or navigating the complexities of accessing social programs\, housing supports\, mental health and addictions treatment\, etc. They also host community-led initiatives such as Chop & Chat\, a free\, weekly\, emergency hot lunch program; and The Sharing Circle\, a gathering led by traditional Metis and First Nation Elders that supports Indigenous mental health in culturally-supportive ways. ICM advocates fiercely in the interests of the core neighbourhoods and the TRC Calls to Action and works to uplift the voices of Saskatoon’s most marginalized residents.\nHelp them continue this vital work!\nClick here to become a monthly donor OR make ICM a part of your giving this year – one-time donations can be made by e-transfer to icmsaskatoon@gmail.com .\nICM is a registered charity – tax receipts can be issued for donations of $25 or more. For more information about ICM see their website: www.icmsaskatoon.com . For paper donation forms or tax receipts call 306-653-2662.
URL:https://livingskiesrc.ca/event/river-bend-integrated-community-ministries-icm-spring-giving-fundraising-campaign/
LOCATION:226 Ave V South Saskatoon\, Sask.\, 226 Avenue V South\, Saskatoon\, S7M 3E3\, Canada
CATEGORIES:Community of Faith Events,Intercultural,Justice,LGBTQIA+ Affirming
ATTACH;FMTTYPE=image/png:https://livingskiesrc.ca/wp-content/uploads/2025/04/ICM-PAR-LSRCalendar-QR.png
END:VEVENT
BEGIN:VEVENT
DTSTART;TZID=America/Regina:20250504T190000
DTEND;TZID=America/Regina:20250504T210000
DTSTAMP:20260420T054230
CREATED:20250321T185953Z
LAST-MODIFIED:20250321T185953Z
UID:10001604-1746385200-1746392400@livingskiesrc.ca
SUMMARY:Singing Our Way through the United Church History with Hymns – 100th Anniversary Celebration
DESCRIPTION:Please mark your calendars and plan to join us at Saltcoats United Church on Sunday May 4th when we sing our way through the story of The United Church of Canada as told in the hymns we sing and the hymns we\, and others\, have sung. Walter Farquharson\, retired minister\, hymnwriter\, and educator\, will provide some history of hymn singing over 2000 years but mostly we will sing\, or listen to others sing\, some great hymns. The program will begin at 7:00 p.m. There will be an intermission and social time with refreshments. We will move into the second part of the presentation and singing and then everything will wrap up at 9:00 p.m. We are excited about participants who will be offering their gifts of music in solo or group!\nNo admission charge. An offering box will be available. Any money given will support the Saltcoats United Church Re-shingling Project. Receipt will be given to anyone requesting one.\nEveryone is welcome. No requirement to show United Church credentials! Plan to be part of this\, and please pass the word to family and friends.
URL:https://livingskiesrc.ca/event/singing-our-way-through-the-united-church-history-with-hymns-100th-anniversary-celebration/
LOCATION:Saltcoats United Church\, 101 Allen Ave.\, Saltcoats\, S0A3R0
CATEGORIES:100th Anniversary of the UCC,Community of Faith Events
ATTACH;FMTTYPE=image/jpeg:https://livingskiesrc.ca/wp-content/uploads/2025/03/poster-may-4.jpg
END:VEVENT
BEGIN:VEVENT
DTSTART;TZID=America/Regina:20250506T130000
DTEND;TZID=America/Regina:20250506T143000
DTSTAMP:20260420T054230
CREATED:20250221T195025Z
LAST-MODIFIED:20250221T195025Z
UID:10001591-1746536400-1746541800@livingskiesrc.ca
SUMMARY:Ministry Personnel Gathering
DESCRIPTION:Ministry Personnel are warmly invited to join colleagues over Zoom for conversation\, support and information sharing. \nJoin the Zoom meeting at:  https://united-church.zoom.us/j/82447822353?pwd=glJpVJlJjFAHQrtqsbCPehdTM9KeTq.1 \n  \n  \n  \n 
URL:https://livingskiesrc.ca/event/ministry-personnel-gathering-178/
LOCATION:Zoom
CATEGORIES:Pastoral Relations,Regional Events
END:VEVENT
BEGIN:VEVENT
DTSTART;VALUE=DATE:20250507
DTEND;VALUE=DATE:20250609
DTSTAMP:20260420T054230
CREATED:20250507T221025Z
LAST-MODIFIED:20250507T221025Z
UID:10001631-1746576000-1749427199@livingskiesrc.ca
SUMMARY:100 pairs of socks for 100 years
DESCRIPTION:On June 10\, the United Church of Canada will be celebrating its 100th birthday. To commemorate this occasion\, the Lafleche – Limerick Pastoral Charge will be collecting 100 pairs of socks to be given to people in need. If you would like to donate a pair of socks to our outreach program\, please drop them off at the Lafleche United Church Saturday May 10th from 10 am to 7 pm\, at the Lafleche Credit Union or contact Beth Tallon at 306 472 7816.
URL:https://livingskiesrc.ca/event/100-pairs-of-socks-for-100-years/
LOCATION:Lafleche United Church\, 102 2nd Street East\, Lafleche\, S0H2K0
CATEGORIES:100th Anniversary of the UCC,Community of Faith Events
ATTACH;FMTTYPE=image/png:https://livingskiesrc.ca/wp-content/uploads/2025/05/CCF_000003-1.png
END:VEVENT
BEGIN:VEVENT
DTSTART;TZID=America/Regina:20250507T130000
DTEND;TZID=America/Regina:20250507T150000
DTSTAMP:20260420T054230
CREATED:20250423T211913Z
LAST-MODIFIED:20250423T211913Z
UID:10001619-1746622800-1746630000@livingskiesrc.ca
SUMMARY:Weekly Online Bible Study
DESCRIPTION:Join a with folks from Saskatchewan and beyond every Wednesday at 1pm for online Bible study.\nDig into scripture\, wonder together about what you are hearing\, draw out meaning for your life.\nHave a whole lot of fun and make new friends along the way! \nUse this zoom link to join: https://us02web.zoom.us/j/86276287258… \nNew participants always warmly welcomed.
URL:https://livingskiesrc.ca/event/weekly-online-bible-study-2/
CATEGORIES:Regional Events
END:VEVENT
BEGIN:VEVENT
DTSTART;TZID=America/Regina:20250510T080000
DTEND;TZID=America/Regina:20250510T140000
DTSTAMP:20260420T054230
CREATED:20250424T191837Z
LAST-MODIFIED:20250424T191837Z
UID:10001627-1746864000-1746885600@livingskiesrc.ca
SUMMARY:St. Martin's GIGANTIC Garage Sale
DESCRIPTION:Come check out the biggest and best garage sale of the year!! Plus\, we have brought back our BBQ lunch!!\nIf you’re looking for great bargains\, swing by and see what treasures you can find!\nBBQ STARTS AT 10A.M.\n• SILENT AUCTION\n• BAKE SALE\n• CRAFTS & LINENS\n• COLLECTIBLES\n• LAWN & GARDEN TOOLS\n• HARDWARE\n• BAKING & KITCHEN WARE\n• ELECTRONICS\n• FURNITURE & APPLIANCES\n• TOYS & BOOKS\n• SPORTS EQUIPMENT\n2617 Clarence Ave S. Corner of Wilson & Clarence.
URL:https://livingskiesrc.ca/event/st-martins-gigantic-garage-sale/
LOCATION:St. Martin’s United Church\, 2617 Clarence Ave S\, Saskatoon\, S7J 1M5
CATEGORIES:Community of Faith Events
ATTACH;FMTTYPE=image/png:https://livingskiesrc.ca/wp-content/uploads/2025/04/GIGANTICGarage-1.png
ORGANIZER;CN="St. Martin's United Church":MAILTO:office@stmartinsuc.com
END:VEVENT
END:VCALENDAR