BEGIN:VCALENDAR
VERSION:2.0
PRODID:-//Living Skies Regional Council - ECPv6.15.20//NONSGML v1.0//EN
CALSCALE:GREGORIAN
METHOD:PUBLISH
X-WR-CALNAME:Living Skies Regional Council
X-ORIGINAL-URL:https://livingskiesrc.ca
X-WR-CALDESC:Events for Living Skies Regional Council
REFRESH-INTERVAL;VALUE=DURATION:PT1H
X-Robots-Tag:noindex
X-PUBLISHED-TTL:PT1H
BEGIN:VTIMEZONE
TZID:America/Regina
BEGIN:STANDARD
TZOFFSETFROM:-0600
TZOFFSETTO:-0600
TZNAME:CST
DTSTART:20230101T000000
END:STANDARD
END:VTIMEZONE
BEGIN:VEVENT
DTSTART;TZID=America/Regina:20241124T080000
DTEND;TZID=America/Regina:20241124T170000
DTSTAMP:20260420T025729
CREATED:20241025T213119Z
LAST-MODIFIED:20241025T213546Z
UID:10001548-1732435200-1732467600@livingskiesrc.ca
SUMMARY:the Yorktones - an acappella group singing in Saltcoats United Church
DESCRIPTION:A celebration of our Cenntenial year as a United Church in small town Saltcoats.\nThe Yorktones\, an acapella group from nearby Yorkton.\nTheir repertoire includes gospel\, country\, pop\, rock\, barbershop\, spiritual\, and doo-wop. ( the acoustics in the church are excellent)\nDessert and beverages will be served.   Admission is by donation.\nEveryone is welcome – come join us for a Sunday afternoon.
URL:https://livingskiesrc.ca/event/the-yorktones-an-acappella-group-singing-in-saltcoats-united-church/
CATEGORIES:Community of Faith Events
END:VEVENT
BEGIN:VEVENT
DTSTART;TZID=America/Regina:20241124T140000
DTEND;TZID=America/Regina:20241124T160000
DTSTAMP:20260420T025729
CREATED:20241025T213119Z
LAST-MODIFIED:20241025T213546Z
UID:10001549-1732456800-1732464000@livingskiesrc.ca
SUMMARY:the Yorktones - an acappella group singing in Saltcoats United Church
DESCRIPTION:A celebration of our Cenntenial year as a United Church in small town Saltcoats.\nThe Yorktones\, an acapella group from nearby Yorkton.\nTheir repertoire includes gospel\, country\, pop\, rock\, barbershop\, spiritual\, and doo-wop. ( the acoustics in the church are excellent)\nDessert and beverages will be served.   Admission is by donation.\nEveryone is welcome – come join us for a Sunday afternoon.
URL:https://livingskiesrc.ca/event/the-yorktones-an-acappella-group-singing-in-saltcoats-united-church/
CATEGORIES:Community of Faith Events
END:VEVENT
BEGIN:VEVENT
DTSTART;TZID=America/Regina:20241124T190000
DTEND;TZID=America/Regina:20241124T203000
DTSTAMP:20260420T025729
CREATED:20241122T223039Z
LAST-MODIFIED:20241122T223039Z
UID:10001556-1732474800-1732480200@livingskiesrc.ca
SUMMARY:STONE SOUP MUSICAL TO SUPPORT LUMSDEN BEACH CAMP
DESCRIPTION:JOIN US ON SUNDAY\, NOVEBMER 24TH AT 7PM AT 177 SUNSET DRIVE FOR AN EXCITING\, AMAZING AND FUN PERFORMANCE ABOUT WHY WE ALL MIGHT BENEFIT FROM SOME “STONE SOUP”!!
URL:https://livingskiesrc.ca/event/stone-soup-musical-to-support-lumsden-beach-camp/
LOCATION:177 SUNSET DRIVE\, REGINA\, 177 SUNSET DRIVE\, REGINA\, S4S 6Y7
CATEGORIES:Community of Faith Events
ATTACH;FMTTYPE=image/png:https://livingskiesrc.ca/wp-content/uploads/2024/11/Stone-Soup-General-Promo.png
END:VEVENT
BEGIN:VEVENT
DTSTART;TZID=America/Regina:20241126T130000
DTEND;TZID=America/Regina:20241126T143000
DTSTAMP:20260420T025729
CREATED:20240618T222335Z
LAST-MODIFIED:20240618T224241Z
UID:10000944-1732626000-1732631400@livingskiesrc.ca
SUMMARY:Ministry Personnel Gathering
DESCRIPTION:Ministry Personnel are warmly invited to join colleagues over Zoom for conversation\, support and information sharing. \nJoin the Zoom meeting at:  https://united-church.zoom.us/j/87866391191?pwd=60jG9vU7urC4v0s1Zd8Zm9K7sfGGmJ.1  \n  \n  \n  \n 
URL:https://livingskiesrc.ca/event/ministry-personnel-gathering-163/
LOCATION:Zoom
CATEGORIES:Pastoral Relations,Regional Events
END:VEVENT
BEGIN:VEVENT
DTSTART;TZID=America/Regina:20241126T190000
DTEND;TZID=America/Regina:20241126T203000
DTSTAMP:20260420T025729
CREATED:20240909T200520Z
LAST-MODIFIED:20240909T200520Z
UID:10001231-1732647600-1732653000@livingskiesrc.ca
SUMMARY:Cozy Church
DESCRIPTION:Join us for a sensory friendly prayer\, quiet social time\, and independent activities. This group is led by young adult leadership. All are welcome. Please bring a quiet activity such as knitting\, colouring\, lego\, homework\, etc.
URL:https://livingskiesrc.ca/event/cozy-church/2024-11-26/
LOCATION:Eastside United Church\, 3018 Doan Dr.\, Regina\, S4V 1M1\, Canada
CATEGORIES:Community of Faith Events
ORGANIZER;CN="Eastside United Church":MAILTO:eastsideunited@sasktel.net
END:VEVENT
BEGIN:VEVENT
DTSTART;TZID=America/Regina:20241128T133000
DTEND;TZID=America/Regina:20241128T133000
DTSTAMP:20260420T025729
CREATED:20240909T201717Z
LAST-MODIFIED:20250304T193403Z
UID:10001493-1732800600-1732800600@livingskiesrc.ca
SUMMARY:Open Minds\, Open Books: The Wall Between
DESCRIPTION:Open Minds\, Open Books with Eastside United Church: Our book study will begin on September 12 and we will gather weekly on Thursdays at 1:30 pm at the Living Spirit Centre. This session’s book is The Wall Between: What Jews and Palestinians Don’t Want to Know about Each Other by Raja Khouri and Jeffrey Wilkinson. Let our office know if you need a copy! They cost $30 for a paperback.
URL:https://livingskiesrc.ca/event/open-minds-open-books-the-wall-between/2024-11-28/
LOCATION:Eastside United Church\, 3018 Doan Dr.\, Regina\, S4V 1M1\, Canada
CATEGORIES:Community of Faith Events
ATTACH;FMTTYPE=image/png:https://livingskiesrc.ca/wp-content/uploads/2024/09/Wall-Between-Book-Study.png
END:VEVENT
BEGIN:VEVENT
DTSTART;TZID=America/Regina:20241130T080000
DTEND;TZID=America/Regina:20241130T170000
DTSTAMP:20260420T025729
CREATED:20241128T154304Z
LAST-MODIFIED:20241128T154304Z
UID:10001557-1732953600-1732986000@livingskiesrc.ca
SUMMARY:Transphobia Workshop
DESCRIPTION:Education is important.  Come to learn.  This is an in-person event.  There will be a speaker with lived experience of Transphobia.  We look forward to Dec 8\, 2024\, which is the 10th anniversary of the Province of Saskatchewan giving rights to Trans persons.
URL:https://livingskiesrc.ca/event/transphobia-workshop/
LOCATION:Grosvenor Park United Church\, Saskatoon SK\, 407 Cumberland Ave South\, Saskatoon\, S7h 2L3
CATEGORIES:Community of Faith Events,LGBTQIA+ Affirming
ATTACH;FMTTYPE=image/jpeg:https://livingskiesrc.ca/wp-content/uploads/2024/11/Transphobia.jpg
ORGANIZER;CN="Grosvenor Park United Church%2C Saskatoon SK":MAILTO:gpuc@sasktel.net
END:VEVENT
BEGIN:VEVENT
DTSTART;TZID=America/Regina:20241130T140000
DTEND;TZID=America/Regina:20241130T160000
DTSTAMP:20260420T025729
CREATED:20241128T154304Z
LAST-MODIFIED:20241128T154304Z
UID:10001558-1732975200-1732982400@livingskiesrc.ca
SUMMARY:Transphobia Workshop
DESCRIPTION:Education is important.  Come to learn.  This is an in-person event.  There will be a speaker with lived experience of Transphobia.  We look forward to Dec 8\, 2024\, which is the 10th anniversary of the Province of Saskatchewan giving rights to Trans persons.
URL:https://livingskiesrc.ca/event/transphobia-workshop/
LOCATION:Grosvenor Park United Church\, Saskatoon SK\, 407 Cumberland Ave South\, Saskatoon\, S7h 2L3
CATEGORIES:Community of Faith Events,LGBTQIA+ Affirming
ATTACH;FMTTYPE=image/jpeg:https://livingskiesrc.ca/wp-content/uploads/2024/11/Transphobia.jpg
ORGANIZER;CN="Grosvenor Park United Church%2C Saskatoon SK":MAILTO:gpuc@sasktel.net
END:VEVENT
END:VCALENDAR