BEGIN:VCALENDAR
VERSION:2.0
PRODID:-//Living Skies Regional Council - ECPv6.15.20//NONSGML v1.0//EN
CALSCALE:GREGORIAN
METHOD:PUBLISH
X-WR-CALNAME:Living Skies Regional Council
X-ORIGINAL-URL:https://livingskiesrc.ca
X-WR-CALDESC:Events for Living Skies Regional Council
REFRESH-INTERVAL;VALUE=DURATION:PT1H
X-Robots-Tag:noindex
X-PUBLISHED-TTL:PT1H
BEGIN:VTIMEZONE
TZID:America/Regina
BEGIN:STANDARD
TZOFFSETFROM:-0600
TZOFFSETTO:-0600
TZNAME:CST
DTSTART:20230101T000000
END:STANDARD
END:VTIMEZONE
BEGIN:VEVENT
DTSTART;TZID=America/Regina:20241103T140000
DTEND;TZID=America/Regina:20241103T160000
DTSTAMP:20260422T042352
CREATED:20241016T202818Z
LAST-MODIFIED:20241016T202818Z
UID:10001544-1730642400-1730649600@livingskiesrc.ca
SUMMARY:PROJECTING JOY: An Afternoon of Music
DESCRIPTION:On November 3 at 2 p.m.\, we invite you to a special afternoon concert at St. Martin’s United Church to support the recent purchase of our new projector.\nEnjoy performances from the talented Saskatoon Fiddle Orchestra\, original music by Dave Cyca and Tom Kennedy\, and The Wooden Nickels. Each performance will have you smiling and tapping your feet!\nCoffee & dessert will be provided by St. Martin’s Contemporary Choir and Worship Band.\nAdmission is by free will offering—everyone is welcome! Come enjoy great music for a great cause!\nWe look forward to seeing you there!
URL:https://livingskiesrc.ca/event/projecting-joy-an-afternoon-of-music/
LOCATION:St. Martin’s United Church\, 2617 Clarence Ave S\, Saskatoon\, S7J 1M5
CATEGORIES:Community of Faith Events
ATTACH;FMTTYPE=image/png:https://livingskiesrc.ca/wp-content/uploads/2024/10/PROJECTING-JOY-POSTER.png
ORGANIZER;CN="St. Martin's United Church":MAILTO:office@stmartinsuc.com
END:VEVENT
BEGIN:VEVENT
DTSTART;TZID=America/Regina:20241105T130000
DTEND;TZID=America/Regina:20241105T143000
DTSTAMP:20260422T042352
CREATED:20240618T222059Z
LAST-MODIFIED:20240618T223944Z
UID:10000941-1730811600-1730817000@livingskiesrc.ca
SUMMARY:Ministry Personnel Gathering
DESCRIPTION:Ministry Personnel are warmly invited to join colleagues over Zoom for conversation\, support and information sharing. \nJoin the Zoom meeting at:  https://united-church.zoom.us/j/87866391191?pwd=60jG9vU7urC4v0s1Zd8Zm9K7sfGGmJ.1  \n  \n  \n  \n 
URL:https://livingskiesrc.ca/event/ministry-personnel-gathering-160/
LOCATION:Zoom
CATEGORIES:Pastoral Relations,Regional Events
END:VEVENT
BEGIN:VEVENT
DTSTART;TZID=America/Regina:20241105T190000
DTEND;TZID=America/Regina:20241105T203000
DTSTAMP:20260422T042352
CREATED:20240909T200520Z
LAST-MODIFIED:20240909T200520Z
UID:10001228-1730833200-1730838600@livingskiesrc.ca
SUMMARY:Cozy Church
DESCRIPTION:Join us for a sensory friendly prayer\, quiet social time\, and independent activities. This group is led by young adult leadership. All are welcome. Please bring a quiet activity such as knitting\, colouring\, lego\, homework\, etc.
URL:https://livingskiesrc.ca/event/cozy-church/2024-11-05/
LOCATION:Eastside United Church\, 3018 Doan Dr.\, Regina\, S4V 1M1\, Canada
CATEGORIES:Community of Faith Events
ORGANIZER;CN="Eastside United Church":MAILTO:eastsideunited@sasktel.net
END:VEVENT
BEGIN:VEVENT
DTSTART;TZID=America/Regina:20241106T133000
DTEND;TZID=America/Regina:20241106T143000
DTSTAMP:20260422T042352
CREATED:20241103T175658Z
LAST-MODIFIED:20241103T180124Z
UID:10001554-1730899800-1730903400@livingskiesrc.ca
SUMMARY:The Stones Cry Out film discussion online
DESCRIPTION:This 30 minute documentary from 2013 lifts up the voices of Palestinian Christians who are often left out of coverage of the military occupation of Palestine. Although they are a small minority\, Palestinian Christians have played a critical role in the territory’s history and\, as Palestine is the birthplace of Christianity\, this community has a global significance for Christians. \nThe film covers Palestinian Christians’ experiences from 1948 to the modern era\, including the effects of the Israeli military occupation on Bethlehem. \nYou can view online for free here. \nTo have your own discussion group on this timely topic and as follow-up to the film\, see the document Stones Cry Out Discussion. You can also join us for a Region-wide conversation Wednesday November 6. Zoom link: https://us06web.zoom.us/j/89100161083 \nOrganized by the Just Peace Palestine Israel working group of Living Skies\, and Mennonite Church SK.
URL:https://livingskiesrc.ca/event/the-stones-cry-out-film-discussion-online/
LOCATION:Zoom
CATEGORIES:Justice,Palestine and Israel,Regional Events
ATTACH;FMTTYPE=image/png:https://livingskiesrc.ca/wp-content/uploads/2024/09/Screenshot-51.png
ORGANIZER;CN="Living Skies Regional Council":MAILTO:livingskies@united-church.ca
END:VEVENT
BEGIN:VEVENT
DTSTART;TZID=America/Regina:20241107T133000
DTEND;TZID=America/Regina:20241107T133000
DTSTAMP:20260422T042352
CREATED:20240909T201717Z
LAST-MODIFIED:20250304T193403Z
UID:10001490-1730986200-1730986200@livingskiesrc.ca
SUMMARY:Open Minds\, Open Books: The Wall Between
DESCRIPTION:Open Minds\, Open Books with Eastside United Church: Our book study will begin on September 12 and we will gather weekly on Thursdays at 1:30 pm at the Living Spirit Centre. This session’s book is The Wall Between: What Jews and Palestinians Don’t Want to Know about Each Other by Raja Khouri and Jeffrey Wilkinson. Let our office know if you need a copy! They cost $30 for a paperback.
URL:https://livingskiesrc.ca/event/open-minds-open-books-the-wall-between/2024-11-07/
LOCATION:Eastside United Church\, 3018 Doan Dr.\, Regina\, S4V 1M1\, Canada
CATEGORIES:Community of Faith Events
ATTACH;FMTTYPE=image/png:https://livingskiesrc.ca/wp-content/uploads/2024/09/Wall-Between-Book-Study.png
END:VEVENT
END:VCALENDAR