BEGIN:VCALENDAR
VERSION:2.0
PRODID:-//Living Skies Regional Council - ECPv6.15.20//NONSGML v1.0//EN
CALSCALE:GREGORIAN
METHOD:PUBLISH
X-WR-CALNAME:Living Skies Regional Council
X-ORIGINAL-URL:https://livingskiesrc.ca
X-WR-CALDESC:Events for Living Skies Regional Council
REFRESH-INTERVAL;VALUE=DURATION:PT1H
X-Robots-Tag:noindex
X-PUBLISHED-TTL:PT1H
BEGIN:VTIMEZONE
TZID:America/Regina
BEGIN:STANDARD
TZOFFSETFROM:-0600
TZOFFSETTO:-0600
TZNAME:CST
DTSTART:20230101T000000
END:STANDARD
END:VTIMEZONE
BEGIN:VEVENT
DTSTART;TZID=America/Regina:20241015T130000
DTEND;TZID=America/Regina:20241015T143000
DTSTAMP:20260420T054226
CREATED:20240618T221843Z
LAST-MODIFIED:20240618T223702Z
UID:10000938-1728997200-1729002600@livingskiesrc.ca
SUMMARY:Ministry Personnel Gathering
DESCRIPTION:Ministry Personnel are warmly invited to join colleagues over Zoom for conversation\, support and information sharing. \nJoin the Zoom meeting at:  https://united-church.zoom.us/j/87866391191?pwd=60jG9vU7urC4v0s1Zd8Zm9K7sfGGmJ.1  \n  \n  \n  \n 
URL:https://livingskiesrc.ca/event/ministry-personnel-gathering-157/
LOCATION:Zoom
CATEGORIES:Pastoral Relations,Regional Events
END:VEVENT
BEGIN:VEVENT
DTSTART;TZID=America/Regina:20241015T190000
DTEND;TZID=America/Regina:20241015T203000
DTSTAMP:20260420T054226
CREATED:20240909T200520Z
LAST-MODIFIED:20240909T200520Z
UID:10001225-1729018800-1729024200@livingskiesrc.ca
SUMMARY:Cozy Church
DESCRIPTION:Join us for a sensory friendly prayer\, quiet social time\, and independent activities. This group is led by young adult leadership. All are welcome. Please bring a quiet activity such as knitting\, colouring\, lego\, homework\, etc.
URL:https://livingskiesrc.ca/event/cozy-church/2024-10-15/
LOCATION:Eastside United Church\, 3018 Doan Dr.\, Regina\, S4V 1M1\, Canada
CATEGORIES:Community of Faith Events
ORGANIZER;CN="Eastside United Church":MAILTO:eastsideunited@sasktel.net
END:VEVENT
BEGIN:VEVENT
DTSTART;TZID=America/Regina:20241015T190000
DTEND;TZID=America/Regina:20241015T203000
DTSTAMP:20260420T054226
CREATED:20241003T004031Z
LAST-MODIFIED:20241003T005342Z
UID:10001542-1729018800-1729024200@livingskiesrc.ca
SUMMARY:World Food Day: Prophetic voice and the peoples of the land
DESCRIPTION:Listening for God’s prophetic voice amongst the people of the land\nJoin us for World Food Day\, a more important focus than ever as armed conflict causes great hunger around the world. As our local harvests from land and water are gathered in\, come out and learn what we can do for neighbours in need. \nRick Block and Miriam Harder\, colleagues at the Canadian Foodgrains Bank\, will share historical and current contexts from Canada and the Palestinian Territories exploring how land\, identity\, and conflict can create tragic circumstances- but also springs of hope\, resilience\, and unity. \nThis will be a participatory event and will include table group discussions for in-person and online participants\, as well as various calls to action and prayer. Join us in person or online! Hosted by Mennonite Church Canada SK\, and Living Skies Regional Council. Canadian Foodgrains Bank unites Mennonite and United traditions and many others in its work across the Prairies and around the world. \nThe presentation will be broadcast on Grosvenor Park UC’s YouTube channel: click here for the link. A Zoom link for the discussion will be shared at the start of the event. Help invite others! https://tinyurl.com/yxspxf4n \n 
URL:https://livingskiesrc.ca/event/world-food-day-prophetic-voice-and-the-peoples-of-the-land/
LOCATION:Grosvenor Park United Church\, Saskatoon SK\, 407 Cumberland Ave South\, Saskatoon\, S7h 2L3
CATEGORIES:Justice,Palestine and Israel,Regional Events
ATTACH;FMTTYPE=image/png:https://livingskiesrc.ca/wp-content/uploads/2024/10/Peoples-of-the-land-Food-Day-event.png
ORGANIZER;CN="Living Skies Regional Council":MAILTO:livingskies@united-church.ca
END:VEVENT
BEGIN:VEVENT
DTSTART;TZID=America/Regina:20241016T120000
DTEND;TZID=America/Regina:20241016T130000
DTSTAMP:20260420T054226
CREATED:20240909T195417Z
LAST-MODIFIED:20240909T195417Z
UID:10001221-1729080000-1729083600@livingskiesrc.ca
SUMMARY:Food for Thought
DESCRIPTION:An opportunity to raise questions about God\, the Bible\, Faith\, Spirituality\, and the church\, in a safe and open setting! Come and enjoy a meal and some conversation with Russell Mitchell-Walker of Eastside United Church.
URL:https://livingskiesrc.ca/event/food-for-thought/2024-10-16/
LOCATION:Queen City Wellness Pharmacy\, 1725 11th Ave.\, Regina
CATEGORIES:Community of Faith Events
ATTACH;FMTTYPE=image/png:https://livingskiesrc.ca/wp-content/uploads/2024/09/Design-I-Food-for-Thought-Poster-April-2024-3.png
END:VEVENT
BEGIN:VEVENT
DTSTART;TZID=America/Regina:20241016T130000
DTEND;TZID=America/Regina:20241016T143000
DTSTAMP:20260420T054226
CREATED:20240828T213224Z
LAST-MODIFIED:20240828T213224Z
UID:10000961-1729083600-1729089000@livingskiesrc.ca
SUMMARY:Equipping the Saints next gathering
DESCRIPTION:This initiative is an opportunity for lay folks to develop skills and gather information in an online community to strengthen and encourage visiting community of faith members\, hosted by hospital chaplains Emily Carr and Lorna King.  The goal is to aid caregivers in developing the sensitivities required to offer pastoral support.  Everyone is welcome to attend\, even if this is your first time joining. \nContact Bev Diebert at bdiebert@united-church.ca to register.
URL:https://livingskiesrc.ca/event/equipping-the-saints-next-gathering/
LOCATION:Zoom
CATEGORIES:Regional Events
END:VEVENT
BEGIN:VEVENT
DTSTART;TZID=America/Regina:20241017T133000
DTEND;TZID=America/Regina:20241017T133000
DTSTAMP:20260420T054226
CREATED:20240909T201717Z
LAST-MODIFIED:20250304T193403Z
UID:10001487-1729171800-1729171800@livingskiesrc.ca
SUMMARY:Open Minds\, Open Books: The Wall Between
DESCRIPTION:Open Minds\, Open Books with Eastside United Church: Our book study will begin on September 12 and we will gather weekly on Thursdays at 1:30 pm at the Living Spirit Centre. This session’s book is The Wall Between: What Jews and Palestinians Don’t Want to Know about Each Other by Raja Khouri and Jeffrey Wilkinson. Let our office know if you need a copy! They cost $30 for a paperback.
URL:https://livingskiesrc.ca/event/open-minds-open-books-the-wall-between/2024-10-17/
LOCATION:Eastside United Church\, 3018 Doan Dr.\, Regina\, S4V 1M1\, Canada
CATEGORIES:Community of Faith Events
ATTACH;FMTTYPE=image/png:https://livingskiesrc.ca/wp-content/uploads/2024/09/Wall-Between-Book-Study.png
END:VEVENT
BEGIN:VEVENT
DTSTART;TZID=America/Regina:20241018T140000
DTEND;TZID=America/Regina:20241019T140000
DTSTAMP:20260420T054226
CREATED:20241008T205252Z
LAST-MODIFIED:20241008T205252Z
UID:10001543-1729260000-1729346400@livingskiesrc.ca
SUMMARY:Craft & Trade Sale Heritage United Church
DESCRIPTION:Craft and Trade Sale taking place on Friday\, October 19 and Friday\, October 19\, 2024\nBake table\, Canteen Services\nGet your Christmas Shopping done early with great locally handmade items.\nMany Door Prizes
URL:https://livingskiesrc.ca/event/craft-trade-sale-heritage-united-church/
LOCATION:Heritage United Church\, Regina\, 1050 North Arnason Street\, Regina\, S4X 4K9\, Canada
CATEGORIES:Community of Faith Events
ATTACH;FMTTYPE=image/jpeg:https://livingskiesrc.ca/wp-content/uploads/2024/10/Fall-craft-Trade-sale-2024.jpg
ORGANIZER;CN="Heritage United Church":MAILTO:heritage.uc@sasktel.net
END:VEVENT
END:VCALENDAR