BEGIN:VCALENDAR
VERSION:2.0
PRODID:-//Living Skies Regional Council - ECPv6.15.20//NONSGML v1.0//EN
CALSCALE:GREGORIAN
METHOD:PUBLISH
X-WR-CALNAME:Living Skies Regional Council
X-ORIGINAL-URL:https://livingskiesrc.ca
X-WR-CALDESC:Events for Living Skies Regional Council
REFRESH-INTERVAL;VALUE=DURATION:PT1H
X-Robots-Tag:noindex
X-PUBLISHED-TTL:PT1H
BEGIN:VTIMEZONE
TZID:America/Regina
BEGIN:STANDARD
TZOFFSETFROM:-0600
TZOFFSETTO:-0600
TZNAME:CST
DTSTART:20230101T000000
END:STANDARD
END:VTIMEZONE
BEGIN:VEVENT
DTSTART;VALUE=DATE:20240927
DTEND;VALUE=DATE:20240930
DTSTAMP:20260420T054232
CREATED:20240827T211152Z
LAST-MODIFIED:20240827T215314Z
UID:10000953-1727395200-1727654399@livingskiesrc.ca
SUMMARY:Fall YAYAC Retreat (grade 7-12)
DESCRIPTION:Let’s kick off fall with another amazing YAYAC Retreat! If you’re in grades 7-12\, this is your opportunity to make some new friends\, enjoy our (hopefully) last bit of warm weather at Lumsden Beach Camp\, and have an amazing time. \nJoin us at Lumsden Beach Camp (LBC) September 27-29 for a weekend of faith and spirituality\, games and laughter\, and a chance to talk about the stuff that’s going on in YOUR world.  There will be opportunities for fun and loud exuberance\, as well as quiet reflection\, creativity and conversation. \nWe’ll send a more detailed packing list closer to the event\, but you’ll need warm clothes and a sleeping bag and mat! Directions to LBC are posted on their website. \nThe cost is $60\, but as always if money is an issue we have some sponsorships available – just let us know in your registration. \nYAYAC is a ministry of Living Skies Region\, an Affirming Ministry of the United Church of Canada and we are intentional about our welcome to youth of all gender identities\, gender expressions\, and sexual orientations. \nCome with a group of friends\, or come and meet some new ones! We can’t WAIT to spend the weekend with you! \nTo register: https://form.jotform.com/242395883339268 \n– Lindsay & Meghan (YAYAC Staff) \n               
URL:https://livingskiesrc.ca/event/fall-yayac-retreat-grade-7-12/
LOCATION:Lumsden Beach Camp\, Lumsden Beach\, Saskatchewan\, Canada
CATEGORIES:Events,Regional Events,YAYAC
ATTACH;FMTTYPE=image/png:https://livingskiesrc.ca/wp-content/uploads/2024/08/YAYAC-Fall-Retreat-2024-e1724793398855.png
END:VEVENT
BEGIN:VEVENT
DTSTART;TZID=America/Regina:20240928T080000
DTEND;TZID=America/Regina:20240929T170000
DTSTAMP:20260420T054232
CREATED:20231129T172949Z
LAST-MODIFIED:20240112T230303Z
UID:10000733-1727510400-1727629200@livingskiesrc.ca
SUMMARY:Grosvenor Park United Church Anniversary Weekend
DESCRIPTION:All who have been part of the Grosvenor Park United Church\, Saskatoon experience\, SAVE the DATES. September 28 (banquet) & September 29 (Worship)\, 2024 as we celebrate both the 70th Anniversary of GPUC and the 55th Anniversary of our Special Class.  Watch for new details.  For those wishing to send greetings (by email or by video)\, we invite you to do that before June 30\, 2024. (Maximum 30 seconds please)
URL:https://livingskiesrc.ca/event/gpuc-anniversary-weekend/2024-09-28/
LOCATION:Grosvenor Park United Church\, Saskatoon SK\, 407 Cumberland Ave South\, Saskatoon\, S7h 2L3
CATEGORIES:Community of Faith Events
ORGANIZER;CN="Grosvenor Park United Church%2C Saskatoon SK":MAILTO:gpuc@sasktel.net
END:VEVENT
BEGIN:VEVENT
DTSTART;VALUE=DATE:20240930
DTEND;VALUE=DATE:20241001
DTSTAMP:20260420T054232
CREATED:20240828T194751Z
LAST-MODIFIED:20240910T204542Z
UID:10000959-1727654400-1727740799@livingskiesrc.ca
SUMMARY:Honouring Orange Shirt Day/ National Day for Truth and Reconciliation
DESCRIPTION: Orange Shirt Day/ the National Day for Truth and Reconciliation is an important public space for truth telling and for commitments to challenging ongoing colonization.  It’s now an official day across Canada.  The Orange Shirt Day society offers leadership for this important space\, as all of Canada joins in efforts to honour\, remember\, and change.  Click here for more information and resources on how United Church communities in our Regional Council can support this day. “When you wear an orange shirt it’s like a little bit of justice for us Survivors in our lifetime\, and recognition of a system we can never allow again.” -Phyllis Webstad
URL:https://livingskiesrc.ca/event/honouring-orange-shirt-day-national-day-for-truth-and-reconciliation/
CATEGORIES:Regional Events
ATTACH;FMTTYPE=image/png:https://livingskiesrc.ca/wp-content/uploads/2024/08/OrangeShirtDay-Sept30-2024-officialLogo.png
END:VEVENT
BEGIN:VEVENT
DTSTART;TZID=America/Regina:20241001T130000
DTEND;TZID=America/Regina:20241001T143000
DTSTAMP:20260420T054232
CREATED:20240618T221658Z
LAST-MODIFIED:20240618T223442Z
UID:10000936-1727787600-1727793000@livingskiesrc.ca
SUMMARY:Ministry Personnel Gathering
DESCRIPTION:Ministry Personnel are warmly invited to join colleagues over Zoom for conversation\, support and information sharing. \nJoin the Zoom meeting at:  https://united-church.zoom.us/j/87866391191?pwd=60jG9vU7urC4v0s1Zd8Zm9K7sfGGmJ.1  \n  \n  \n  \n 
URL:https://livingskiesrc.ca/event/ministry-personnel-gathering-155/
LOCATION:Zoom
CATEGORIES:Pastoral Relations,Regional Events
END:VEVENT
BEGIN:VEVENT
DTSTART;TZID=America/Regina:20241002T120000
DTEND;TZID=America/Regina:20241002T130000
DTSTAMP:20260420T054232
CREATED:20240909T195417Z
LAST-MODIFIED:20240909T195417Z
UID:10001220-1727870400-1727874000@livingskiesrc.ca
SUMMARY:Food for Thought
DESCRIPTION:An opportunity to raise questions about God\, the Bible\, Faith\, Spirituality\, and the church\, in a safe and open setting! Come and enjoy a meal and some conversation with Russell Mitchell-Walker of Eastside United Church.
URL:https://livingskiesrc.ca/event/food-for-thought/2024-10-02/
LOCATION:Queen City Wellness Pharmacy\, 1725 11th Ave.\, Regina
CATEGORIES:Community of Faith Events
ATTACH;FMTTYPE=image/png:https://livingskiesrc.ca/wp-content/uploads/2024/09/Design-I-Food-for-Thought-Poster-April-2024-3.png
END:VEVENT
BEGIN:VEVENT
DTSTART;TZID=America/Regina:20241003T133000
DTEND;TZID=America/Regina:20241003T133000
DTSTAMP:20260420T054232
CREATED:20240909T201717Z
LAST-MODIFIED:20250304T193403Z
UID:10001485-1727962200-1727962200@livingskiesrc.ca
SUMMARY:Open Minds\, Open Books: The Wall Between
DESCRIPTION:Open Minds\, Open Books with Eastside United Church: Our book study will begin on September 12 and we will gather weekly on Thursdays at 1:30 pm at the Living Spirit Centre. This session’s book is The Wall Between: What Jews and Palestinians Don’t Want to Know about Each Other by Raja Khouri and Jeffrey Wilkinson. Let our office know if you need a copy! They cost $30 for a paperback.
URL:https://livingskiesrc.ca/event/open-minds-open-books-the-wall-between/2024-10-03/
LOCATION:Eastside United Church\, 3018 Doan Dr.\, Regina\, S4V 1M1\, Canada
CATEGORIES:Community of Faith Events
ATTACH;FMTTYPE=image/png:https://livingskiesrc.ca/wp-content/uploads/2024/09/Wall-Between-Book-Study.png
END:VEVENT
END:VCALENDAR