BEGIN:VCALENDAR
VERSION:2.0
PRODID:-//Living Skies Regional Council - ECPv6.15.20//NONSGML v1.0//EN
CALSCALE:GREGORIAN
METHOD:PUBLISH
X-ORIGINAL-URL:https://livingskiesrc.ca
X-WR-CALDESC:Events for Living Skies Regional Council
REFRESH-INTERVAL;VALUE=DURATION:PT1H
X-Robots-Tag:noindex
X-PUBLISHED-TTL:PT1H
BEGIN:VTIMEZONE
TZID:America/Regina
BEGIN:STANDARD
TZOFFSETFROM:-0600
TZOFFSETTO:-0600
TZNAME:CST
DTSTART:20230101T000000
END:STANDARD
END:VTIMEZONE
BEGIN:VEVENT
DTSTART;TZID=America/Regina:20240924T130000
DTEND;TZID=America/Regina:20240924T143000
DTSTAMP:20260422T055948
CREATED:20240618T221513Z
LAST-MODIFIED:20240618T223242Z
UID:10000934-1727182800-1727188200@livingskiesrc.ca
SUMMARY:Ministry Personnel Gathering
DESCRIPTION:Ministry Personnel are warmly invited to join colleagues over Zoom for conversation\, support and information sharing. \nJoin the Zoom meeting at:  https://united-church.zoom.us/j/87866391191?pwd=60jG9vU7urC4v0s1Zd8Zm9K7sfGGmJ.1  \n  \n  \n  \n 
URL:https://livingskiesrc.ca/event/ministry-personnel-gathering-154/
LOCATION:Zoom
CATEGORIES:Pastoral Relations,Regional Events
END:VEVENT
BEGIN:VEVENT
DTSTART;TZID=America/Regina:20240924T160000
DTEND;TZID=America/Regina:20240926T133000
DTSTAMP:20260422T055948
CREATED:20240828T192622Z
LAST-MODIFIED:20240828T192622Z
UID:10000955-1727193600-1727357400@livingskiesrc.ca
SUMMARY:A Spiritual Journey Rooted in Nature
DESCRIPTION:(Option to stay an extra day for a time of complete solitude)\nQu’Appelle House of Prayer\, Fort Qu’Appelle\, Sk. \nIn this retreat\, we will be inspired by Richard Rohr’s contemplative practice to stop our busy lives and minds long enough to see everything in the natural world with humility and love.  We will be invited to love what is right in front of us one step at a time\, starting with a stone and then moving to the plant world\, the world of creatures\, and humanity itself.  Once we see the divine fingerprint of beauty\, truth\, and goodness pulsing through all that is\, we may have worked up to loving the divine in new and refreshing ways. \nFor complete information\, visit: https://www.freeflowwellness.ca/retreats \nRegistration deadline – September 13
URL:https://livingskiesrc.ca/event/a-spiritual-journey-rooted-in-nature/
LOCATION:Qu’Appelle House of Prayer\, B-Say-Tah\, Saskatchewan\, S0G 1S0\, Canada
CATEGORIES:Regional Events
END:VEVENT
BEGIN:VEVENT
DTSTART;TZID=America/Regina:20240924T190000
DTEND;TZID=America/Regina:20240924T203000
DTSTAMP:20260422T055948
CREATED:20240909T200520Z
LAST-MODIFIED:20240909T200520Z
UID:10001223-1727204400-1727209800@livingskiesrc.ca
SUMMARY:Cozy Church
DESCRIPTION:Join us for a sensory friendly prayer\, quiet social time\, and independent activities. This group is led by young adult leadership. All are welcome. Please bring a quiet activity such as knitting\, colouring\, lego\, homework\, etc.
URL:https://livingskiesrc.ca/event/cozy-church/2024-09-24/
LOCATION:Eastside United Church\, 3018 Doan Dr.\, Regina\, S4V 1M1\, Canada
CATEGORIES:Community of Faith Events
ORGANIZER;CN="Eastside United Church":MAILTO:eastsideunited@sasktel.net
END:VEVENT
BEGIN:VEVENT
DTSTART;TZID=America/Regina:20240926T133000
DTEND;TZID=America/Regina:20240926T133000
DTSTAMP:20260422T055948
CREATED:20240909T201717Z
LAST-MODIFIED:20250304T193403Z
UID:10001484-1727357400-1727357400@livingskiesrc.ca
SUMMARY:Open Minds\, Open Books: The Wall Between
DESCRIPTION:Open Minds\, Open Books with Eastside United Church: Our book study will begin on September 12 and we will gather weekly on Thursdays at 1:30 pm at the Living Spirit Centre. This session’s book is The Wall Between: What Jews and Palestinians Don’t Want to Know about Each Other by Raja Khouri and Jeffrey Wilkinson. Let our office know if you need a copy! They cost $30 for a paperback.
URL:https://livingskiesrc.ca/event/open-minds-open-books-the-wall-between/2024-09-26/
LOCATION:Eastside United Church\, 3018 Doan Dr.\, Regina\, S4V 1M1\, Canada
CATEGORIES:Community of Faith Events
ATTACH;FMTTYPE=image/png:https://livingskiesrc.ca/wp-content/uploads/2024/09/Wall-Between-Book-Study.png
END:VEVENT
BEGIN:VEVENT
DTSTART;VALUE=DATE:20240927
DTEND;VALUE=DATE:20240930
DTSTAMP:20260422T055948
CREATED:20240827T211152Z
LAST-MODIFIED:20240827T215314Z
UID:10000953-1727395200-1727654399@livingskiesrc.ca
SUMMARY:Fall YAYAC Retreat (grade 7-12)
DESCRIPTION:Let’s kick off fall with another amazing YAYAC Retreat! If you’re in grades 7-12\, this is your opportunity to make some new friends\, enjoy our (hopefully) last bit of warm weather at Lumsden Beach Camp\, and have an amazing time. \nJoin us at Lumsden Beach Camp (LBC) September 27-29 for a weekend of faith and spirituality\, games and laughter\, and a chance to talk about the stuff that’s going on in YOUR world.  There will be opportunities for fun and loud exuberance\, as well as quiet reflection\, creativity and conversation. \nWe’ll send a more detailed packing list closer to the event\, but you’ll need warm clothes and a sleeping bag and mat! Directions to LBC are posted on their website. \nThe cost is $60\, but as always if money is an issue we have some sponsorships available – just let us know in your registration. \nYAYAC is a ministry of Living Skies Region\, an Affirming Ministry of the United Church of Canada and we are intentional about our welcome to youth of all gender identities\, gender expressions\, and sexual orientations. \nCome with a group of friends\, or come and meet some new ones! We can’t WAIT to spend the weekend with you! \nTo register: https://form.jotform.com/242395883339268 \n– Lindsay & Meghan (YAYAC Staff) \n               
URL:https://livingskiesrc.ca/event/fall-yayac-retreat-grade-7-12/
LOCATION:Lumsden Beach Camp\, Lumsden Beach\, Saskatchewan\, Canada
CATEGORIES:Events,Regional Events,YAYAC
ATTACH;FMTTYPE=image/png:https://livingskiesrc.ca/wp-content/uploads/2024/08/YAYAC-Fall-Retreat-2024-e1724793398855.png
END:VEVENT
BEGIN:VEVENT
DTSTART;TZID=America/Regina:20240928T080000
DTEND;TZID=America/Regina:20240929T170000
DTSTAMP:20260422T055948
CREATED:20231129T172949Z
LAST-MODIFIED:20240112T230303Z
UID:10000733-1727510400-1727629200@livingskiesrc.ca
SUMMARY:Grosvenor Park United Church Anniversary Weekend
DESCRIPTION:All who have been part of the Grosvenor Park United Church\, Saskatoon experience\, SAVE the DATES. September 28 (banquet) & September 29 (Worship)\, 2024 as we celebrate both the 70th Anniversary of GPUC and the 55th Anniversary of our Special Class.  Watch for new details.  For those wishing to send greetings (by email or by video)\, we invite you to do that before June 30\, 2024. (Maximum 30 seconds please)
URL:https://livingskiesrc.ca/event/gpuc-anniversary-weekend/2024-09-28/
LOCATION:Grosvenor Park United Church\, Saskatoon SK\, 407 Cumberland Ave South\, Saskatoon\, S7h 2L3
CATEGORIES:Community of Faith Events
ORGANIZER;CN="Grosvenor Park United Church%2C Saskatoon SK":MAILTO:gpuc@sasktel.net
END:VEVENT
END:VCALENDAR