BEGIN:VCALENDAR
VERSION:2.0
PRODID:-//Living Skies Regional Council - ECPv6.15.20//NONSGML v1.0//EN
CALSCALE:GREGORIAN
METHOD:PUBLISH
X-WR-CALNAME:Living Skies Regional Council
X-ORIGINAL-URL:https://livingskiesrc.ca
X-WR-CALDESC:Events for Living Skies Regional Council
REFRESH-INTERVAL;VALUE=DURATION:PT1H
X-Robots-Tag:noindex
X-PUBLISHED-TTL:PT1H
BEGIN:VTIMEZONE
TZID:America/Regina
BEGIN:STANDARD
TZOFFSETFROM:-0600
TZOFFSETTO:-0600
TZNAME:CST
DTSTART:20200101T000000
END:STANDARD
END:VTIMEZONE
BEGIN:VEVENT
DTSTART;TZID=America/Regina:20210404T062000
DTEND;TZID=America/Regina:20210404T064000
DTSTAMP:20260424T015555
CREATED:20210310T151738Z
LAST-MODIFIED:20210310T200610Z
UID:10000240-1617517200-1617518400@livingskiesrc.ca
SUMMARY:Easter Sunrise Worship (Region-wide)
DESCRIPTION:Let’s celebrate the joy of the Risen Christ together – experience the sky coming to life throughout our Living Skies Region!  Join your church family for a Sunrise Easter Zoom from a frosty hilltop or your warm living room! \nEasy steps: \n\n\n\nRegister for the Zoom Link: https://form.jotform.com/210685803988267\nIf you Zoom on your phone\, get outdoors & find a hill.\nIf you Zoom on your computer\, stay inside & find a couch.\nWorship together!\nShare your Easter Sunrise pics with livingskiesyaya@united-church.ca or post them at https://www.facebook.com/groups/344291036087731\n\n\n\nDownload Poster: https://livingskiesrc.ca/wp-content/uploads/2021/03/Easter-Sunrise-2021-Poster.pdf\nQuestions? Suggestions?  Just contact Kent at livingskiesyaya@united-church.ca or 306-221-5529
URL:https://livingskiesrc.ca/event/region-wide-easter-sunrise-worship-service/
LOCATION:Online Event
CATEGORIES:Events,Regional Events
ATTACH;FMTTYPE=image/png:https://livingskiesrc.ca/wp-content/uploads/2021/03/Sunrise-service-2021.png
ORGANIZER;CN="Living Skies Regional Council":MAILTO:livingskies@united-church.ca
END:VEVENT
BEGIN:VEVENT
DTSTART;TZID=America/Regina:20210406T130000
DTEND;TZID=America/Regina:20210406T140000
DTSTAMP:20260424T015555
CREATED:20210308T154908Z
LAST-MODIFIED:20210308T155648Z
UID:10000238-1617714000-1617717600@livingskiesrc.ca
SUMMARY:Ministry Personnel Gatherings
DESCRIPTION:Today’s Ministry Personnel Gathering has been CANCELLED.  Please know Ministry Personnel are warmly invited to attend any or all other sessions.
URL:https://livingskiesrc.ca/event/ministry-personnel-gatherings-cancelled/
CATEGORIES:Regional Events
END:VEVENT
BEGIN:VEVENT
DTSTART;TZID=America/Regina:20210407T130000
DTEND;TZID=America/Regina:20210407T140000
DTSTAMP:20260424T015555
CREATED:20210112T202117Z
LAST-MODIFIED:20210112T202320Z
UID:10000051-1617800400-1617804000@livingskiesrc.ca
SUMMARY:Zoom Bible Study - Lectionary Based
DESCRIPTION:Zoom Bible Study\nbeginning February 3 and happening every Wednesday at 1pm.\n\nAn opportunity to read\, learn\, and discuss the Bible with other UCCan folks. Each week we will engage with one of the lectionary passage for the upcoming Sunday.\n\nTo register follow this link:\nhttps://us02web.zoom.us/…/tZcpcOmsqzorGtbNopaMhsmCZ8bjZ…\nAfter registering\, you will receive a confirmation email containing information about joining the meeting.
URL:https://livingskiesrc.ca/event/zoom-bible-study-lectionary/2021-04-07/
LOCATION:Online Event
CATEGORIES:Community of Faith Events,Events
ATTACH;FMTTYPE=image/jpeg:https://livingskiesrc.ca/wp-content/uploads/2021/01/Wed-bible-study.jpg
ORGANIZER;CN="Laura Fouhse":MAILTO:laura@mcclureunitedchurch.org
END:VEVENT
BEGIN:VEVENT
DTSTART;TZID=America/Regina:20210407T183000
DTEND;TZID=America/Regina:20210407T200000
DTSTAMP:20260424T015555
CREATED:20210104T150656Z
LAST-MODIFIED:20210504T172844Z
UID:10000187-1617820200-1617825600@livingskiesrc.ca
SUMMARY:Zoom Gathering for Young Adults (18-35 yrs)
DESCRIPTION:ALL ARE TRULY WELCOME\nEvery Wednesday at 6:30pm \na safe space for open-minded\, faith-based and engaging conversation. \nContact Rev. Laura Fouhse for the ZOOM link: \n\nText 306-291-5838\nE-mail laura@mcclureunitedchurch.org
URL:https://livingskiesrc.ca/event/zoom-gathering-for-young-adults-18-35-yrs/2021-04-07/
LOCATION:Online Event
CATEGORIES:Events,Regional Events,YAYAC
ATTACH;FMTTYPE=image/jpeg:https://livingskiesrc.ca/wp-content/uploads/2021/01/YA-Group-Wednesdays.jpg
ORGANIZER;CN="Laura Fouhse":MAILTO:laura@mcclureunitedchurch.org
END:VEVENT
END:VCALENDAR