BEGIN:VCALENDAR
VERSION:2.0
PRODID:-//Living Skies Regional Council - ECPv6.15.20//NONSGML v1.0//EN
CALSCALE:GREGORIAN
METHOD:PUBLISH
X-ORIGINAL-URL:https://livingskiesrc.ca
X-WR-CALDESC:Events for Living Skies Regional Council
REFRESH-INTERVAL;VALUE=DURATION:PT1H
X-Robots-Tag:noindex
X-PUBLISHED-TTL:PT1H
BEGIN:VTIMEZONE
TZID:America/Regina
BEGIN:STANDARD
TZOFFSETFROM:-0600
TZOFFSETTO:-0600
TZNAME:CST
DTSTART:20200101T000000
END:STANDARD
END:VTIMEZONE
BEGIN:VEVENT
DTSTART;TZID=America/Regina:20210308T190000
DTEND;TZID=America/Regina:20210308T203000
DTSTAMP:20260424T022130
CREATED:20210209T225319Z
LAST-MODIFIED:20210315T154409Z
UID:10000221-1615230000-1615235400@livingskiesrc.ca
SUMMARY:Practically Prophetic: Grief\, Depression & Anxiety
DESCRIPTION:Grief\, Depression & Anxiety\nMonday\, March 8th\n&\nMonday\, March 15th\nTo Register: https://form.jotform.com/210376040663247  \nDownload: Event Poster/Info Sheet\nDownload: Grief\, Depression\, Anxiety Resource List\nRecordings available on Livings Skies YouTube Channel: https://www.youtube.com/channel/UCQumvdyab1_LlPIluOPgArg\nBook List from the Library at St. Andrew’s College: https://livingskiesrc.ca/wp-content/uploads/2021/03/Grief-anxiety-depression-book-list.pdf\nCentre for Christian Studies – Spiritual Care Learning Circle: Grief & Loss (April 28-May 5) http://ccsonline.ca/program/courses-and-circles/sc02-grief-loss/ \nThe excitement and sparkle of Christmas is over.  We are heading into the toughest season of the year for folks who struggle with their mood.  Statistically\, this is the season where we face the greatest risk of people dying by suicide.  This year particularly\, we are becoming more and more isolated from friends and family with restrictions related to COVID.  For folks who find their motivation and energy disappear with the short days and chilly weather it’s hard to do all the things that experts recommend to maintain / manage mood.  (Getting outside!? – getting exercise!? – cutting down on carbs??!!! That is crazy talk!!!)  It becomes easy to just not answer the phone when loved ones attempt to make contact. \nGrief is NOT a mood disorder but it often gets mistaken for one because the experience is so similar.  The risk is that treating grief like an illness means that a normal reaction to loss becomes medicalized and pathologized.  In those situations\, people don’t trust their natural coping strategies. \nWe are more likely to reach out for help when we know what we are dealing with – when we can give a name to the symptoms that we are experiencing. These sessions are designed to give basic information so that it is possible to name what we are experiencing and then to look for the most helpful forms of support. \nSession One\nBasic Facts: Grief\, Depression & Anxiety\nMon\, March 8th\, 7:00 pm (Zoom online)\n“What are the Symptoms of Depression & Anxiety?”\n“How are these disorders similar to and different from Grief?” \nSession Two\nSelf-help Strategies: Managing our own mood disorders & supporting others with mood disorders.\nMon\, March 15th\, 7:00 pm (Zoom online)\n“What is helpful for you to do for yourself when you struggle with mood disorders?”\n“How can you be supportive to friends and family with these disorders?” \n  \nAbout our presenter:\nRuth Mireau (MSW) (RSW) SK\, is a social worker who worked in Mental Health and Addictions in Saskatchewan for 38 years as a counsellor.  In addition to providing counselling to clients with a wide variety of mental health issues she supervised health authority staff\, taught counselling skills to counsellors across the province and was an Instructor with the U of R\, Faculty of Social Work. \nRuth is an active member of McClure United Church in Saskatoon.  As a preacher’s kid\, she grew up in the church in a variety of rural communities.  She has always found the connections she has made in the church to be an important source of personal support. \n  \nQuestions: contact Kent at LivingSkiesYAYA@united-church.ca or 306-221-5529. \n  \n“Practically Prophetic” is a new webinar series in Living Skies focused on tools & tips for our UCC ministry together. Think of it as Com-Ed (Community Education) for all: speakers\, presentations\, and panel discussions related to just about anything & everything in the vibrant faith-life of the church.  Oh yeah\, we’re excited that Practically Prophetic is a pretty cool collaboration of Living Skies Region Faith Formation (UCC)\, St. Andrew’s College\, and the Centre for Christian Studies.
URL:https://livingskiesrc.ca/event/practically-prophetic-grief-depression-anxiety-2/2021-03-08/
LOCATION:Online Event
CATEGORIES:Events,Regional Events,YAYAC
ATTACH;FMTTYPE=image/png:https://livingskiesrc.ca/wp-content/uploads/2021/02/Practically-Prophetic-logo-2.png
END:VEVENT
BEGIN:VEVENT
DTSTART;TZID=America/Regina:20210309T130000
DTEND;TZID=America/Regina:20210309T140000
DTSTAMP:20260424T022130
CREATED:20210201T163245Z
LAST-MODIFIED:20210308T152403Z
UID:10000217-1615294800-1615298400@livingskiesrc.ca
SUMMARY:Ministry Personnel Gatherings
DESCRIPTION:Ministry Personnel are warmly invited to attend any or all gatherings.\nToday\, we will be talking about being a vaccine encourager with leadership from Tricia Gerhard. \nJoin Zoom Meeting: \nhttps://united-church.zoom.us/j/97027021739?pwd=WXMvQXdsMmlTRGRnT1dwVTRHSE5iUT09
URL:https://livingskiesrc.ca/event/ministry-personnel-gatherings-18/
LOCATION:Zoom
CATEGORIES:Regional Events
END:VEVENT
BEGIN:VEVENT
DTSTART;TZID=America/Regina:20210310T130000
DTEND;TZID=America/Regina:20210310T140000
DTSTAMP:20260424T022130
CREATED:20210112T202117Z
LAST-MODIFIED:20210112T202320Z
UID:10000047-1615381200-1615384800@livingskiesrc.ca
SUMMARY:Zoom Bible Study - Lectionary Based
DESCRIPTION:Zoom Bible Study\nbeginning February 3 and happening every Wednesday at 1pm.\n\nAn opportunity to read\, learn\, and discuss the Bible with other UCCan folks. Each week we will engage with one of the lectionary passage for the upcoming Sunday.\n\nTo register follow this link:\nhttps://us02web.zoom.us/…/tZcpcOmsqzorGtbNopaMhsmCZ8bjZ…\nAfter registering\, you will receive a confirmation email containing information about joining the meeting.
URL:https://livingskiesrc.ca/event/zoom-bible-study-lectionary/2021-03-10/
LOCATION:Online Event
CATEGORIES:Community of Faith Events,Events
ATTACH;FMTTYPE=image/jpeg:https://livingskiesrc.ca/wp-content/uploads/2021/01/Wed-bible-study.jpg
ORGANIZER;CN="Laura Fouhse":MAILTO:laura@mcclureunitedchurch.org
END:VEVENT
BEGIN:VEVENT
DTSTART;TZID=America/Regina:20210310T183000
DTEND;TZID=America/Regina:20210310T200000
DTSTAMP:20260424T022130
CREATED:20210104T150656Z
LAST-MODIFIED:20210504T172844Z
UID:10000183-1615401000-1615406400@livingskiesrc.ca
SUMMARY:Zoom Gathering for Young Adults (18-35 yrs)
DESCRIPTION:ALL ARE TRULY WELCOME\nEvery Wednesday at 6:30pm \na safe space for open-minded\, faith-based and engaging conversation. \nContact Rev. Laura Fouhse for the ZOOM link: \n\nText 306-291-5838\nE-mail laura@mcclureunitedchurch.org
URL:https://livingskiesrc.ca/event/zoom-gathering-for-young-adults-18-35-yrs/2021-03-10/
LOCATION:Online Event
CATEGORIES:Events,Regional Events,YAYAC
ATTACH;FMTTYPE=image/jpeg:https://livingskiesrc.ca/wp-content/uploads/2021/01/YA-Group-Wednesdays.jpg
ORGANIZER;CN="Laura Fouhse":MAILTO:laura@mcclureunitedchurch.org
END:VEVENT
BEGIN:VEVENT
DTSTART;TZID=America/Regina:20210310T183000
DTEND;TZID=America/Regina:20210310T200000
DTSTAMP:20260424T022130
CREATED:20230117T234320Z
LAST-MODIFIED:20230117T234320Z
UID:10000204-1615401000-1615406400@livingskiesrc.ca
SUMMARY:Zoom Gathering for Young Adults (18-35 yrs)
DESCRIPTION:ALL ARE TRULY WELCOME\nEvery Wednesday at 6:30pm \na safe space for open-minded\, faith-based and engaging conversation. \nContact Rev. Laura Fouhse for the ZOOM link: \n\nText 306-291-5838\nE-mail laura@mcclureunitedchurch.org
URL:https://livingskiesrc.ca/event/zoom-gathering-for-young-adults-18-35-yrs/2021-03-10/
LOCATION:Online Event
CATEGORIES:Events,Regional Events,YAYAC
ATTACH;FMTTYPE=image/jpeg:https://livingskiesrc.ca/wp-content/uploads/2021/01/YA-Group-Wednesdays.jpg
ORGANIZER;CN="Laura Fouhse":MAILTO:laura@mcclureunitedchurch.org
END:VEVENT
END:VCALENDAR