BEGIN:VCALENDAR
VERSION:2.0
PRODID:-//Living Skies Regional Council - ECPv6.15.20//NONSGML v1.0//EN
CALSCALE:GREGORIAN
METHOD:PUBLISH
X-WR-CALNAME:Living Skies Regional Council
X-ORIGINAL-URL:https://livingskiesrc.ca
X-WR-CALDESC:Events for Living Skies Regional Council
REFRESH-INTERVAL;VALUE=DURATION:PT1H
X-Robots-Tag:noindex
X-PUBLISHED-TTL:PT1H
BEGIN:VTIMEZONE
TZID:America/Regina
BEGIN:STANDARD
TZOFFSETFROM:-0600
TZOFFSETTO:-0600
TZNAME:CST
DTSTART:20200101T000000
END:STANDARD
END:VTIMEZONE
BEGIN:VEVENT
DTSTART;TZID=America/Regina:20210223T130000
DTEND;TZID=America/Regina:20210223T140000
DTSTAMP:20260423T152612
CREATED:20210201T162909Z
LAST-MODIFIED:20210203T205911Z
UID:10000215-1614085200-1614088800@livingskiesrc.ca
SUMMARY:Ministry Personnel Gatherings
DESCRIPTION:Ministry Personnel are warmly invited to attend any or all gatherings. \nJoin Zoom Meeting: \nhttps://united-church.zoom.us/j/97027021739?pwd=WXMvQXdsMmlTRGRnT1dwVTRHSE5iUT09
URL:https://livingskiesrc.ca/event/ministry-personnel-gatherings-16/
LOCATION:Zoom
CATEGORIES:Regional Events
END:VEVENT
BEGIN:VEVENT
DTSTART;TZID=America/Regina:20210223T190000
DTEND;TZID=America/Regina:20210223T210000
DTSTAMP:20260423T152612
CREATED:20210212T203003Z
LAST-MODIFIED:20210212T203003Z
UID:10000223-1614106800-1614114000@livingskiesrc.ca
SUMMARY:For the Love of Creation: Talking about climate change in SK
DESCRIPTION:Faithful Climate Conversations \nWe need to talk — all of us — about climate. \nWhat better place to open up this vital conversation than within our own circles of faith? “For the Love of Creation” invites faith communities across Canada to come together to reflect\, listen\, share\, and advocate for climate justice. \nTuesday\, February 23rd\, 7 to 9 p.m. via Zoom \nRegister at https://bit.ly/370ekSr\nHere in Saskatchewan\, the listening part will be crucial\, and for that\, FLC offers three discussion guides for small groups. Join us to explore the first guide\, “Creation\, Climate and You\,” and get ready to use these guides in your own community. \nOur evening together will follow the guide’s agenda\, including breakout rooms for the discussion portions so we can experience the small-group format. We’ll conclude with a sharing time where you can exchange ideas and inspiration to help you launch your own “Faithful Climate Conversations.” \nPresented by KAIROS Regina. For further info\, contact Laura Stewart at arcolaura@gmail.com
URL:https://livingskiesrc.ca/event/for-the-love-of-creation-talking-about-climate-change-in-sk/
LOCATION:Zoom
CATEGORIES:Clusters and Networks,Events,Regional Events
ATTACH;FMTTYPE=image/jpeg:https://livingskiesrc.ca/wp-content/uploads/2020/11/diego-ph-vTitvl4O2kE-unsplash-scaled-e1613161760657.jpg
END:VEVENT
BEGIN:VEVENT
DTSTART;TZID=America/Regina:20210224T130000
DTEND;TZID=America/Regina:20210224T140000
DTSTAMP:20260423T152612
CREATED:20210112T202117Z
LAST-MODIFIED:20210112T202320Z
UID:10000045-1614171600-1614175200@livingskiesrc.ca
SUMMARY:Zoom Bible Study - Lectionary Based
DESCRIPTION:Zoom Bible Study\nbeginning February 3 and happening every Wednesday at 1pm.\n\nAn opportunity to read\, learn\, and discuss the Bible with other UCCan folks. Each week we will engage with one of the lectionary passage for the upcoming Sunday.\n\nTo register follow this link:\nhttps://us02web.zoom.us/…/tZcpcOmsqzorGtbNopaMhsmCZ8bjZ…\nAfter registering\, you will receive a confirmation email containing information about joining the meeting.
URL:https://livingskiesrc.ca/event/zoom-bible-study-lectionary/2021-02-24/
LOCATION:Online Event
CATEGORIES:Community of Faith Events,Events
ATTACH;FMTTYPE=image/jpeg:https://livingskiesrc.ca/wp-content/uploads/2021/01/Wed-bible-study.jpg
ORGANIZER;CN="Laura Fouhse":MAILTO:laura@mcclureunitedchurch.org
END:VEVENT
BEGIN:VEVENT
DTSTART;TZID=America/Regina:20210224T183000
DTEND;TZID=America/Regina:20210224T200000
DTSTAMP:20260423T152612
CREATED:20210104T150656Z
LAST-MODIFIED:20210504T172844Z
UID:10000181-1614191400-1614196800@livingskiesrc.ca
SUMMARY:Zoom Gathering for Young Adults (18-35 yrs)
DESCRIPTION:ALL ARE TRULY WELCOME\nEvery Wednesday at 6:30pm \na safe space for open-minded\, faith-based and engaging conversation. \nContact Rev. Laura Fouhse for the ZOOM link: \n\nText 306-291-5838\nE-mail laura@mcclureunitedchurch.org
URL:https://livingskiesrc.ca/event/zoom-gathering-for-young-adults-18-35-yrs/2021-02-24/
LOCATION:Online Event
CATEGORIES:Events,Regional Events,YAYAC
ATTACH;FMTTYPE=image/jpeg:https://livingskiesrc.ca/wp-content/uploads/2021/01/YA-Group-Wednesdays.jpg
ORGANIZER;CN="Laura Fouhse":MAILTO:laura@mcclureunitedchurch.org
END:VEVENT
BEGIN:VEVENT
DTSTART;TZID=America/Regina:20210224T183000
DTEND;TZID=America/Regina:20210224T200000
DTSTAMP:20260423T152612
CREATED:20230117T234320Z
LAST-MODIFIED:20230117T234320Z
UID:10000202-1614191400-1614196800@livingskiesrc.ca
SUMMARY:Zoom Gathering for Young Adults (18-35 yrs)
DESCRIPTION:ALL ARE TRULY WELCOME\nEvery Wednesday at 6:30pm \na safe space for open-minded\, faith-based and engaging conversation. \nContact Rev. Laura Fouhse for the ZOOM link: \n\nText 306-291-5838\nE-mail laura@mcclureunitedchurch.org
URL:https://livingskiesrc.ca/event/zoom-gathering-for-young-adults-18-35-yrs/2021-02-24/
LOCATION:Online Event
CATEGORIES:Events,Regional Events,YAYAC
ATTACH;FMTTYPE=image/jpeg:https://livingskiesrc.ca/wp-content/uploads/2021/01/YA-Group-Wednesdays.jpg
ORGANIZER;CN="Laura Fouhse":MAILTO:laura@mcclureunitedchurch.org
END:VEVENT
BEGIN:VEVENT
DTSTART;TZID=America/Regina:20210224T190000
DTEND;TZID=America/Regina:20210224T210000
DTSTAMP:20260423T152612
CREATED:20210205T203017Z
LAST-MODIFIED:20210205T203017Z
UID:10000219-1614193200-1614200400@livingskiesrc.ca
SUMMARY:Affirming Connections gathering
DESCRIPTION:Living Skies Region warmly invites Communities of Faith and individuals who are: presently Affirming\, in the process of Affirming\, and the Affirming curious to an Affirming Zoom Connection Event to check in and share upcoming news pertinent to this journey. \nPlease register using form link https://bit.ly/36EWgNI\nA zoom link will be emailed to you prior to the event.
URL:https://livingskiesrc.ca/event/affirming-connections-gathering/
LOCATION:Zoom
CATEGORIES:Clusters and Networks,Events,LGBTQIA+ Affirming,Regional Events
ATTACH;FMTTYPE=image/png:https://livingskiesrc.ca/wp-content/uploads/2021/02/LS-Affirming-2.png
ORGANIZER;CN="Living Skies Regional Council":MAILTO:livingskies@united-church.ca
END:VEVENT
END:VCALENDAR