BEGIN:VCALENDAR
VERSION:2.0
PRODID:-//Living Skies Regional Council - ECPv6.15.20//NONSGML v1.0//EN
CALSCALE:GREGORIAN
METHOD:PUBLISH
X-WR-CALNAME:Living Skies Regional Council
X-ORIGINAL-URL:https://livingskiesrc.ca
X-WR-CALDESC:Events for Living Skies Regional Council
REFRESH-INTERVAL;VALUE=DURATION:PT1H
X-Robots-Tag:noindex
X-PUBLISHED-TTL:PT1H
BEGIN:VTIMEZONE
TZID:America/Regina
BEGIN:STANDARD
TZOFFSETFROM:-0600
TZOFFSETTO:-0600
TZNAME:CST
DTSTART:20200101T000000
END:STANDARD
END:VTIMEZONE
BEGIN:VEVENT
DTSTART;TZID=America/Regina:20210214T100000
DTEND;TZID=America/Regina:20210214T110000
DTSTAMP:20260423T152627
CREATED:20210128T151459Z
LAST-MODIFIED:20210128T151459Z
UID:10000211-1613296800-1613300400@livingskiesrc.ca
SUMMARY:UCC Regina Cluster Online Collaborative Worship Service
DESCRIPTION:All are welcome to view/utilize the collaborative worship service that the Regina Cluster of churches and outreach ministries are putting together for Sunday February 14th\, celebrating Jesus’ transfiguration and Valentine’s Day. \nIf a church would like to receive a copy of the bulletin for the service and a link to the YouTube video a few days prior to the service\, please send an email to ministry.huc@sasktel.net \nIf you would like to view the service\, it will be available at   heritageunitedchurchregina.ca   on Sunday Feb. 14th at 10 AM.
URL:https://livingskiesrc.ca/event/ucc-regina-cluster-online-collaborative-worship-service/
LOCATION:Regina Cluster of UCC Churches
CATEGORIES:Community of Faith Events
ATTACH;FMTTYPE=image/png:https://livingskiesrc.ca/wp-content/uploads/2021/01/Transfiguration-Sunday.png
END:VEVENT
BEGIN:VEVENT
DTSTART;TZID=America/Regina:20210216T130000
DTEND;TZID=America/Regina:20210216T140000
DTSTAMP:20260423T152627
CREATED:20210201T162605Z
LAST-MODIFIED:20210216T150546Z
UID:10000214-1613480400-1613484000@livingskiesrc.ca
SUMMARY:Ministry Personnel Gatherings
DESCRIPTION:Ministry Personnel are warmly invited to attend any or all gatherings.  Today\, Mardi Gras and gratitude. \nJoin Zoom Meeting: \nhttps://united-church.zoom.us/j/97027021739?pwd=WXMvQXdsMmlTRGRnT1dwVTRHSE5iUT09
URL:https://livingskiesrc.ca/event/ministry-personnel-gatherings-15/
LOCATION:Zoom
CATEGORIES:Regional Events
END:VEVENT
BEGIN:VEVENT
DTSTART;TZID=America/Regina:20210217T130000
DTEND;TZID=America/Regina:20210217T140000
DTSTAMP:20260423T152627
CREATED:20210112T202117Z
LAST-MODIFIED:20210112T202320Z
UID:10000044-1613566800-1613570400@livingskiesrc.ca
SUMMARY:Zoom Bible Study - Lectionary Based
DESCRIPTION:Zoom Bible Study\nbeginning February 3 and happening every Wednesday at 1pm.\n\nAn opportunity to read\, learn\, and discuss the Bible with other UCCan folks. Each week we will engage with one of the lectionary passage for the upcoming Sunday.\n\nTo register follow this link:\nhttps://us02web.zoom.us/…/tZcpcOmsqzorGtbNopaMhsmCZ8bjZ…\nAfter registering\, you will receive a confirmation email containing information about joining the meeting.
URL:https://livingskiesrc.ca/event/zoom-bible-study-lectionary/2021-02-17/
LOCATION:Online Event
CATEGORIES:Community of Faith Events,Events
ATTACH;FMTTYPE=image/jpeg:https://livingskiesrc.ca/wp-content/uploads/2021/01/Wed-bible-study.jpg
ORGANIZER;CN="Laura Fouhse":MAILTO:laura@mcclureunitedchurch.org
END:VEVENT
BEGIN:VEVENT
DTSTART;TZID=America/Regina:20210217T183000
DTEND;TZID=America/Regina:20210217T200000
DTSTAMP:20260423T152627
CREATED:20210104T150656Z
LAST-MODIFIED:20210504T172844Z
UID:10000180-1613586600-1613592000@livingskiesrc.ca
SUMMARY:Zoom Gathering for Young Adults (18-35 yrs)
DESCRIPTION:ALL ARE TRULY WELCOME\nEvery Wednesday at 6:30pm \na safe space for open-minded\, faith-based and engaging conversation. \nContact Rev. Laura Fouhse for the ZOOM link: \n\nText 306-291-5838\nE-mail laura@mcclureunitedchurch.org
URL:https://livingskiesrc.ca/event/zoom-gathering-for-young-adults-18-35-yrs/2021-02-17/
LOCATION:Online Event
CATEGORIES:Events,Regional Events,YAYAC
ATTACH;FMTTYPE=image/jpeg:https://livingskiesrc.ca/wp-content/uploads/2021/01/YA-Group-Wednesdays.jpg
ORGANIZER;CN="Laura Fouhse":MAILTO:laura@mcclureunitedchurch.org
END:VEVENT
BEGIN:VEVENT
DTSTART;TZID=America/Regina:20210217T183000
DTEND;TZID=America/Regina:20210217T200000
DTSTAMP:20260423T152627
CREATED:20230117T234320Z
LAST-MODIFIED:20230117T234320Z
UID:10000201-1613586600-1613592000@livingskiesrc.ca
SUMMARY:Zoom Gathering for Young Adults (18-35 yrs)
DESCRIPTION:ALL ARE TRULY WELCOME\nEvery Wednesday at 6:30pm \na safe space for open-minded\, faith-based and engaging conversation. \nContact Rev. Laura Fouhse for the ZOOM link: \n\nText 306-291-5838\nE-mail laura@mcclureunitedchurch.org
URL:https://livingskiesrc.ca/event/zoom-gathering-for-young-adults-18-35-yrs/2021-02-17/
LOCATION:Online Event
CATEGORIES:Events,Regional Events,YAYAC
ATTACH;FMTTYPE=image/jpeg:https://livingskiesrc.ca/wp-content/uploads/2021/01/YA-Group-Wednesdays.jpg
ORGANIZER;CN="Laura Fouhse":MAILTO:laura@mcclureunitedchurch.org
END:VEVENT
BEGIN:VEVENT
DTSTART;TZID=America/Regina:20210217T190000
DTEND;TZID=America/Regina:20210217T203000
DTSTAMP:20260423T152627
CREATED:20201006T153852Z
LAST-MODIFIED:20201006T153852Z
UID:10000147-1613588400-1613593800@livingskiesrc.ca
SUMMARY:Faithfulness in Pandemic Times: Journeying with Lot’s Wife
DESCRIPTION:Together using the story of Lot’s Wife and the videos of Diane Strickland we will explore the experience of living in a pandemic as well as what it means to “be church” in these times.
URL:https://livingskiesrc.ca/event/faithfulness-in-pandemic-times-journeying-with-lots-wife/2021-02-17/
LOCATION:Zoom
CATEGORIES:Community of Faith Events,COVID-19
ATTACH;FMTTYPE=image/jpeg:https://livingskiesrc.ca/wp-content/uploads/2020/10/E2AE7392-0ACC-4652-86DC-64D60928DFD4.jpeg
END:VEVENT
END:VCALENDAR