BEGIN:VCALENDAR
VERSION:2.0
PRODID:-//Living Skies Regional Council - ECPv6.15.20//NONSGML v1.0//EN
CALSCALE:GREGORIAN
METHOD:PUBLISH
X-WR-CALNAME:Living Skies Regional Council
X-ORIGINAL-URL:https://livingskiesrc.ca
X-WR-CALDESC:Events for Living Skies Regional Council
REFRESH-INTERVAL;VALUE=DURATION:PT1H
X-Robots-Tag:noindex
X-PUBLISHED-TTL:PT1H
BEGIN:VTIMEZONE
TZID:America/Regina
BEGIN:STANDARD
TZOFFSETFROM:-0600
TZOFFSETTO:-0600
TZNAME:CST
DTSTART:20190101T000000
END:STANDARD
END:VTIMEZONE
BEGIN:VEVENT
DTSTART;TZID=America/Regina:20201123T130000
DTEND;TZID=America/Regina:20201123T170000
DTSTAMP:20260421T062911
CREATED:20201016T154319Z
LAST-MODIFIED:20201104T210241Z
UID:10000152-1606136400-1606150800@livingskiesrc.ca
SUMMARY:Advent Conversations Around the Fire: Igniting Sparks of Creative Contemplation on Hope\, Peace\, Joy and Love
DESCRIPTION:A zoom based retreat that offers time to reflect on advent themes around the light of a candle\, express the themes creatively at a contemplative pace\, and harvest deeper awareness about hope\, peace\, joy and love through sharing together. We will spend the first hour on zoom sharing and reflecting on stories \, poems\, songs\, quotes\, symbols\, meditations and/or experiences that focus on each of the themes on separate days\, followed by a couple of hours to go off and contemplate and create. The last hour will be spent back on zoom for a time of sharing which will help us continue reflecting with greater depth as we create an advent altar to guide us spiritually through each week. Upon leaving\, we will have many new insights sparked by wonderful conversations and creative expressions that began around the light of a candle\, which we can integrate into our personal lives and/or worship planning. Pre-register by November 9 by emailing Marg Janick-Grayston at: marg@freeflowwellness.ca
URL:https://livingskiesrc.ca/event/advent-conversations-around-the-fire-igniting-sparks-of-creative-contemplation-on-hope-peace-joy-and-love/2020-11-23/
LOCATION:Zoom
CATEGORIES:Community of Faith Events
ORGANIZER;CN="Marg Janick-Grayston  Free Flow Wellness":MAILTO:marg@freeflowwellness.ca
END:VEVENT
BEGIN:VEVENT
DTSTART;TZID=America/Regina:20201124T130000
DTEND;TZID=America/Regina:20201124T140000
DTSTAMP:20260421T062911
CREATED:20201118T181109Z
LAST-MODIFIED:20201118T181109Z
UID:10000025-1606222800-1606226400@livingskiesrc.ca
SUMMARY:Ministry Personnel Gatherings
DESCRIPTION:Today we will be returning to the regular 60 minute length.  We will also be joined by Shawn Sandford Beck\, new Recruitment Officer from St. Andrew’s College. \nFor the Advent season\, we will spend time together working through the themes of hope (today)\, peace (Dec.1)\, joy (Dec. 8) and love (Dec. 15). \nMinistry Personnel are warmly invited to attend any or all gatherings; be sure to have a candle nearby to light together. \nJoin Zoom Meeting\nhttps://united-church.zoom.us/j/93146504904?pwd=SVAyLyt1YmUxRktVYnJibVpiR2h4QT09
URL:https://livingskiesrc.ca/event/ministry-personnel-gatherings-5/
LOCATION:Zoom
CATEGORIES:Regional Events
END:VEVENT
BEGIN:VEVENT
DTSTART;TZID=America/Regina:20201126T100000
DTEND;TZID=America/Regina:20201126T110000
DTSTAMP:20260421T062911
CREATED:20201120T221932Z
LAST-MODIFIED:20201120T221932Z
UID:10000165-1606384800-1606388400@livingskiesrc.ca
SUMMARY:Health and Dental Benefit Plan Premium Increases Conversation
DESCRIPTION:In response to concerns raised about the significant increase in the premiums for the UCC Benefit Plan the Ministry Personnel Support Committee has set up a zoom conversation with GCO reps Alan Hall (Executive Officer for Ministry and Employment) and Kira Tarasevici (Manager of Pension & Benefits).  Anyone who would like to be part of the conversation is invited to attend the meeting.  This will be a time to hear the rationale behind the increase\, to voice your concerns\, and to find a way forward.  The meeting will be at 10:00 am Thursday November 26th.  The link to the meeting is: \nhttps://united-church.zoom.us/j/97186255599?pwd=NmwreDQrT3NTRTJQY1JkZm16RDI0QT09 ; *Please use local number when feasible (especially if you have unlimited long distance calling) to save costs for the church. * 1-647-374-4685; Toll-free 1- 855-703-8985    Meeting ID: 971 8625 5599 \nPassword: 351433
URL:https://livingskiesrc.ca/event/health-and-dental-benefit-plan-premium-increases-conversation/
LOCATION:Zoom
CATEGORIES:Regional Events
END:VEVENT
END:VCALENDAR