BEGIN:VCALENDAR
VERSION:2.0
PRODID:-//Living Skies Regional Council - ECPv6.15.20//NONSGML v1.0//EN
CALSCALE:GREGORIAN
METHOD:PUBLISH
X-WR-CALNAME:Living Skies Regional Council
X-ORIGINAL-URL:https://livingskiesrc.ca
X-WR-CALDESC:Events for Living Skies Regional Council
REFRESH-INTERVAL;VALUE=DURATION:PT1H
X-Robots-Tag:noindex
X-PUBLISHED-TTL:PT1H
BEGIN:VTIMEZONE
TZID:America/Regina
BEGIN:STANDARD
TZOFFSETFROM:-0600
TZOFFSETTO:-0600
TZNAME:CST
DTSTART:20190101T000000
END:STANDARD
END:VTIMEZONE
BEGIN:VEVENT
DTSTART;TZID=America/Regina:20200324T130000
DTEND;TZID=America/Regina:20200324T143000
DTSTAMP:20260423T042303
CREATED:20200316T222841Z
LAST-MODIFIED:20200331T190042Z
UID:10000065-1585054800-1585060200@livingskiesrc.ca
SUMMARY:Zoom Meeting for Ministry Personnel only
DESCRIPTION:This meeting will be a supportive space for ministry personnel to gather with  your pastoral relations minister and possibly members of the Committee of Support to Ministry Personnel. \nThis meeting is scheduled for Living Skies Regional Council: \nLiving Skies: 1:00 PM Saskatchewan. Every week on Tuesday at this time\, until further notice. https://united-church.zoom.us/j/705926119\n \nThe meeting ID you’ll need is the number that’s in the link above.  Toll free number for everyone who has limited connectivity: 1-855-703-8985. PLEASE NOTE: please arrive on time. The meeting may be locked for security purposes five to ten minutes after the start. 
URL:https://livingskiesrc.ca/event/zoom-meeting-for-ministry-personnel-only/2020-03-24/
CATEGORIES:Regional Events
ATTACH;FMTTYPE=image/jpeg:https://livingskiesrc.ca/wp-content/uploads/2020/02/Canva-Tealight-Candles-Lit-Photo-by-Zac-Frith-scaled-e1585166508956.jpg
END:VEVENT
BEGIN:VEVENT
DTSTART;TZID=America/Regina:20200325T183000
DTEND;TZID=America/Regina:20200325T200000
DTSTAMP:20260423T042303
CREATED:20200323T195857Z
LAST-MODIFIED:20200323T200838Z
UID:10000076-1585161000-1585166400@livingskiesrc.ca
SUMMARY:Zoom meeting for lay leadership
DESCRIPTION:Pastoral Charge Supervisors\, Board and Council members\, M&P committee members\, pastoral care teams\, and more.  All welcome.  These will be supportive spaces for lay leadership to gather with pastoral relations ministers\, the Executive Minister\, and possibly members of the Committee of Support to Communities of Faith. \nWednesdays at 5:30 PM in BC; 6:30 PM AB\, SK\, NWT; 7:30 MB and NW Ontario.  Some meetings will have specific resource people and others will be check ins. \nMarch 25: Treasurers especially take note!  Meeting with Erik Mathiesen\, the United Church’s Chief Financial\nhttps://united-church.zoom.us/j/978525442     Meeting ID: 978 525 442
URL:https://livingskiesrc.ca/event/zoom-meeting-for-lay-leadership-3/
CATEGORIES:Community of Faith Events,Regional Events
END:VEVENT
BEGIN:VEVENT
DTSTART;TZID=America/Regina:20200327T193000
DTEND;TZID=America/Regina:20200328T153000
DTSTAMP:20260423T042303
CREATED:20200312T161244Z
LAST-MODIFIED:20200319T145540Z
UID:10000130-1585337400-1585409400@livingskiesrc.ca
SUMMARY:POSTPONED - Joy Workshop
DESCRIPTION:This event has been post-poned until further notice. \nWhat if “JOY” is something we can choose\, cultivate and practice? In this weekend session\, let’s take time to define JOY for ourselves\, reflect on what scriptures tell us about it\, and explore ways to experience more JOY in our daily lives!! Bring a journal or notebook and pen to jot down your own thoughts during this workshop. Our presenter is Rev. Shelly Manley-Tannis from Saskatoon.  Lunch on Saturday\, snacks and refreshments for Friday evening and Saturday are provided. Please register so there are enough resources. Phone 306-862-4108 Tues. to Friday from 9 a.m. to 1 p.m. or email: bridgingwaters@sasktel.net with name\, contact info.\, etc.
URL:https://livingskiesrc.ca/event/joy-workshop/
LOCATION:Nipawin United Church\, Nipawin\, Saskatchewan\, S0E 1E0\, Canada
CATEGORIES:Community of Faith Events
END:VEVENT
END:VCALENDAR