BEGIN:VCALENDAR
VERSION:2.0
PRODID:-//Living Skies Regional Council - ECPv6.15.20//NONSGML v1.0//EN
CALSCALE:GREGORIAN
METHOD:PUBLISH
X-WR-CALNAME:Living Skies Regional Council
X-ORIGINAL-URL:https://livingskiesrc.ca
X-WR-CALDESC:Events for Living Skies Regional Council
REFRESH-INTERVAL;VALUE=DURATION:PT1H
X-Robots-Tag:noindex
X-PUBLISHED-TTL:PT1H
BEGIN:VTIMEZONE
TZID:America/Regina
BEGIN:STANDARD
TZOFFSETFROM:-0600
TZOFFSETTO:-0600
TZNAME:CST
DTSTART:20240101T000000
END:STANDARD
END:VTIMEZONE
BEGIN:VEVENT
DTSTART;TZID=America/Regina:20251018T170000
DTEND;TZID=America/Regina:20251018T190000
DTSTAMP:20260423T163144
CREATED:20250924T162542Z
LAST-MODIFIED:20250924T162542Z
UID:10001711-1760806800-1760814000@livingskiesrc.ca
SUMMARY:Roast Beef Supper
DESCRIPTION:Annual fall supper fundraiser at Grace United Church in Meadow Lake
URL:https://livingskiesrc.ca/event/roast-beef-supper/
LOCATION:Meadow Lake: Grace United Church\, 502 6th Ave. W.\, Meadow Lake\, S9X1C1
CATEGORIES:Community of Faith Events
ATTACH;FMTTYPE=image/jpeg:https://livingskiesrc.ca/wp-content/uploads/2025/09/2025-Fall-supper.jpg
ORGANIZER;CN="Meadow Lake%3A Grace United Church":MAILTO:secretaryguc@sasktel.net
END:VEVENT
END:VCALENDAR