BEGIN:VCALENDAR
VERSION:2.0
PRODID:-//Living Skies Regional Council - ECPv6.15.20//NONSGML v1.0//EN
CALSCALE:GREGORIAN
METHOD:PUBLISH
X-WR-CALNAME:Living Skies Regional Council
X-ORIGINAL-URL:https://livingskiesrc.ca
X-WR-CALDESC:Events for Living Skies Regional Council
REFRESH-INTERVAL;VALUE=DURATION:PT1H
X-Robots-Tag:noindex
X-PUBLISHED-TTL:PT1H
BEGIN:VTIMEZONE
TZID:America/Regina
BEGIN:STANDARD
TZOFFSETFROM:-0600
TZOFFSETTO:-0600
TZNAME:CST
DTSTART:20240101T000000
END:STANDARD
END:VTIMEZONE
BEGIN:VEVENT
DTSTART;TZID=America/Regina:20250808T083000
DTEND;TZID=America/Regina:20250808T110000
DTSTAMP:20260422T044047
CREATED:20250729T182246Z
LAST-MODIFIED:20250730T193101Z
UID:10001675-1754641800-1754650800@livingskiesrc.ca
SUMMARY:In-person community: United Church’s Apology to 2SLGBTQIA+ people
DESCRIPTION:Grosvenor Park United Church invites you to attend a viewing of the United Church’s Apology to Two Spirit and LGBTQIA+ people within a warm\, caring Circle of Support\, August 8\, 2025. \nJoin us at 407 Cumberland Avenue S\, Saskatoon SK to participate online in worship and the formal Apology from the United Church of Canada. *Grosvenor Park United Church is an Affirming Community of Faith.* This is open to all. You do not need to be part of the United Church to join the circle. \nSchedule:\n8:30am Central Standard (SK) Time – Doors open / Gathering: refreshments\n9am The Apology: Witness the Apology via livestream\, in the lounge\, off the Sanctuary. \nAfter the Apology\, you are invited to stay as long as you need in silence or in quiet conversations. \nFor accessible church entrances\, please watch the following video. http://gpuc.ca/church-entry. \nThere is major construction around the church\, so please leave lots of time to arrive.  Limited parking is available in the parking lot to the east of the church. \nHere is more background on the United Church’s apology. \nMore details on the participation options on August 8. \nOverview of the Apology’s process of creation.
URL:https://livingskiesrc.ca/event/in-person-community-united-churchs-apology-to-2slgbtqia-people-2/
LOCATION:Grosvenor Park United Church\, Saskatoon SK\, 407 Cumberland Ave South\, Saskatoon\, S7h 2L3
CATEGORIES:Community of Faith Events,Intercultural,Justice,LGBTQIA+ Affirming,Regional Events
ATTACH;FMTTYPE=image/png:https://livingskiesrc.ca/wp-content/uploads/2025/07/apology_2s-lgbtqia_promo-GC45.png
ORGANIZER;CN="Grosvenor Park United Church%2C Saskatoon SK":MAILTO:gpuc@sasktel.net
END:VEVENT
BEGIN:VEVENT
DTSTART;TZID=America/Regina:20250812T193000
DTEND;TZID=America/Regina:20250812T210000
DTSTAMP:20260422T044047
CREATED:20250603T193020Z
LAST-MODIFIED:20250603T193020Z
UID:10001646-1755027000-1755032400@livingskiesrc.ca
SUMMARY:GreenSpirit Full Moon Ceremony
DESCRIPTION:Join us for an evening of wisdom-seeking and mutual encouragement in circle together\, summoned by the rhythm of the moon. Held at Grosvenor Park United Church in Saskatoon from 7:30 – 9pm every month on or very close to the full moon. \nUpcoming Full Moon Ceremonies:  September 7\, October 6\, November 4\, and December 4. \nFor more information\, please contact Shawn Sanford Beck at greenpriest@hotmail.ca
URL:https://livingskiesrc.ca/event/greenspirit-full-moon-ceremony-6/
LOCATION:Grosvenor Park United Church\, Saskatoon SK\, 407 Cumberland Ave South\, Saskatoon\, S7h 2L3
CATEGORIES:Community of Faith Events
ATTACH;FMTTYPE=image/png:https://livingskiesrc.ca/wp-content/uploads/2025/01/ai-generated-8463987_12801.png
ORGANIZER;CN="GreenSpirit Chaplaincy":MAILTO:greenpriest@hotmail.ca
END:VEVENT
BEGIN:VEVENT
DTSTART;TZID=America/Regina:20250827T190000
DTEND;TZID=America/Regina:20250827T200000
DTSTAMP:20260422T044047
CREATED:20250728T151611Z
LAST-MODIFIED:20250728T151611Z
UID:10001674-1756321200-1756324800@livingskiesrc.ca
SUMMARY:Unmarked Graves Reading Group
DESCRIPTION:Our next Zoom meeting for the Unmarked graves Reading Group will be on Wed. August 27 7 pm CST (Saskatchewan). We’re focusing this time on pages 120-149 of the executive summary – please read before the meeting. We will begin with a time of reading short excerpts which have touched us\, with silence before we begin. \nWe intend to read and reflect on the Special Interlocutor’s Final Report\, starting with the Executive Summary\, in order to learn more about the missing and disappeared Indigenous children who never came home from IRS institutions. We want to learn about the Interlocutor’s recommendations on “identifying obligations that must be met to implement an Indigenous-led Reparations Framework for truth\, accountability\, justice and reconciliation.” Anyone is welcome to join via Zoom.
URL:https://livingskiesrc.ca/event/unmarked-graves-reading-group-3/
LOCATION:Zoom\, Alberta\, Canada
CATEGORIES:Right Relations
ATTACH;FMTTYPE=image/jpeg:https://livingskiesrc.ca/wp-content/uploads/2025/07/Unmarked-Graves-Reading-Group-Aug-27-2025.jpg
ORGANIZER;CN="Grosvenor Park United Church%2C Saskatoon SK":MAILTO:gpuc@sasktel.net
END:VEVENT
BEGIN:VEVENT
DTSTART;TZID=America/Regina:20250902T130000
DTEND;TZID=America/Regina:20250902T143000
DTSTAMP:20260422T044047
CREATED:20250716T165423Z
LAST-MODIFIED:20250716T165423Z
UID:10001657-1756818000-1756823400@livingskiesrc.ca
SUMMARY:Ministry Personnel Gathering
DESCRIPTION:Ministry Personnel are warmly invited to join colleagues over Zoom for conversation\, support and information sharing. \nJoin the Zoom meeting at:  https://united-church.zoom.us/j/86173732513?pwd=A5pBZKbdE2dj7OgTpY5Zc6palhUNNS.1  \n  \n  \n  \n 
URL:https://livingskiesrc.ca/event/ministry-personnel-gathering-186/
LOCATION:Zoom
CATEGORIES:Pastoral Relations,Regional Events
END:VEVENT
BEGIN:VEVENT
DTSTART;TZID=America/Regina:20250906T103000
DTEND;TZID=America/Regina:20250906T163000
DTSTAMP:20260422T044047
CREATED:20250731T204311Z
LAST-MODIFIED:20250731T204311Z
UID:10001677-1757154600-1757176200@livingskiesrc.ca
SUMMARY:Decolonizing Ourselves: Residential School Tour and Our Future in Treaty
DESCRIPTION:Saturday 6 September 10:30AM-4:30PM MDT/ CST. Please join KAIROS Prairies North for a day that will include a tour of the former Blue Quills Indian Residential School building led by survivors/Elders\, lunch\, and learning about Treaty. All welcome! This in-person only event is within a reasonable drive of the Edmonton area to the west and the Battlefords area to the east. \nLocation: University nuhelot’įne thaiyots’į nistameyimâkanak Blue Quills https://maps.app.goo.gl/XSB36ayBQbZMbxKh7 \nThis gathering is hosted by the KAIROS Prairies North Decolonization Group with gratitude to our community partners\, in particular University nuhelot’įne thaiyots’į nistameyimâkanak Blue Quills and the United Church of Canada’s Reconciliation and Justice Fund. This gathering is free of charge\, including lunch. We do ask you to register\, please\, so we know numbers and can send you material. \nOptional free transportation (carpooling) from Edmonton will be offered and details will follow by email. \nRegistration: \nhttps://kairoscanada.org/event/decolonizing-ourselves-residential-school-tour-and-our-future-in-treaty
URL:https://livingskiesrc.ca/event/decolonizing-ourselves-residential-school-tour-and-our-future-in-treaty/
LOCATION:Blue Quills University\, AB\, Canada
CATEGORIES:Regional Events,Right Relations
ATTACH;FMTTYPE=image/jpeg:https://livingskiesrc.ca/wp-content/uploads/2025/07/Poster-KAIROS-Treaty-event-6Sept2025.jpg
END:VEVENT
BEGIN:VEVENT
DTSTART;TZID=America/Regina:20250907T193000
DTEND;TZID=America/Regina:20250907T210000
DTSTAMP:20260422T044047
CREATED:20250603T193155Z
LAST-MODIFIED:20250603T193155Z
UID:10001647-1757273400-1757278800@livingskiesrc.ca
SUMMARY:GreenSpirit Full Moon Ceremony
DESCRIPTION:Join us for an evening of wisdom-seeking and mutual encouragement in circle together\, summoned by the rhythm of the moon. Held at Grosvenor Park United Church in Saskatoon from 7:30 – 9pm every month on or very close to the full moon. \nUpcoming Full Moon Ceremonies:  October 6\, November 4\, and December 4. \nFor more information\, please contact Shawn Sanford Beck at greenpriest@hotmail.ca
URL:https://livingskiesrc.ca/event/greenspirit-full-moon-ceremony-7/
LOCATION:Grosvenor Park United Church\, Saskatoon SK\, 407 Cumberland Ave South\, Saskatoon\, S7h 2L3
CATEGORIES:Community of Faith Events
ATTACH;FMTTYPE=image/png:https://livingskiesrc.ca/wp-content/uploads/2025/01/ai-generated-8463987_12801.png
ORGANIZER;CN="GreenSpirit Chaplaincy":MAILTO:greenpriest@hotmail.ca
END:VEVENT
BEGIN:VEVENT
DTSTART;TZID=America/Regina:20250909T130000
DTEND;TZID=America/Regina:20250909T143000
DTSTAMP:20260422T044047
CREATED:20250716T165534Z
LAST-MODIFIED:20250716T165534Z
UID:10001658-1757422800-1757428200@livingskiesrc.ca
SUMMARY:Ministry Personnel Gathering
DESCRIPTION:Ministry Personnel are warmly invited to join colleagues over Zoom for conversation\, support and information sharing. \nJoin the Zoom meeting at:  https://united-church.zoom.us/j/86173732513?pwd=A5pBZKbdE2dj7OgTpY5Zc6palhUNNS.1  \n  \n  \n  \n 
URL:https://livingskiesrc.ca/event/ministry-personnel-gathering-187/
LOCATION:Zoom
CATEGORIES:Pastoral Relations,Regional Events
END:VEVENT
BEGIN:VEVENT
DTSTART;TZID=America/Regina:20250913T140000
DTEND;TZID=America/Regina:20250913T160000
DTSTAMP:20260422T044047
CREATED:20250904T201913Z
LAST-MODIFIED:20250910T145412Z
UID:10001682-1757772000-1757779200@livingskiesrc.ca
SUMMARY:RNOM Traditional Feast of Thanksgiving for Truth & Reconciliation
DESCRIPTION:Saturday\, Sept 13\, 2025 at 2pm\nKnox Met United Church\, 2340 Victoria Ave(Use Victoria Ave entrance)\nWith Rev/Elder Deb Anderson-Pratt \nFeasts are a time for sharing a meal\, socializing\, and expressing gratitude to community members\, ancestors\, and spirits who have helped. \nIf you are able\, bring food to share\, a blanket to sit on and a feast bundle (a plate or bowl\, cutlery\, a cup\, and a bag to carry these items in). \nAll are welcome. \nFor more information see video on Regina Native Outreach Ministry’s facebook page.
URL:https://livingskiesrc.ca/event/rnom-traditional-feast-of-thanksgiving-for-truth-reconciliation/
LOCATION:Knox-Metropolitan United Church\, 2340 Victoria Ave\, Regina\, SK
CATEGORIES:Community of Faith Events,Events
ATTACH;FMTTYPE=image/jpeg:https://livingskiesrc.ca/wp-content/uploads/2025/09/Feast-2025.jpg
ORGANIZER;CN="Regina Native Outreach Ministry":MAILTO:reginanativeoutreachministry@gmail.com
END:VEVENT
BEGIN:VEVENT
DTSTART;TZID=America/Regina:20250916T130000
DTEND;TZID=America/Regina:20250916T143000
DTSTAMP:20260422T044047
CREATED:20250716T170324Z
LAST-MODIFIED:20250716T170324Z
UID:10001659-1758027600-1758033000@livingskiesrc.ca
SUMMARY:Ministry Personnel Gathering
DESCRIPTION:Ministry Personnel are warmly invited to join colleagues over Zoom for conversation\, support and information sharing. \nJoin the Zoom meeting at:  https://united-church.zoom.us/j/86173732513?pwd=A5pBZKbdE2dj7OgTpY5Zc6palhUNNS.1  \n  \n  \n  \n 
URL:https://livingskiesrc.ca/event/ministry-personnel-gathering-188/
LOCATION:Zoom
CATEGORIES:Pastoral Relations,Regional Events
END:VEVENT
BEGIN:VEVENT
DTSTART;TZID=America/Regina:20250917T130000
DTEND;TZID=America/Regina:20250917T143000
DTSTAMP:20260422T044047
CREATED:20250911T161935Z
LAST-MODIFIED:20250911T161935Z
UID:10001686-1758114000-1758119400@livingskiesrc.ca
SUMMARY:Online Bible Study
DESCRIPTION:Click here to join:   https://bit.ly/41Vh93V
URL:https://livingskiesrc.ca/event/online-bible-study/2025-09-17/
CATEGORIES:Regional Events
ATTACH;FMTTYPE=image/png:https://livingskiesrc.ca/wp-content/uploads/2025/09/RCBible-Study-2025.png
END:VEVENT
BEGIN:VEVENT
DTSTART;TZID=America/Regina:20250917T190000
DTEND;TZID=America/Regina:20250917T203000
DTSTAMP:20260422T044047
CREATED:20250911T163121Z
LAST-MODIFIED:20250911T163121Z
UID:10001699-1758135600-1758141000@livingskiesrc.ca
SUMMARY:M&P 101
DESCRIPTION:Let’s start the fall well supporting our staff.  Join other ministry and personnel committee members for a time of learning and sharing of best practices.   Contact Bev Diebert at bdiebert@united-church.ca to register.
URL:https://livingskiesrc.ca/event/mp-101/
CATEGORIES:Pastoral Relations,Regional Events
END:VEVENT
BEGIN:VEVENT
DTSTART;TZID=America/Regina:20250919T100000
DTEND;TZID=America/Regina:20250920T160000
DTSTAMP:20260422T044048
CREATED:20250912T210330Z
LAST-MODIFIED:20250912T210330Z
UID:10001706-1758276000-1758384000@livingskiesrc.ca
SUMMARY:Langenburg United Church Fall Sale
DESCRIPTION:Clothing and basement sale
URL:https://livingskiesrc.ca/event/langenburg-united-church-fall-sale/
LOCATION:Langenburg United Church\, Langenburg\, Saskatchewan\, S0A 2A0
CATEGORIES:Community of Faith Events
ATTACH;FMTTYPE=image/jpeg:https://livingskiesrc.ca/wp-content/uploads/2025/09/Fall-Poster-2025-1.jpg
END:VEVENT
BEGIN:VEVENT
DTSTART;TZID=America/Regina:20250923T130000
DTEND;TZID=America/Regina:20250923T140000
DTSTAMP:20260422T044048
CREATED:20250716T164948Z
LAST-MODIFIED:20250905T220437Z
UID:10001656-1758632400-1758636000@livingskiesrc.ca
SUMMARY:Ministry Personnel Prayer Gathering - a time to connect
DESCRIPTION:All ministry personnel – active\, retired\, honorary associates\, and candidates in appointment are warmly invited to a one-hour online gathering of connection\, prayer and communion. \nBring along: something to eat if it’s your lunch hour (sharing optional 😊); communion elements\, and a candle (or anything that helps you center yourself) \nHere is the Zoom link.  It’s the same link each month\, \nhttps://united-church.zoom.us/j/88536612018 \nThis is a simple space to pause\, breathe\, and remember we are not alone in ministry.  Come for prayer\, community\, and the gift of communion shared across our regions.
URL:https://livingskiesrc.ca/event/ministry-personnel-prayer-gathering-6/
LOCATION:Zoom
CATEGORIES:Regional Events
END:VEVENT
BEGIN:VEVENT
DTSTART;TZID=America/Regina:20250924T130000
DTEND;TZID=America/Regina:20250924T143000
DTSTAMP:20260422T044048
CREATED:20250911T161935Z
LAST-MODIFIED:20250911T161935Z
UID:10001687-1758718800-1758724200@livingskiesrc.ca
SUMMARY:Online Bible Study
DESCRIPTION:Click here to join:   https://bit.ly/41Vh93V
URL:https://livingskiesrc.ca/event/online-bible-study/2025-09-24/
CATEGORIES:Regional Events
ATTACH;FMTTYPE=image/png:https://livingskiesrc.ca/wp-content/uploads/2025/09/RCBible-Study-2025.png
END:VEVENT
BEGIN:VEVENT
DTSTART;TZID=America/Regina:20250926T100000
DTEND;TZID=America/Regina:20250927T160000
DTSTAMP:20260422T044048
CREATED:20250912T210626Z
LAST-MODIFIED:20250912T210626Z
UID:10001707-1758880800-1758988800@livingskiesrc.ca
SUMMARY:Langenburg United Church Fall Sale
DESCRIPTION:Clothing and Basement Sale
URL:https://livingskiesrc.ca/event/langenburg-united-church-fall-sale-2/
LOCATION:Langenburg United Church\, Langenburg\, Saskatchewan\, S0A 2A0
CATEGORIES:Community of Faith Events
ATTACH;FMTTYPE=image/jpeg:https://livingskiesrc.ca/wp-content/uploads/2025/09/Fall-Poster-2025-2.jpg
END:VEVENT
BEGIN:VEVENT
DTSTART;TZID=America/Regina:20250930T063000
DTEND;TZID=America/Regina:20250930T200000
DTSTAMP:20260422T044048
CREATED:20250902T202001Z
LAST-MODIFIED:20250902T202001Z
UID:10001681-1759213800-1759262400@livingskiesrc.ca
SUMMARY:Unmarked Graves Reading Group
DESCRIPTION:Our next Zoom meeting for the Unmarked graves Reading Group will be on Tuesday Sept 30 at 6:30 pm CST (Saskatchewan). We’re focusing this time on pages 149-175 of the executive summary – please read before the meeting. We will begin with a time of reading short excerpts which have touched us\, with silence before we begin. \nWe intend to read and reflect on the Special Interlocutor’s Final Report\, starting with the Executive Summary\, in order to learn more about the missing and disappeared Indigenous children who never came home from IRS institutions. We want to learn about the Interlocutor’s recommendations on “identifying obligations that must be met to implement an Indigenous-led Reparations Framework for truth\, accountability\, justice and reconciliation.” Anyone is welcome to join via Zoom. \nthe link to join is gpuc.ca/osizoom\nand the link to the readings is gpuc.ca/osireport
URL:https://livingskiesrc.ca/event/unmarked-graves-reading-group-4/
CATEGORIES:Community of Faith Events
ATTACH;FMTTYPE=image/jpeg:https://livingskiesrc.ca/wp-content/uploads/2025/09/Unmarked-Graves-Reading-Group-Sep-30-2025.jpg
ORGANIZER;CN="Grosvenor Park United Church%2C Saskatoon SK":MAILTO:gpuc@sasktel.net
END:VEVENT
BEGIN:VEVENT
DTSTART;TZID=America/Regina:20250930T130000
DTEND;TZID=America/Regina:20250930T143000
DTSTAMP:20260422T044048
CREATED:20250716T170623Z
LAST-MODIFIED:20250919T194523Z
UID:10001660-1759237200-1759242600@livingskiesrc.ca
SUMMARY:Ministry Personnel Gathering - cancelled
DESCRIPTION:This session of  the Ministry Personnel Gathering has been cancelled.  This day is National Day for Truth and Reconciliation and has been declared a holiday for General Council / Regional Council staff by the General Council Office. \nYou are encouraged to find events and/or activities to enhance your knowledge of the meaning of this day. \n  \n  \n  \n  \n  \n 
URL:https://livingskiesrc.ca/event/ministry-personnel-gathering-189/
LOCATION:Zoom
CATEGORIES:Pastoral Relations,Regional Events
END:VEVENT
BEGIN:VEVENT
DTSTART;TZID=America/Regina:20251001T130000
DTEND;TZID=America/Regina:20251001T143000
DTSTAMP:20260422T044048
CREATED:20250911T161935Z
LAST-MODIFIED:20250911T161935Z
UID:10001688-1759323600-1759329000@livingskiesrc.ca
SUMMARY:Online Bible Study
DESCRIPTION:Click here to join:   https://bit.ly/41Vh93V
URL:https://livingskiesrc.ca/event/online-bible-study/2025-10-01/
CATEGORIES:Regional Events
ATTACH;FMTTYPE=image/png:https://livingskiesrc.ca/wp-content/uploads/2025/09/RCBible-Study-2025.png
END:VEVENT
BEGIN:VEVENT
DTSTART;TZID=America/Regina:20251003T100000
DTEND;TZID=America/Regina:20251004T160000
DTSTAMP:20260422T044048
CREATED:20250912T210828Z
LAST-MODIFIED:20250912T210828Z
UID:10001708-1759485600-1759593600@livingskiesrc.ca
SUMMARY:Langenburg United Church Fall Sale
DESCRIPTION:Clothing and Basement Sale
URL:https://livingskiesrc.ca/event/langenburg-united-church-fall-sale-3/
LOCATION:Langenburg United Church\, Langenburg\, Saskatchewan\, S0A 2A0
CATEGORIES:Community of Faith Events
ATTACH;FMTTYPE=image/jpeg:https://livingskiesrc.ca/wp-content/uploads/2025/09/Fall-Poster-2025-3.jpg
END:VEVENT
BEGIN:VEVENT
DTSTART;TZID=America/Regina:20251003T170000
DTEND;TZID=America/Regina:20251003T183000
DTSTAMP:20260422T044048
CREATED:20250828T152251Z
LAST-MODIFIED:20250828T152251Z
UID:10001680-1759510800-1759516200@livingskiesrc.ca
SUMMARY:St. James and Heritage United Churches Fall Supper
DESCRIPTION:Fall Supper\nFriday\, October 3\, 2025\nTo purchase tickets:\nCall 306 – 949 – 8377 or email heritage.uc@sasktel.net\nCall 306 – 543 – 2626 or email stjames.office@sasktel.net
URL:https://livingskiesrc.ca/event/st-james-and-heritage-united-churches-fall-supper/
LOCATION:Heritage United Church\, Regina\, 1050 North Arnason Street\, Regina\, S4X 4K9\, Canada
CATEGORIES:Community of Faith Events
ATTACH;FMTTYPE=image/jpeg:https://livingskiesrc.ca/wp-content/uploads/2025/08/Joint-Fall-Supper-2025-page0001.jpg
ORGANIZER;CN="Heritage United Church":MAILTO:heritage.uc@sasktel.net
END:VEVENT
BEGIN:VEVENT
DTSTART;TZID=America/Regina:20251003T190000
DTEND;TZID=America/Regina:20251003T210000
DTSTAMP:20260422T044048
CREATED:20250904T202101Z
LAST-MODIFIED:20250912T172725Z
UID:10001683-1759518000-1759525200@livingskiesrc.ca
SUMMARY:Benefit Concert in Biggar
DESCRIPTION:The Biggar United Church is hosting a Benefit concert to raise financial support for two local programs in our community – Farm in the Dell (residence for people with special needs) and our local Food Bank. Admission by attendance with light refreshments.
URL:https://livingskiesrc.ca/event/benefit-concert/
LOCATION:Biggar United Church\, 907 Quebec Street\, Biggar\, S0K0M0
CATEGORIES:Community of Faith Events
ORGANIZER;CN="Biggar United Church":MAILTO:unitedchurchbiggar907@gmail.com
END:VEVENT
BEGIN:VEVENT
DTSTART;TZID=America/Regina:20251004T140000
DTEND;TZID=America/Regina:20251004T163000
DTSTAMP:20260422T044048
CREATED:20250925T150029Z
LAST-MODIFIED:20250925T150029Z
UID:10001715-1759586400-1759595400@livingskiesrc.ca
SUMMARY:PALESTINE LAND EXERCISE
DESCRIPTION:The Palestine Land Exercise is a experiential learning tool that simulates the experience of late 19th century Palestinians to the present.
URL:https://livingskiesrc.ca/event/palestine-land-exercise/
LOCATION:Grosvenor Park United Church\, Saskatoon SK\, 407 Cumberland Ave South\, Saskatoon\, S7h 2L3
CATEGORIES:Community of Faith Events,Palestine and Israel
ATTACH;FMTTYPE=image/jpeg:https://livingskiesrc.ca/wp-content/uploads/2025/09/Palestine-Land-Exercise_Oct4.25-1-scaled.jpg
ORGANIZER;CN="Just Peace Palestine/Israel Network":MAILTO:ursula.wiig@sasktel.net
END:VEVENT
BEGIN:VEVENT
DTSTART;TZID=America/Regina:20251005T143000
DTEND;TZID=America/Regina:20251005T160000
DTSTAMP:20260422T044048
CREATED:20250912T152539Z
LAST-MODIFIED:20250912T152539Z
UID:10001705-1759674600-1759680000@livingskiesrc.ca
SUMMARY:Come Let Us Sing - A 100th Anniversary Concert
DESCRIPTION:Join us for a wonderful afternoon of United Church music while supporting local outreach ministries. \n  \n 
URL:https://livingskiesrc.ca/event/come-let-us-sing-a-100th-anniversary-concert/
LOCATION:Saskatoon: Grace Westminster United Church\, 505 - 10th St. E.\, Saskatoon\, Saskatchewan\, S7N 0E3\, Canada
CATEGORIES:100th Anniversary of the UCC,Regional Events
ATTACH;FMTTYPE=image/png:https://livingskiesrc.ca/wp-content/uploads/2025/09/100th-Anniversary-Concert-Poster-1.png
END:VEVENT
BEGIN:VEVENT
DTSTART;TZID=America/Regina:20251006T193000
DTEND;TZID=America/Regina:20251006T210000
DTSTAMP:20260422T044048
CREATED:20250603T193346Z
LAST-MODIFIED:20250603T193346Z
UID:10001648-1759779000-1759784400@livingskiesrc.ca
SUMMARY:GreenSpirit Full Moon Ceremony
DESCRIPTION:Join us for an evening of wisdom-seeking and mutual encouragement in circle together\, summoned by the rhythm of the moon. Held at Grosvenor Park United Church in Saskatoon from 7:30 – 9pm every month on or very close to the full moon. \nUpcoming Full Moon Ceremonies:  November 4\, and December 4. \nFor more information\, please contact Shawn Sanford Beck at greenpriest@hotmail.ca
URL:https://livingskiesrc.ca/event/greenspirit-full-moon-ceremony-8/
LOCATION:Grosvenor Park United Church\, Saskatoon SK\, 407 Cumberland Ave South\, Saskatoon\, S7h 2L3
CATEGORIES:Community of Faith Events
ATTACH;FMTTYPE=image/png:https://livingskiesrc.ca/wp-content/uploads/2025/01/ai-generated-8463987_12801.png
ORGANIZER;CN="GreenSpirit Chaplaincy":MAILTO:greenpriest@hotmail.ca
END:VEVENT
BEGIN:VEVENT
DTSTART;TZID=America/Regina:20251007T130000
DTEND;TZID=America/Regina:20251007T143000
DTSTAMP:20260422T044048
CREATED:20250716T170742Z
LAST-MODIFIED:20250716T170742Z
UID:10001661-1759842000-1759847400@livingskiesrc.ca
SUMMARY:Ministry Personnel Gathering
DESCRIPTION:Ministry Personnel are warmly invited to join colleagues over Zoom for conversation\, support and information sharing. \nJoin the Zoom meeting at:  https://united-church.zoom.us/j/86173732513?pwd=A5pBZKbdE2dj7OgTpY5Zc6palhUNNS.1  \n  \n  \n  \n 
URL:https://livingskiesrc.ca/event/ministry-personnel-gathering-190/
LOCATION:Zoom
CATEGORIES:Pastoral Relations,Regional Events
END:VEVENT
BEGIN:VEVENT
DTSTART;TZID=America/Regina:20251008T130000
DTEND;TZID=America/Regina:20251008T143000
DTSTAMP:20260422T044048
CREATED:20250911T161935Z
LAST-MODIFIED:20250911T161935Z
UID:10001689-1759928400-1759933800@livingskiesrc.ca
SUMMARY:Online Bible Study
DESCRIPTION:Click here to join:   https://bit.ly/41Vh93V
URL:https://livingskiesrc.ca/event/online-bible-study/2025-10-08/
CATEGORIES:Regional Events
ATTACH;FMTTYPE=image/png:https://livingskiesrc.ca/wp-content/uploads/2025/09/RCBible-Study-2025.png
END:VEVENT
BEGIN:VEVENT
DTSTART;TZID=America/Regina:20251009T190000
DTEND;TZID=America/Regina:20251009T210000
DTSTAMP:20260422T044048
CREATED:20250915T215931Z
LAST-MODIFIED:20250915T215931Z
UID:10001709-1760036400-1760043600@livingskiesrc.ca
SUMMARY:Crystal Journey
DESCRIPTION:Sonic Sound Concert . Paiste Gongs\, Persian Santoors\, Quartz Singing Bowls & Harmonica
URL:https://livingskiesrc.ca/event/crystal-journey/
CATEGORIES:Community of Faith Events
ATTACH;FMTTYPE=image/jpeg:https://livingskiesrc.ca/wp-content/uploads/2025/09/crystal-journey.jpg
END:VEVENT
BEGIN:VEVENT
DTSTART;TZID=America/Regina:20251014T130000
DTEND;TZID=America/Regina:20251014T143000
DTSTAMP:20260422T044048
CREATED:20250716T170900Z
LAST-MODIFIED:20250716T170900Z
UID:10001662-1760446800-1760452200@livingskiesrc.ca
SUMMARY:Ministry Personnel Gathering
DESCRIPTION:Ministry Personnel are warmly invited to join colleagues over Zoom for conversation\, support and information sharing. \nJoin the Zoom meeting at:  https://united-church.zoom.us/j/86173732513?pwd=A5pBZKbdE2dj7OgTpY5Zc6palhUNNS.1  \n  \n  \n  \n 
URL:https://livingskiesrc.ca/event/ministry-personnel-gathering-191/
LOCATION:Zoom
CATEGORIES:Pastoral Relations,Regional Events
END:VEVENT
BEGIN:VEVENT
DTSTART;TZID=America/Regina:20251015T130000
DTEND;TZID=America/Regina:20251015T143000
DTSTAMP:20260422T044048
CREATED:20250911T161935Z
LAST-MODIFIED:20250911T161935Z
UID:10001690-1760533200-1760538600@livingskiesrc.ca
SUMMARY:Online Bible Study
DESCRIPTION:Click here to join:   https://bit.ly/41Vh93V
URL:https://livingskiesrc.ca/event/online-bible-study/2025-10-15/
CATEGORIES:Regional Events
ATTACH;FMTTYPE=image/png:https://livingskiesrc.ca/wp-content/uploads/2025/09/RCBible-Study-2025.png
END:VEVENT
BEGIN:VEVENT
DTSTART;TZID=America/Regina:20251015T130000
DTEND;TZID=America/Regina:20251015T143000
DTSTAMP:20260422T044048
CREATED:20251003T164743Z
LAST-MODIFIED:20251003T164743Z
UID:10001719-1760533200-1760538600@livingskiesrc.ca
SUMMARY:Equipping the Saints
DESCRIPTION:Equipping the Saints: Pastoral Care for patients and Families affected by Alzheimer’s and Dementia \nOur guest speaker will be Nancy Styles.  Nancy is a retired registered nurse with 24 years of experience caring for patients and families affected by a variety of forms of dementia.  She is a Licensed Lay Worship Leader with the United Church offering regular ministry at Stoughton\, New Hope Nursing Home and Ceylon and occasionally at Yellow Grass\, Minton and Creelman.  She provides music at Parkway Nursing Home monthly.  We hope that you will join with Living Skies\, our Hospital Chaplains\, and with Nancy for this time of learning and discussion. \nTo register\, please contact Bev Diebert at bdiebert@united-church.ca
URL:https://livingskiesrc.ca/event/equipping-the-saints-2/
LOCATION:Zoom
CATEGORIES:Regional Events
END:VEVENT
END:VCALENDAR