BEGIN:VCALENDAR
VERSION:2.0
PRODID:-//Living Skies Regional Council - ECPv6.15.20//NONSGML v1.0//EN
CALSCALE:GREGORIAN
METHOD:PUBLISH
X-WR-CALNAME:Living Skies Regional Council
X-ORIGINAL-URL:https://livingskiesrc.ca
X-WR-CALDESC:Events for Living Skies Regional Council
REFRESH-INTERVAL;VALUE=DURATION:PT1H
X-Robots-Tag:noindex
X-PUBLISHED-TTL:PT1H
BEGIN:VTIMEZONE
TZID:America/Regina
BEGIN:STANDARD
TZOFFSETFROM:-0600
TZOFFSETTO:-0600
TZNAME:CST
DTSTART:20190101T000000
END:STANDARD
END:VTIMEZONE
BEGIN:VEVENT
DTSTART;TZID=America/Regina:20200806T120000
DTEND;TZID=America/Regina:20200806T130000
DTSTAMP:20260423T122802
CREATED:20200729T194233Z
LAST-MODIFIED:20200729T194233Z
UID:10000014-1596715200-1596718800@livingskiesrc.ca
SUMMARY:YAYA Leadership Development Focus Groups
DESCRIPTION:You are invited to Zoom again!\nJuly 30\, Aug 6\, Aug 13\, Aug 20 (Noon – 1 pm SK Time).\nPlease share with youth & young adults in your congregations.\n\nJessica Stevenson from General Council is gathering a broad focus group of youth & young adults (age 15-30ish) to talk about barriers that may block YAYA involvement in the leadership of the church (locally\, regionally\, or nationally) and what concrete steps could be taken to reduce the barriers. There are generally three themes for the discussions:\n\n\nCommunication\n\n\nLeadership and Training\n\n\nSpace for more ideas to emerge….\n\n\nZoom on in:\nMeeting ID: 923 9953 1794\n\nOr contact Jessica at \n\n\njstevenson@united-church.ca
URL:https://livingskiesrc.ca/event/yaya-leadership-development-focus-groups/2020-08-06/
CATEGORIES:Events,Regional Events,YAYAC
END:VEVENT
BEGIN:VEVENT
DTSTART;TZID=America/Regina:20200807T110000
DTEND;TZID=America/Regina:20200828T120000
DTSTAMP:20260423T122802
CREATED:20200827T193356Z
LAST-MODIFIED:20200827T193356Z
UID:10000008-1596798000-1598616000@livingskiesrc.ca
SUMMARY:New Hymns for New Times
DESCRIPTION:As a participant in “New Hymns for New Times” you will become a part of an online congregation as we sing\, play\, listen and share our way through these unique and unfamiliar times.  A new hymn prepared by Janicka Grayston will be sent to you before each gathering so you may familiarize yourself with it if you wish.  When we gather\, we will sing it together\, and take a moment for compassionate listening and sharing about the ways worship and hope are showing up for one another.  Next weeks song will be inspired by what people have shared.
URL:https://livingskiesrc.ca/event/new-hymns-for-new-times/
LOCATION:Zoom
CATEGORIES:Events
END:VEVENT
BEGIN:VEVENT
DTSTART;VALUE=DATE:20200811
DTEND;VALUE=DATE:20200815
DTSTAMP:20260423T122802
CREATED:20200222T231945Z
LAST-MODIFIED:20200514T162726Z
UID:10000109-1597104000-1597449599@livingskiesrc.ca
SUMMARY:Rendez-Vous 2020 Re-Imagined!
DESCRIPTION:Rendez-Vous 2020 will be going ahead 11-14 August 2020 – just in a different way. \n2020 is turning out to be a year of the unexpected and that means Rendez-vous 2020 will be a Rendez-vous unlike any other. Due to the ongoing health crisis\, we won’t be able to hold a large gathering in Calgary this summer. It’s up to us to dream together what it means to be a community of faith\, even if we can’t all be in the same (physical) space. \nOnline registration is now open! Registration is free of charge\, but helps us keep track of participants and provide secure access to online activities and resources. \nThrough real-time online events\, recordings\, and DIY workshop kits\, we will celebrate bold faith\, brave space and brazen grace. Here’s what you can expect: \n\nInspiring speakers\, powerful worship and singing your favorite songs\nFun\, engaging and interactive workshops and activities\nNew friends from across the country and around the world\nAwesome t-shirts (yep\, it will be a Rendez-vous to remember!)
URL:https://livingskiesrc.ca/event/rendez-vous-2020/
LOCATION:Zoom
CATEGORIES:Regional Events,YAYAC
ATTACH;FMTTYPE=image/jpeg:https://livingskiesrc.ca/wp-content/uploads/2020/01/rv-logo-2020.jpg
ORGANIZER;CN="Kent Mohn":MAILTO:kmohn@united-church.ca
END:VEVENT
BEGIN:VEVENT
DTSTART;TZID=America/Regina:20200813T120000
DTEND;TZID=America/Regina:20200813T130000
DTSTAMP:20260423T122802
CREATED:20200729T194233Z
LAST-MODIFIED:20200729T194233Z
UID:10000015-1597320000-1597323600@livingskiesrc.ca
SUMMARY:YAYA Leadership Development Focus Groups
DESCRIPTION:You are invited to Zoom again!\nJuly 30\, Aug 6\, Aug 13\, Aug 20 (Noon – 1 pm SK Time).\nPlease share with youth & young adults in your congregations.\n\nJessica Stevenson from General Council is gathering a broad focus group of youth & young adults (age 15-30ish) to talk about barriers that may block YAYA involvement in the leadership of the church (locally\, regionally\, or nationally) and what concrete steps could be taken to reduce the barriers. There are generally three themes for the discussions:\n\n\nCommunication\n\n\nLeadership and Training\n\n\nSpace for more ideas to emerge….\n\n\nZoom on in:\nMeeting ID: 923 9953 1794\n\nOr contact Jessica at \n\n\njstevenson@united-church.ca
URL:https://livingskiesrc.ca/event/yaya-leadership-development-focus-groups/2020-08-13/
CATEGORIES:Events,Regional Events,YAYAC
END:VEVENT
BEGIN:VEVENT
DTSTART;TZID=America/Regina:20200820T120000
DTEND;TZID=America/Regina:20200820T130000
DTSTAMP:20260423T122802
CREATED:20200729T194233Z
LAST-MODIFIED:20200729T194233Z
UID:10000016-1597924800-1597928400@livingskiesrc.ca
SUMMARY:YAYA Leadership Development Focus Groups
DESCRIPTION:You are invited to Zoom again!\nJuly 30\, Aug 6\, Aug 13\, Aug 20 (Noon – 1 pm SK Time).\nPlease share with youth & young adults in your congregations.\n\nJessica Stevenson from General Council is gathering a broad focus group of youth & young adults (age 15-30ish) to talk about barriers that may block YAYA involvement in the leadership of the church (locally\, regionally\, or nationally) and what concrete steps could be taken to reduce the barriers. There are generally three themes for the discussions:\n\n\nCommunication\n\n\nLeadership and Training\n\n\nSpace for more ideas to emerge….\n\n\nZoom on in:\nMeeting ID: 923 9953 1794\n\nOr contact Jessica at \n\n\njstevenson@united-church.ca
URL:https://livingskiesrc.ca/event/yaya-leadership-development-focus-groups/2020-08-20/
CATEGORIES:Events,Regional Events,YAYAC
END:VEVENT
BEGIN:VEVENT
DTSTART;TZID=America/Regina:20200903T060000
DTEND;TZID=America/Regina:20200903T100000
DTSTAMP:20260423T122802
CREATED:20200901T213200Z
LAST-MODIFIED:20200901T213608Z
UID:10000018-1599112800-1599127200@livingskiesrc.ca
SUMMARY:Zimbabwe Online Conference
DESCRIPTION:Church in Partnership Zimbabwe Conference presents ‘Mending the World’. \nCreate space to reflect on common anger\, lament\, action and celebration \nRecognize and amplify local partners voices for growth in advocacy \nDiscern possibilities \nBuild strong partnership understanding of the Zimbabwe context \nAs we from the UCC Global Partnership Program\, focus on Peace building:  Partner Accompaniment in areas of conflict and tension  with specific advocacy and action with partners in Zimbabwe    \nSpeakers: Maria Tendai Dendere\, Director Humanitarian and Development Services ZCC\, Rev. Dr. Kenneth Mtata\, General Secretary ZCC\, Rev. Dr. Levee Kadenge\, Director ITRT\, Rev. Marco Cable\, Africa Executive Global Ministries\, and Rev. Ephraim Ngadziore\, President UCCZ.  Host and moderator: Rev. Dr. Japhet Ndhlovu; Co-host: Josefina Forcadilla; Technical support: Joshua Fernandes \nhttps://united-church.zoom.us/j/7425682258?pwd=WGZVNG5lSWJYbUhmOEYzN3FObDF3QT09 \nMeeting ID: 742 568 2258    Password: zimbo \nOne tap mobile\n+16473744685\,\,7425682258# Canada   ;    +16475580588\,\,7425682258# Canada \nDial by your location \n* Please use local numbers when feasible to save costs for the church. * \n+1 647 374 4685 Canada    or            +1 647 558 0588 Canada    or\n+1 778 907 2071 Canada    or            +1 438 809 7799 Canada    or\n+1 587 328 1099 Canada   or          855 703 8985 Canada Toll-free \nMeeting ID: 742 568 2258\nFind your local number: https://united-church.zoom.us/u/aez59TkmFb \nJoin by Skype for Business\nhttps://united-church.zoom.us/skype/7425682258
URL:https://livingskiesrc.ca/event/zimbabwe-online-conference/
CATEGORIES:Intercultural,Regional Events
END:VEVENT
BEGIN:VEVENT
DTSTART;TZID=America/Regina:20200908T130000
DTEND;TZID=America/Regina:20200908T140000
DTSTAMP:20260423T122802
CREATED:20200901T211559Z
LAST-MODIFIED:20200911T210217Z
UID:10000002-1599570000-1599573600@livingskiesrc.ca
SUMMARY:Ministry Personnel gathering
DESCRIPTION:The fall has arrived and with it the need for support.  Join your colleagues in ministry on Tuesdays\, at 1:00pm for this optional conversation.  Join weekly\, bi-weekly\, or whenever the Spirit moves you for an hour of connection and learning.  Zoom Meeting: https://united-church.zoom.us/j/94637623120 \n* Please use local numbers when feasible to save costs for the church.\n* 1-647-374-4685; Toll-free 1- 855-703-8985; Meeting ID: 946 3762 3120
URL:https://livingskiesrc.ca/event/ministry-personnel-gathering/2020-09-08/
CATEGORIES:Pastoral Relations,Regional Events
END:VEVENT
BEGIN:VEVENT
DTSTART;TZID=America/Regina:20200909T183000
DTEND;TZID=America/Regina:20200909T193000
DTSTAMP:20260423T122802
CREATED:20200901T212023Z
LAST-MODIFIED:20200901T213926Z
UID:10000017-1599676200-1599679800@livingskiesrc.ca
SUMMARY:Community of Faith conversation
DESCRIPTION:As questions about buildings and finances continue to emerge\, Regional Council Staff want to invite you to a Zoom Q&A\, Wednesday\, September 9\, 6:30pm.  https://united-church.zoom.us/j/93569054266 * Please use local numbers when feasible to save costs for the church. * 1-647-374-4685; Toll-free 1- 855-703-8985; Meeting ID: 935 6905 4266.  If you have specific questions\, please feel free to send them ahead of time so that we might prepare the answer!   tmurton@united-church.ca
URL:https://livingskiesrc.ca/event/community-of-faith-conversation/
CATEGORIES:COVID-19,Pastoral Relations,Regional Events
END:VEVENT
END:VCALENDAR