BEGIN:VCALENDAR
VERSION:2.0
PRODID:-//Living Skies Regional Council - ECPv6.15.20//NONSGML v1.0//EN
CALSCALE:GREGORIAN
METHOD:PUBLISH
X-WR-CALNAME:Living Skies Regional Council
X-ORIGINAL-URL:https://livingskiesrc.ca
X-WR-CALDESC:Events for Living Skies Regional Council
REFRESH-INTERVAL;VALUE=DURATION:PT1H
X-Robots-Tag:noindex
X-PUBLISHED-TTL:PT1H
BEGIN:VTIMEZONE
TZID:America/Regina
BEGIN:STANDARD
TZOFFSETFROM:-0600
TZOFFSETTO:-0600
TZNAME:CST
DTSTART:20190101T000000
END:STANDARD
END:VTIMEZONE
BEGIN:VEVENT
DTSTART;TZID=America/Regina:20200109T030000
DTEND;TZID=America/Regina:20200109T043000
DTSTAMP:20260423T115319
CREATED:20200130T032928Z
LAST-MODIFIED:20200130T032928Z
UID:10000095-1578538800-1578544200@livingskiesrc.ca
SUMMARY:Pastoral Relations Commission meeting
DESCRIPTION:Paperwork for this meeting (i.e. appointment forms\, ministry profiles\, etc) need to be submitted to Bev Diebert ( bdiebert@united-church.ca ) the Friday before the meeting. \nFor this meeting\, any paperwork needs to be submitted by January 3 in order to be considered on January 9.  As always\, if you have any questions or concerns\, please do not hesitate to contact Tracy Murton at tmurton@united-church.ca .
URL:https://livingskiesrc.ca/event/pastoral-relations-commission-meeting/
END:VEVENT
BEGIN:VEVENT
DTSTART;TZID=America/Regina:20200114T040000
DTEND;TZID=America/Regina:20200114T093000
DTSTAMP:20260423T115319
CREATED:20200130T033101Z
LAST-MODIFIED:20200130T033101Z
UID:10000097-1578974400-1578994200@livingskiesrc.ca
SUMMARY:Former Prairie Pine Presbytery Cluster
DESCRIPTION:
URL:https://livingskiesrc.ca/event/former-prairie-pine-presbytery-cluster/
END:VEVENT
BEGIN:VEVENT
DTSTART;TZID=America/Regina:20200123T070000
DTEND;TZID=America/Regina:20200123T090000
DTSTAMP:20260423T115319
CREATED:20200130T033504Z
LAST-MODIFIED:20200130T033754Z
UID:10000099-1579762800-1579770000@livingskiesrc.ca
SUMMARY:Living Skies Regional Council Executive
DESCRIPTION:
URL:https://livingskiesrc.ca/event/living-skies-regional-council-executive/
CATEGORIES:Meetings
END:VEVENT
BEGIN:VEVENT
DTSTART;TZID=America/Regina:20200124T073000
DTEND;TZID=America/Regina:20200124T090000
DTSTAMP:20260423T115319
CREATED:20200130T034007Z
LAST-MODIFIED:20200130T034007Z
UID:10000133-1579851000-1579856400@livingskiesrc.ca
SUMMARY:RC Gathering Planning Committee meeting
DESCRIPTION:
URL:https://livingskiesrc.ca/event/rc-gathering-planning-committee-meeting/
CATEGORIES:Meetings
END:VEVENT
BEGIN:VEVENT
DTSTART;TZID=America/Regina:20200125T030000
DTEND;TZID=America/Regina:20200125T060000
DTSTAMP:20260423T115319
CREATED:20200131T020646Z
LAST-MODIFIED:20200131T020646Z
UID:10000082-1579921200-1579932000@livingskiesrc.ca
SUMMARY:Saskatoon and Area Cluster
DESCRIPTION:Please confirm your attendance by January 17 at either daryl.gracewest@sasktel.net or gracewest@sasktel.net . \nAGENDA:\n9:00 a.m. Worship \n9:20 a.m. Congregational updates/sharing \n10:00 updates/planning \n\nAsset Mapping\nProject ideas for Grant application\nRegional Council Updates\nOutreach Ministries – Work of Micah Mission – Brian Ast\, Dave Feick\n\n11:00 a.m. Parameters/Function of Cluster Group – Bill Pollock \n11:30 a.m. – Action planning – Agenda items for next gathering/date/ host \n11:45 a.m. Closing
URL:https://livingskiesrc.ca/event/saskatoon-and-area-cluster/
END:VEVENT
END:VCALENDAR