BEGIN:VCALENDAR
VERSION:2.0
PRODID:-//Living Skies Regional Council - ECPv6.15.20//NONSGML v1.0//EN
CALSCALE:GREGORIAN
METHOD:PUBLISH
X-WR-CALNAME:Living Skies Regional Council
X-ORIGINAL-URL:https://livingskiesrc.ca
X-WR-CALDESC:Events for Living Skies Regional Council
REFRESH-INTERVAL;VALUE=DURATION:PT1H
X-Robots-Tag:noindex
X-PUBLISHED-TTL:PT1H
BEGIN:VTIMEZONE
TZID:America/Regina
BEGIN:STANDARD
TZOFFSETFROM:-0600
TZOFFSETTO:-0600
TZNAME:CST
DTSTART:20230101T000000
END:STANDARD
END:VTIMEZONE
BEGIN:VEVENT
DTSTART;TZID=America/Regina:20241002T120000
DTEND;TZID=America/Regina:20241002T130000
DTSTAMP:20260422T044659
CREATED:20240909T195417Z
LAST-MODIFIED:20240909T195417Z
UID:10001220-1727870400-1727874000@livingskiesrc.ca
SUMMARY:Food for Thought
DESCRIPTION:An opportunity to raise questions about God\, the Bible\, Faith\, Spirituality\, and the church\, in a safe and open setting! Come and enjoy a meal and some conversation with Russell Mitchell-Walker of Eastside United Church.
URL:https://livingskiesrc.ca/event/food-for-thought/2024-10-02/
LOCATION:Queen City Wellness Pharmacy\, 1725 11th Ave.\, Regina
CATEGORIES:Community of Faith Events
ATTACH;FMTTYPE=image/png:https://livingskiesrc.ca/wp-content/uploads/2024/09/Design-I-Food-for-Thought-Poster-April-2024-3.png
END:VEVENT
BEGIN:VEVENT
DTSTART;TZID=America/Regina:20241001T130000
DTEND;TZID=America/Regina:20241001T143000
DTSTAMP:20260422T044659
CREATED:20240618T221658Z
LAST-MODIFIED:20240618T223442Z
UID:10000936-1727787600-1727793000@livingskiesrc.ca
SUMMARY:Ministry Personnel Gathering
DESCRIPTION:Ministry Personnel are warmly invited to join colleagues over Zoom for conversation\, support and information sharing. \nJoin the Zoom meeting at:  https://united-church.zoom.us/j/87866391191?pwd=60jG9vU7urC4v0s1Zd8Zm9K7sfGGmJ.1  \n  \n  \n  \n 
URL:https://livingskiesrc.ca/event/ministry-personnel-gathering-155/
LOCATION:Zoom
CATEGORIES:Pastoral Relations,Regional Events
END:VEVENT
BEGIN:VEVENT
DTSTART;VALUE=DATE:20240930
DTEND;VALUE=DATE:20241001
DTSTAMP:20260422T044659
CREATED:20240828T194751Z
LAST-MODIFIED:20240910T204542Z
UID:10000959-1727654400-1727740799@livingskiesrc.ca
SUMMARY:Honouring Orange Shirt Day/ National Day for Truth and Reconciliation
DESCRIPTION: Orange Shirt Day/ the National Day for Truth and Reconciliation is an important public space for truth telling and for commitments to challenging ongoing colonization.  It’s now an official day across Canada.  The Orange Shirt Day society offers leadership for this important space\, as all of Canada joins in efforts to honour\, remember\, and change.  Click here for more information and resources on how United Church communities in our Regional Council can support this day. “When you wear an orange shirt it’s like a little bit of justice for us Survivors in our lifetime\, and recognition of a system we can never allow again.” -Phyllis Webstad
URL:https://livingskiesrc.ca/event/honouring-orange-shirt-day-national-day-for-truth-and-reconciliation/
CATEGORIES:Regional Events
ATTACH;FMTTYPE=image/png:https://livingskiesrc.ca/wp-content/uploads/2024/08/OrangeShirtDay-Sept30-2024-officialLogo.png
END:VEVENT
BEGIN:VEVENT
DTSTART;TZID=America/Regina:20240928T080000
DTEND;TZID=America/Regina:20240929T170000
DTSTAMP:20260422T044659
CREATED:20231129T172949Z
LAST-MODIFIED:20240112T230303Z
UID:10000733-1727510400-1727629200@livingskiesrc.ca
SUMMARY:Grosvenor Park United Church Anniversary Weekend
DESCRIPTION:All who have been part of the Grosvenor Park United Church\, Saskatoon experience\, SAVE the DATES. September 28 (banquet) & September 29 (Worship)\, 2024 as we celebrate both the 70th Anniversary of GPUC and the 55th Anniversary of our Special Class.  Watch for new details.  For those wishing to send greetings (by email or by video)\, we invite you to do that before June 30\, 2024. (Maximum 30 seconds please)
URL:https://livingskiesrc.ca/event/gpuc-anniversary-weekend/2024-09-28/
LOCATION:Grosvenor Park United Church\, Saskatoon SK\, 407 Cumberland Ave South\, Saskatoon\, S7h 2L3
CATEGORIES:Community of Faith Events
ORGANIZER;CN="Grosvenor Park United Church%2C Saskatoon SK":MAILTO:gpuc@sasktel.net
END:VEVENT
BEGIN:VEVENT
DTSTART;VALUE=DATE:20240927
DTEND;VALUE=DATE:20240930
DTSTAMP:20260422T044659
CREATED:20240827T211152Z
LAST-MODIFIED:20240827T215314Z
UID:10000953-1727395200-1727654399@livingskiesrc.ca
SUMMARY:Fall YAYAC Retreat (grade 7-12)
DESCRIPTION:Let’s kick off fall with another amazing YAYAC Retreat! If you’re in grades 7-12\, this is your opportunity to make some new friends\, enjoy our (hopefully) last bit of warm weather at Lumsden Beach Camp\, and have an amazing time. \nJoin us at Lumsden Beach Camp (LBC) September 27-29 for a weekend of faith and spirituality\, games and laughter\, and a chance to talk about the stuff that’s going on in YOUR world.  There will be opportunities for fun and loud exuberance\, as well as quiet reflection\, creativity and conversation. \nWe’ll send a more detailed packing list closer to the event\, but you’ll need warm clothes and a sleeping bag and mat! Directions to LBC are posted on their website. \nThe cost is $60\, but as always if money is an issue we have some sponsorships available – just let us know in your registration. \nYAYAC is a ministry of Living Skies Region\, an Affirming Ministry of the United Church of Canada and we are intentional about our welcome to youth of all gender identities\, gender expressions\, and sexual orientations. \nCome with a group of friends\, or come and meet some new ones! We can’t WAIT to spend the weekend with you! \nTo register: https://form.jotform.com/242395883339268 \n– Lindsay & Meghan (YAYAC Staff) \n               
URL:https://livingskiesrc.ca/event/fall-yayac-retreat-grade-7-12/
LOCATION:Lumsden Beach Camp\, Lumsden Beach\, Saskatchewan\, Canada
CATEGORIES:Events,Regional Events,YAYAC
ATTACH;FMTTYPE=image/png:https://livingskiesrc.ca/wp-content/uploads/2024/08/YAYAC-Fall-Retreat-2024-e1724793398855.png
END:VEVENT
BEGIN:VEVENT
DTSTART;TZID=America/Regina:20240926T133000
DTEND;TZID=America/Regina:20240926T133000
DTSTAMP:20260422T044659
CREATED:20240909T201717Z
LAST-MODIFIED:20250304T193403Z
UID:10001484-1727357400-1727357400@livingskiesrc.ca
SUMMARY:Open Minds\, Open Books: The Wall Between
DESCRIPTION:Open Minds\, Open Books with Eastside United Church: Our book study will begin on September 12 and we will gather weekly on Thursdays at 1:30 pm at the Living Spirit Centre. This session’s book is The Wall Between: What Jews and Palestinians Don’t Want to Know about Each Other by Raja Khouri and Jeffrey Wilkinson. Let our office know if you need a copy! They cost $30 for a paperback.
URL:https://livingskiesrc.ca/event/open-minds-open-books-the-wall-between/2024-09-26/
LOCATION:Eastside United Church\, 3018 Doan Dr.\, Regina\, S4V 1M1\, Canada
CATEGORIES:Community of Faith Events
ATTACH;FMTTYPE=image/png:https://livingskiesrc.ca/wp-content/uploads/2024/09/Wall-Between-Book-Study.png
END:VEVENT
BEGIN:VEVENT
DTSTART;TZID=America/Regina:20240924T190000
DTEND;TZID=America/Regina:20240924T203000
DTSTAMP:20260422T044659
CREATED:20240909T200520Z
LAST-MODIFIED:20240909T200520Z
UID:10001223-1727204400-1727209800@livingskiesrc.ca
SUMMARY:Cozy Church
DESCRIPTION:Join us for a sensory friendly prayer\, quiet social time\, and independent activities. This group is led by young adult leadership. All are welcome. Please bring a quiet activity such as knitting\, colouring\, lego\, homework\, etc.
URL:https://livingskiesrc.ca/event/cozy-church/2024-09-24/
LOCATION:Eastside United Church\, 3018 Doan Dr.\, Regina\, S4V 1M1\, Canada
CATEGORIES:Community of Faith Events
ORGANIZER;CN="Eastside United Church":MAILTO:eastsideunited@sasktel.net
END:VEVENT
BEGIN:VEVENT
DTSTART;TZID=America/Regina:20240924T160000
DTEND;TZID=America/Regina:20240926T133000
DTSTAMP:20260422T044659
CREATED:20240828T192622Z
LAST-MODIFIED:20240828T192622Z
UID:10000955-1727193600-1727357400@livingskiesrc.ca
SUMMARY:A Spiritual Journey Rooted in Nature
DESCRIPTION:(Option to stay an extra day for a time of complete solitude)\nQu’Appelle House of Prayer\, Fort Qu’Appelle\, Sk. \nIn this retreat\, we will be inspired by Richard Rohr’s contemplative practice to stop our busy lives and minds long enough to see everything in the natural world with humility and love.  We will be invited to love what is right in front of us one step at a time\, starting with a stone and then moving to the plant world\, the world of creatures\, and humanity itself.  Once we see the divine fingerprint of beauty\, truth\, and goodness pulsing through all that is\, we may have worked up to loving the divine in new and refreshing ways. \nFor complete information\, visit: https://www.freeflowwellness.ca/retreats \nRegistration deadline – September 13
URL:https://livingskiesrc.ca/event/a-spiritual-journey-rooted-in-nature/
LOCATION:Qu’Appelle House of Prayer\, B-Say-Tah\, Saskatchewan\, S0G 1S0\, Canada
CATEGORIES:Regional Events
END:VEVENT
BEGIN:VEVENT
DTSTART;TZID=America/Regina:20240924T130000
DTEND;TZID=America/Regina:20240924T143000
DTSTAMP:20260422T044659
CREATED:20240618T221513Z
LAST-MODIFIED:20240618T223242Z
UID:10000934-1727182800-1727188200@livingskiesrc.ca
SUMMARY:Ministry Personnel Gathering
DESCRIPTION:Ministry Personnel are warmly invited to join colleagues over Zoom for conversation\, support and information sharing. \nJoin the Zoom meeting at:  https://united-church.zoom.us/j/87866391191?pwd=60jG9vU7urC4v0s1Zd8Zm9K7sfGGmJ.1  \n  \n  \n  \n 
URL:https://livingskiesrc.ca/event/ministry-personnel-gathering-154/
LOCATION:Zoom
CATEGORIES:Pastoral Relations,Regional Events
END:VEVENT
BEGIN:VEVENT
DTSTART;TZID=America/Regina:20240919T180000
DTEND;TZID=America/Regina:20240919T193000
DTSTAMP:20260422T044659
CREATED:20240909T195642Z
LAST-MODIFIED:20240909T195642Z
UID:10001481-1726768800-1726774200@livingskiesrc.ca
SUMMARY:Eastside Community Dinner
DESCRIPTION:September 19: Join us with guest speaker\, Shiloh Stevenson! Our September theme is reconciliation. Please RSVP by September 16!
URL:https://livingskiesrc.ca/event/eastside-community-dinner/
LOCATION:Eastside United Church\, 3018 Doan Dr.\, Regina\, S4V 1M1\, Canada
CATEGORIES:Community of Faith Events
ATTACH;FMTTYPE=image/png:https://livingskiesrc.ca/wp-content/uploads/2024/09/September-2024-Community-Dinner.png
END:VEVENT
BEGIN:VEVENT
DTSTART;TZID=America/Regina:20240919T133000
DTEND;TZID=America/Regina:20240919T133000
DTSTAMP:20260422T044659
CREATED:20240909T201717Z
LAST-MODIFIED:20250304T193403Z
UID:10001483-1726752600-1726752600@livingskiesrc.ca
SUMMARY:Open Minds\, Open Books: The Wall Between
DESCRIPTION:Open Minds\, Open Books with Eastside United Church: Our book study will begin on September 12 and we will gather weekly on Thursdays at 1:30 pm at the Living Spirit Centre. This session’s book is The Wall Between: What Jews and Palestinians Don’t Want to Know about Each Other by Raja Khouri and Jeffrey Wilkinson. Let our office know if you need a copy! They cost $30 for a paperback.
URL:https://livingskiesrc.ca/event/open-minds-open-books-the-wall-between/2024-09-19/
LOCATION:Eastside United Church\, 3018 Doan Dr.\, Regina\, S4V 1M1\, Canada
CATEGORIES:Community of Faith Events
ATTACH;FMTTYPE=image/png:https://livingskiesrc.ca/wp-content/uploads/2024/09/Wall-Between-Book-Study.png
END:VEVENT
BEGIN:VEVENT
DTSTART;TZID=America/Regina:20240919T123000
DTEND;TZID=America/Regina:20240919T143000
DTSTAMP:20260422T044659
CREATED:20240828T193904Z
LAST-MODIFIED:20240828T193904Z
UID:10000958-1726749000-1726756200@livingskiesrc.ca
SUMMARY:We Sing Our Faith:
DESCRIPTION:A conversation on the evolution of intercultural music in The United Church of Canada \nJoin us for some singing\, a look at our past music\, and a look forward to living more fully into expressing our intercultural hopes through song.  As we turn 100 in less than a year\, we’ll bring an intercultural approach to exploring together what our music could become.  Resource people: Rev OhWang Kwon\, Rev Dr Lisa Waites\, and Dr Becca Whitla.  Free; all welcome.  Sponsored by the Western Intercultural Ministries Network; this is also a 100th Anniversary event. \nClick here for full details\, including the Zoom link.
URL:https://livingskiesrc.ca/event/we-sing-our-faith/
LOCATION:Zoom
CATEGORIES:Regional Events
END:VEVENT
BEGIN:VEVENT
DTSTART;TZID=America/Regina:20240918T120000
DTEND;TZID=America/Regina:20240918T130000
DTSTAMP:20260422T044659
CREATED:20240909T195417Z
LAST-MODIFIED:20240909T195417Z
UID:10001219-1726660800-1726664400@livingskiesrc.ca
SUMMARY:Food for Thought
DESCRIPTION:An opportunity to raise questions about God\, the Bible\, Faith\, Spirituality\, and the church\, in a safe and open setting! Come and enjoy a meal and some conversation with Russell Mitchell-Walker of Eastside United Church.
URL:https://livingskiesrc.ca/event/food-for-thought/2024-09-18/
LOCATION:Queen City Wellness Pharmacy\, 1725 11th Ave.\, Regina
CATEGORIES:Community of Faith Events
ATTACH;FMTTYPE=image/png:https://livingskiesrc.ca/wp-content/uploads/2024/09/Design-I-Food-for-Thought-Poster-April-2024-3.png
END:VEVENT
BEGIN:VEVENT
DTSTART;TZID=America/Regina:20240918T110000
DTEND;TZID=America/Regina:20240918T170000
DTSTAMP:20260422T044659
CREATED:20240828T193522Z
LAST-MODIFIED:20240828T193522Z
UID:10000957-1726657200-1726678800@livingskiesrc.ca
SUMMARY:River Run and bell ringing in support of Grassy Narrows First Nation\,
DESCRIPTION:This United Church endorsed action supports Grassy Narrows First Nation in northern Ontario\, whose river is contaminated with mercury from off-reserve industrial operations.  Their struggle for justice\, health\, and a return to clean water has gone on for decades.  Grassy Narrows has called on the national community to help raise the profile of this struggle\, and the United Church is asking us all to join in.  This includes ringing our church bells or creative alternatives (and being clear about why). That’s when a community march is predicted to arrive at the Ontario provincial seat of government.  (Freshwater is a provincial jurisdiction and successive Ontario governments have not taken action on this desperate situation and injustice.) \nPlease see the link for full details\, and join in!
URL:https://livingskiesrc.ca/event/river-run-and-bell-ringing-in-support-of-grassy-narrows-first-nation/
CATEGORIES:Regional Events
END:VEVENT
BEGIN:VEVENT
DTSTART;TZID=America/Regina:20240917T190000
DTEND;TZID=America/Regina:20240917T203000
DTSTAMP:20260422T044659
CREATED:20240909T200520Z
LAST-MODIFIED:20240909T200520Z
UID:10001222-1726599600-1726605000@livingskiesrc.ca
SUMMARY:Cozy Church
DESCRIPTION:Join us for a sensory friendly prayer\, quiet social time\, and independent activities. This group is led by young adult leadership. All are welcome. Please bring a quiet activity such as knitting\, colouring\, lego\, homework\, etc.
URL:https://livingskiesrc.ca/event/cozy-church/2024-09-17/
LOCATION:Eastside United Church\, 3018 Doan Dr.\, Regina\, S4V 1M1\, Canada
CATEGORIES:Community of Faith Events
ORGANIZER;CN="Eastside United Church":MAILTO:eastsideunited@sasktel.net
END:VEVENT
BEGIN:VEVENT
DTSTART;TZID=America/Regina:20240917T130000
DTEND;TZID=America/Regina:20240917T143000
DTSTAMP:20260422T044659
CREATED:20240618T221428Z
LAST-MODIFIED:20240618T223120Z
UID:10000933-1726578000-1726583400@livingskiesrc.ca
SUMMARY:Ministry Personnel Gathering
DESCRIPTION:Ministry Personnel are warmly invited to join colleagues over Zoom for conversation\, support and information sharing. \nJoin the Zoom meeting at:  https://united-church.zoom.us/j/87866391191?pwd=60jG9vU7urC4v0s1Zd8Zm9K7sfGGmJ.1  \n  \n  \n  \n 
URL:https://livingskiesrc.ca/event/ministry-personnel-gathering-153/
LOCATION:Zoom
CATEGORIES:Pastoral Relations,Regional Events
END:VEVENT
BEGIN:VEVENT
DTSTART;TZID=America/Regina:20240914T130000
DTEND;TZID=America/Regina:20240914T173000
DTSTAMP:20260422T044659
CREATED:20240828T193226Z
LAST-MODIFIED:20240910T204552Z
UID:10000956-1726318800-1726335000@livingskiesrc.ca
SUMMARY:Decolonizing ourselves gathering: We all drink from the same river.
DESCRIPTION:Echo Valley Provincial Park near Fort Qu’Appelle SK\, Treaty 4 \nSaturday\, September 14\, 2024 from 1:00-5:30 PM\, plus optional additional times and locations for the commemoration of the 150th anniversary of the signing of Treaty 4. \nPlease join KAIROS Prairies North for a day of water teachings\, ceremony\, reflection\, and action commitments with Elders and knowledge keepers Elder Marjorie Beaucage; Holly Yuzicapi; Michelle Brass (invited)\, settler educator Jim Harding (invited).  Please click here for all details and free registration.  We invite you also to see this gathering as a chance to reflect on commitments mutually made in ceremony in Treaty 4.  Our gathering is taking place in the wider context of the commemoration of the 150th anniversary of the signing of Treaty Four. \nClick here for more Treaty 4 information.
URL:https://livingskiesrc.ca/event/decolonizing-ourselves-gathering-we-all-drink-from-the-same-river/
LOCATION:Echo Valley Provincial Park\, 8 km west of Fort Qu'Appelle\, Fort Qu'Appelle\, SK
CATEGORIES:Regional Events
ATTACH;FMTTYPE=image/png:https://livingskiesrc.ca/wp-content/uploads/2024/08/We-all-drink-from-the-same-river-landscapePoster.png
END:VEVENT
BEGIN:VEVENT
DTSTART;TZID=America/Regina:20240912T133000
DTEND;TZID=America/Regina:20240912T133000
DTSTAMP:20260422T044659
CREATED:20240909T201717Z
LAST-MODIFIED:20250304T193403Z
UID:10001482-1726147800-1726147800@livingskiesrc.ca
SUMMARY:Open Minds\, Open Books: The Wall Between
DESCRIPTION:Open Minds\, Open Books with Eastside United Church: Our book study will begin on September 12 and we will gather weekly on Thursdays at 1:30 pm at the Living Spirit Centre. This session’s book is The Wall Between: What Jews and Palestinians Don’t Want to Know about Each Other by Raja Khouri and Jeffrey Wilkinson. Let our office know if you need a copy! They cost $30 for a paperback.
URL:https://livingskiesrc.ca/event/open-minds-open-books-the-wall-between/2024-09-12/
LOCATION:Eastside United Church\, 3018 Doan Dr.\, Regina\, S4V 1M1\, Canada
CATEGORIES:Community of Faith Events
ATTACH;FMTTYPE=image/png:https://livingskiesrc.ca/wp-content/uploads/2024/09/Wall-Between-Book-Study.png
END:VEVENT
BEGIN:VEVENT
DTSTART;TZID=America/Regina:20240910T130000
DTEND;TZID=America/Regina:20240910T143000
DTSTAMP:20260422T044659
CREATED:20240618T221344Z
LAST-MODIFIED:20240618T223009Z
UID:10000932-1725973200-1725978600@livingskiesrc.ca
SUMMARY:Ministry Personnel Gathering
DESCRIPTION:Ministry Personnel are warmly invited to join colleagues over Zoom for conversation\, support and information sharing. \nJoin the Zoom meeting at:  https://united-church.zoom.us/j/87866391191?pwd=60jG9vU7urC4v0s1Zd8Zm9K7sfGGmJ.1  \n  \n  \n  \n 
URL:https://livingskiesrc.ca/event/ministry-personnel-gathering-152/
LOCATION:Zoom
CATEGORIES:Pastoral Relations,Regional Events
END:VEVENT
BEGIN:VEVENT
DTSTART;TZID=America/Regina:20240908T110000
DTEND;TZID=America/Regina:20240908T150000
DTSTAMP:20260422T044659
CREATED:20240626T194853Z
LAST-MODIFIED:20240709T192940Z
UID:10000949-1725793200-1725807600@livingskiesrc.ca
SUMMARY:40th Anniversary of Battleford UC
DESCRIPTION:Please join us to celebrate the 40th Anniversary of\nBattleford United Church\n(52-4th Avenue)\, Battleford SK on\nSunday September 8th at 11 am\nfollowed by Fellowship\, Refreshments and a light lunch\nRSVP to battlefordunitedchurch@sasktel.net\nBy September 1 \nHope to see you there!!!
URL:https://livingskiesrc.ca/event/40th-anniversary/
LOCATION:Battleford United Church\, 52 - 4th Avenue\, Battleford\, Saskatchewan\, Canada
CATEGORIES:Community of Faith Events
END:VEVENT
BEGIN:VEVENT
DTSTART;TZID=America/Regina:20240906T160000
DTEND;TZID=America/Regina:20240908T133000
DTSTAMP:20260422T044659
CREATED:20240828T175516Z
LAST-MODIFIED:20240828T175516Z
UID:10000954-1725638400-1725802200@livingskiesrc.ca
SUMMARY:Women's Camp at Camp Christopher
DESCRIPTION:Women of the United Church have been invited to join a weekend of fun\, hope and joy.  Camp registration starts at 4pm on Friday.  Register by sending your name\, address\, any dietary or accommodation needs and payment by e-transfer to Sharon at womenscamp1@gmail.com .  Click here for the information page or call Donna at 306-535-6916.
URL:https://livingskiesrc.ca/event/womens-camp-at-camp-christopher/
LOCATION:Camp Christopher\, Christopher Lake\, Saskatchewan\, S0J 0N0\, Canada
CATEGORIES:Regional Events,Women in the UCC
END:VEVENT
BEGIN:VEVENT
DTSTART;TZID=America/Regina:20240903T130000
DTEND;TZID=America/Regina:20240903T143000
DTSTAMP:20260422T044659
CREATED:20240618T221218Z
LAST-MODIFIED:20240618T221218Z
UID:10000931-1725368400-1725373800@livingskiesrc.ca
SUMMARY:Ministry Personnel Gathering
DESCRIPTION:Ministry Personnel are warmly invited to join colleagues over Zoom for unstructured collegial support. \nJoin the Zoom meeting at:  https://united-church.zoom.us/j/87866391191?pwd=60jG9vU7urC4v0s1Zd8Zm9K7sfGGmJ.1  \n  \n  \n  \n 
URL:https://livingskiesrc.ca/event/ministry-personnel-gathering-151/
LOCATION:Zoom
CATEGORIES:Pastoral Relations,Regional Events
END:VEVENT
BEGIN:VEVENT
DTSTART;TZID=America/Regina:20240827T130000
DTEND;TZID=America/Regina:20240827T143000
DTSTAMP:20260422T044659
CREATED:20240618T221125Z
LAST-MODIFIED:20240618T221125Z
UID:10000930-1724763600-1724769000@livingskiesrc.ca
SUMMARY:Ministry Personnel Gathering
DESCRIPTION:Ministry Personnel are warmly invited to join colleagues over Zoom for unstructured collegial support. \nJoin the Zoom meeting at:  https://united-church.zoom.us/j/87866391191?pwd=60jG9vU7urC4v0s1Zd8Zm9K7sfGGmJ.1  \n  \n  \n  \n 
URL:https://livingskiesrc.ca/event/ministry-personnel-gathering-150/
LOCATION:Zoom
CATEGORIES:Pastoral Relations,Regional Events
END:VEVENT
BEGIN:VEVENT
DTSTART;TZID=America/Regina:20240820T130000
DTEND;TZID=America/Regina:20240820T143000
DTSTAMP:20260422T044659
CREATED:20240618T221033Z
LAST-MODIFIED:20240618T221033Z
UID:10000929-1724158800-1724164200@livingskiesrc.ca
SUMMARY:Ministry Personnel Gathering
DESCRIPTION:Ministry Personnel are warmly invited to join colleagues over Zoom for unstructured collegial support. \nJoin the Zoom meeting at:  https://united-church.zoom.us/j/87866391191?pwd=60jG9vU7urC4v0s1Zd8Zm9K7sfGGmJ.1  \n  \n  \n  \n 
URL:https://livingskiesrc.ca/event/ministry-personnel-gathering-149/
LOCATION:Zoom
CATEGORIES:Pastoral Relations,Regional Events
END:VEVENT
BEGIN:VEVENT
DTSTART;TZID=America/Regina:20240815T190000
DTEND;TZID=America/Regina:20240815T213000
DTSTAMP:20260422T044659
CREATED:20240802T215358Z
LAST-MODIFIED:20240802T215358Z
UID:10000952-1723748400-1723757400@livingskiesrc.ca
SUMMARY:Saltwater Joy
DESCRIPTION:Nova Scotia’s Saltwater Joy delivers a resurgence of Atlantic Coast Music favourites\, Newfoundland accordion folk\, sea shanties\, along with Irish & old time classics. \nbringin’ the Atlantic Shore to our door \nProceeds to go to Mount Royal Emmanuel United Church Women.
URL:https://livingskiesrc.ca/event/saltwater-joy/
LOCATION:Saskatoon: Mount Royal Emmanuel United Church\, 521 Vancouver Ave. N.\, Saskatoon\, Saskatchewan\, S7L 4J8\, Canada
CATEGORIES:Community of Faith Events
ATTACH;FMTTYPE=image/jpeg:https://livingskiesrc.ca/wp-content/uploads/2024/08/Saltwater-Joy-Poster-7-scaled.jpg
END:VEVENT
BEGIN:VEVENT
DTSTART;TZID=America/Regina:20240813T130000
DTEND;TZID=America/Regina:20240813T143000
DTSTAMP:20260422T044659
CREATED:20240618T220944Z
LAST-MODIFIED:20240618T220944Z
UID:10000928-1723554000-1723559400@livingskiesrc.ca
SUMMARY:Ministry Personnel Gathering
DESCRIPTION:Ministry Personnel are warmly invited to join colleagues over Zoom for unstructured collegial support. \nJoin the Zoom meeting at:  https://united-church.zoom.us/j/87866391191?pwd=60jG9vU7urC4v0s1Zd8Zm9K7sfGGmJ.1  \n  \n  \n  \n 
URL:https://livingskiesrc.ca/event/ministry-personnel-gathering-148/
LOCATION:Zoom
CATEGORIES:Pastoral Relations,Regional Events
END:VEVENT
BEGIN:VEVENT
DTSTART;TZID=America/Regina:20240806T130000
DTEND;TZID=America/Regina:20240806T143000
DTSTAMP:20260422T044659
CREATED:20240618T220846Z
LAST-MODIFIED:20240618T220846Z
UID:10000927-1722949200-1722954600@livingskiesrc.ca
SUMMARY:Ministry Personnel Gathering
DESCRIPTION:Ministry Personnel are warmly invited to join colleagues over Zoom for unstructured collegial support. \nJoin the Zoom meeting at:  https://united-church.zoom.us/j/87866391191?pwd=60jG9vU7urC4v0s1Zd8Zm9K7sfGGmJ.1  \n  \n  \n  \n 
URL:https://livingskiesrc.ca/event/ministry-personnel-gathering-147/
LOCATION:Zoom
CATEGORIES:Pastoral Relations,Regional Events
END:VEVENT
BEGIN:VEVENT
DTSTART;TZID=America/Regina:20240731T080000
DTEND;TZID=America/Regina:20240731T170000
DTSTAMP:20260422T044659
CREATED:20240417T163720Z
LAST-MODIFIED:20240417T163720Z
UID:10000795-1722412800-1722445200@livingskiesrc.ca
SUMMARY:Early Bird Deadline for tickets for GPUC's 70th anniversary
DESCRIPTION:The early bird deadline is June 30\, 2024\, please see the information on the tickets to purchase tickets for the September 28th banquet. The deadline for purchase of tickets is August 31\, 2024 \nJoin us in celebrating the 70th anniversary of Grosvenor Park United Church\, Saskatoon\, as well as the 55th anniversary of our Special Class.
URL:https://livingskiesrc.ca/event/early-bird-deadline-for-tickets-for-gpucs-70th-anniversary/2024-07-31/
LOCATION:Grosvenor Park United Church\, Saskatoon SK\, 407 Cumberland Ave South\, Saskatoon\, S7h 2L3
CATEGORIES:Community of Faith Events
ATTACH;FMTTYPE=image/jpeg:https://livingskiesrc.ca/wp-content/uploads/2024/04/70th-Anniversary-poster-final-1.jpg
ORGANIZER;CN="Grosvenor Park United Church%2C Saskatoon SK":MAILTO:gpuc@sasktel.net
END:VEVENT
BEGIN:VEVENT
DTSTART;TZID=America/Regina:20240730T130000
DTEND;TZID=America/Regina:20240730T143000
DTSTAMP:20260422T044659
CREATED:20240618T220753Z
LAST-MODIFIED:20240618T220753Z
UID:10000926-1722344400-1722349800@livingskiesrc.ca
SUMMARY:Ministry Personnel Gathering
DESCRIPTION:Ministry Personnel are warmly invited to join colleagues over Zoom for unstructured collegial support. \nJoin the Zoom meeting at:  https://united-church.zoom.us/j/87866391191?pwd=60jG9vU7urC4v0s1Zd8Zm9K7sfGGmJ.1  \n  \n  \n  \n 
URL:https://livingskiesrc.ca/event/ministry-personnel-gathering-146/
LOCATION:Zoom
CATEGORIES:Pastoral Relations,Regional Events
END:VEVENT
BEGIN:VEVENT
DTSTART;TZID=America/Regina:20240723T130000
DTEND;TZID=America/Regina:20240723T143000
DTSTAMP:20260422T044659
CREATED:20240618T220426Z
LAST-MODIFIED:20240618T220426Z
UID:10000925-1721739600-1721745000@livingskiesrc.ca
SUMMARY:Ministry Personnel Gathering
DESCRIPTION:Ministry Personnel are warmly invited to join colleagues over Zoom for unstructured collegial support. \nJoin the Zoom meeting at:  https://united-church.zoom.us/j/87866391191?pwd=60jG9vU7urC4v0s1Zd8Zm9K7sfGGmJ.1  \n  \n  \n  \n 
URL:https://livingskiesrc.ca/event/ministry-personnel-gathering-145/
LOCATION:Zoom
CATEGORIES:Pastoral Relations,Regional Events
END:VEVENT
END:VCALENDAR