BEGIN:VCALENDAR
VERSION:2.0
PRODID:-//Living Skies Regional Council - ECPv6.15.20//NONSGML v1.0//EN
CALSCALE:GREGORIAN
METHOD:PUBLISH
X-WR-CALNAME:Living Skies Regional Council
X-ORIGINAL-URL:https://livingskiesrc.ca
X-WR-CALDESC:Events for Living Skies Regional Council
REFRESH-INTERVAL;VALUE=DURATION:PT1H
X-Robots-Tag:noindex
X-PUBLISHED-TTL:PT1H
BEGIN:VTIMEZONE
TZID:America/Regina
BEGIN:STANDARD
TZOFFSETFROM:-0600
TZOFFSETTO:-0600
TZNAME:CST
DTSTART:20230101T000000
END:STANDARD
END:VTIMEZONE
BEGIN:VEVENT
DTSTART;TZID=America/Regina:20240419T080000
DTEND;TZID=America/Regina:20240419T170000
DTSTAMP:20260423T154857
CREATED:20240419T222400Z
LAST-MODIFIED:20240419T223407Z
UID:10000912-1713513600-1713546000@livingskiesrc.ca
SUMMARY:Living Skies Regional Council Affirming Celebration
DESCRIPTION:Join us Thursday June 13\, 2:00PM! \nHaving finished the formal requirements of the Affirming process\, Living Skies now moves into new commitments to living into being Affirming. All are welcome to our Affirming celebration\, online via YouTube\, and in person\,  Thursday June 13 at 2:00PM\, at the Living Skies Regional Council meeting opening worship\, Saskatoon Travelodge and conference centre\, 106 Circle Dr\, Saskatoon. The space is accessible\, and has free parking. \nIf you would like to send a note of congratulations\, please email livingskies@united-church.ca\, or  send a card to 60A Athabasca St. E.\, Moose Jaw\, SK\, S6H 0L2. More details to come! Absolutely everyone welcome.
URL:https://livingskiesrc.ca/event/living-skies-regional-council-affirming-celebration/
LOCATION:Saskatoon Travel Lodge\, 106 Circle Dr\, Saskatoon\, SK\, S7L 4L6\, Canada
CATEGORIES:Intercultural,LGBTQIA+ Affirming,Regional Events,Regional Gathering
ATTACH;FMTTYPE=image/png:https://livingskiesrc.ca/wp-content/uploads/2022/11/FullyInclusivePrideFlag-twoHands.png
ORGANIZER;CN="Living Skies Regional Council":MAILTO:livingskies@united-church.ca
END:VEVENT
BEGIN:VEVENT
DTSTART;TZID=America/Regina:20251104T190000
DTEND;TZID=America/Regina:20251104T203000
DTSTAMP:20260423T154857
CREATED:20250924T163930Z
LAST-MODIFIED:20251030T163839Z
UID:10001712-1762282800-1762288200@livingskiesrc.ca
SUMMARY:LSRC Learning Evening - cancelled
DESCRIPTION:The Living Skies Regional Council previously set Tuesday\, November 4 and Thursday\, November 6 as the dates for our online Regional Gathering. \nThe Learning session scheduled for Tuesday\, November 4 has been cancelled.  You are still invited to attend the Regional Business Meeting on Thursday\, November 6. \n  \n 
URL:https://livingskiesrc.ca/event/lsrc-learning-evening/
LOCATION:Zoom
CATEGORIES:Regional Events,Regional Gathering
END:VEVENT
BEGIN:VEVENT
DTSTART;TZID=America/Regina:20251106T183000
DTEND;TZID=America/Regina:20251106T203000
DTSTAMP:20260423T154857
CREATED:20250924T164106Z
LAST-MODIFIED:20251106T212118Z
UID:10001713-1762453800-1762461000@livingskiesrc.ca
SUMMARY:LSRC Business Meeting
DESCRIPTION:The Living Skies Regional Council will meet on Thursday\, November 6 at 6:30pm as the date for our online Regional Gathering. \nYou can find the agenda along with the docket reports on the Regional Gathering page. \nConnection information for the meeting: \nJoin Zoom Meeting at  https://united-church.zoom.us/j/81341942906 \nMeeting ID: 813 4194 2906\nOne tap mobile\n+17789072071\,\,81341942906# Canada\n+14388097799\,\,81341942906# Canada \nDial by your location \n* Please use local numbers when feasible to save costs for the church. * \n+1 778 907 2071 Canada\n+1 438 809 7799 Canada\n+1 587 328 1099 Canada\n+1 647 374 4685 Canada\n+1 647 558 0588 Canada\n855 703 8985 Canada Toll-free \nIt will be great to see everyone on Thursday night.  See you then!!
URL:https://livingskiesrc.ca/event/lsrc-business-meeting/
LOCATION:Zoom
CATEGORIES:Regional Events,Regional Gathering
END:VEVENT
END:VCALENDAR