BEGIN:VCALENDAR
VERSION:2.0
PRODID:-//Living Skies Regional Council - ECPv6.15.20//NONSGML v1.0//EN
CALSCALE:GREGORIAN
METHOD:PUBLISH
X-ORIGINAL-URL:https://livingskiesrc.ca
X-WR-CALDESC:Events for Living Skies Regional Council
REFRESH-INTERVAL;VALUE=DURATION:PT1H
X-Robots-Tag:noindex
X-PUBLISHED-TTL:PT1H
BEGIN:VTIMEZONE
TZID:America/Regina
BEGIN:STANDARD
TZOFFSETFROM:-0600
TZOFFSETTO:-0600
TZNAME:CST
DTSTART:20250101T000000
END:STANDARD
END:VTIMEZONE
BEGIN:VEVENT
DTSTART;TZID=America/Regina:20260421T130000
DTEND;TZID=America/Regina:20260421T143000
DTSTAMP:20260423T152144
CREATED:20251203T201141Z
LAST-MODIFIED:20260203T194330Z
UID:10001767-1776776400-1776781800@livingskiesrc.ca
SUMMARY:Ministry Personnel Gathering - CANCELLED
DESCRIPTION:The Ministry Personnel gathering has been cancelled. \n  \n  \n  \n 
URL:https://livingskiesrc.ca/event/ministry-personnel-gathering-211/
LOCATION:Zoom
CATEGORIES:Pastoral Relations,Regional Events
END:VEVENT
BEGIN:VEVENT
DTSTART;TZID=America/Regina:20260505T130000
DTEND;TZID=America/Regina:20260505T143000
DTSTAMP:20260423T152144
CREATED:20251203T201553Z
LAST-MODIFIED:20260203T194914Z
UID:10001769-1777986000-1777991400@livingskiesrc.ca
SUMMARY:Ministry Personnel Gathering - CANCELLED
DESCRIPTION:This Ministry Personnel gathering has been cancelled. \n  \n  \n  \n 
URL:https://livingskiesrc.ca/event/ministry-personnel-gathering-212/
LOCATION:Zoom
CATEGORIES:Pastoral Relations,Regional Events
END:VEVENT
BEGIN:VEVENT
DTSTART;TZID=America/Regina:20260512T130000
DTEND;TZID=America/Regina:20260512T143000
DTSTAMP:20260423T152144
CREATED:20251203T201806Z
LAST-MODIFIED:20260210T163547Z
UID:10001770-1778590800-1778596200@livingskiesrc.ca
SUMMARY:Ministry Personnel Gathering
DESCRIPTION:Ministry Personnel are warmly invited to join colleagues over Zoom for conversation\, support and information sharing. \nJoin the Zoom meeting at:  https://united-church.zoom.us/j/89810632741?pwd=xuV6YKkXSBm12mbe3Ey7eaGuHwdusH.1  \n  \n  \n  \n 
URL:https://livingskiesrc.ca/event/ministry-personnel-gathering-213/
LOCATION:Zoom
CATEGORIES:Pastoral Relations,Regional Events
END:VEVENT
BEGIN:VEVENT
DTSTART;TZID=America/Regina:20260519T130000
DTEND;TZID=America/Regina:20260519T143000
DTSTAMP:20260423T152144
CREATED:20251203T201929Z
LAST-MODIFIED:20260203T195130Z
UID:10001771-1779195600-1779201000@livingskiesrc.ca
SUMMARY:Ministry Personnel Gathering - CANCELLED
DESCRIPTION:This Ministry Personnel gathering has been cancelled. \n  \n  \n  \n 
URL:https://livingskiesrc.ca/event/ministry-personnel-gathering-214/
LOCATION:Zoom
CATEGORIES:Pastoral Relations,Regional Events
END:VEVENT
BEGIN:VEVENT
DTSTART;TZID=America/Regina:20260602T130000
DTEND;TZID=America/Regina:20260602T143000
DTSTAMP:20260423T152144
CREATED:20251203T202128Z
LAST-MODIFIED:20260203T195308Z
UID:10001773-1780405200-1780410600@livingskiesrc.ca
SUMMARY:Ministry Personnel Gathering - CANCELLED
DESCRIPTION:This Ministry Personnel gathering has been cancelled. \n  \n  \n  \n  \n  \n 
URL:https://livingskiesrc.ca/event/ministry-personnel-gathering-215/
LOCATION:Zoom
CATEGORIES:Pastoral Relations,Regional Events
END:VEVENT
BEGIN:VEVENT
DTSTART;TZID=America/Regina:20260609T130000
DTEND;TZID=America/Regina:20260609T143000
DTSTAMP:20260423T152144
CREATED:20251203T202308Z
LAST-MODIFIED:20260210T163827Z
UID:10001774-1781010000-1781015400@livingskiesrc.ca
SUMMARY:Ministry Personnel Gathering
DESCRIPTION:Ministry Personnel are warmly invited to join colleagues over Zoom for conversation\, support and information sharing. \nJoin the Zoom meeting at:  https://united-church.zoom.us/j/85752646432?pwd=pl2baPuxTFLuY7KpizBr5MMEtFvKh5.1 \n  \n  \n  \n 
URL:https://livingskiesrc.ca/event/ministry-personnel-gathering-216/
LOCATION:Zoom
CATEGORIES:Pastoral Relations,Regional Events
END:VEVENT
BEGIN:VEVENT
DTSTART;TZID=America/Regina:20260616T130000
DTEND;TZID=America/Regina:20260616T143000
DTSTAMP:20260423T152144
CREATED:20251203T202406Z
LAST-MODIFIED:20260203T195423Z
UID:10001775-1781614800-1781620200@livingskiesrc.ca
SUMMARY:Ministry Personnel Gathering - CANCELLED
DESCRIPTION:This Ministry Personnel gathering has been cancelled. \n  \n  \n  \n  \n 
URL:https://livingskiesrc.ca/event/ministry-personnel-gathering-217/
LOCATION:Zoom
CATEGORIES:Pastoral Relations,Regional Events
END:VEVENT
BEGIN:VEVENT
DTSTART;TZID=America/Regina:20260714T130000
DTEND;TZID=America/Regina:20260714T143000
DTSTAMP:20260423T152144
CREATED:20260210T164003Z
LAST-MODIFIED:20260210T164003Z
UID:10001782-1784034000-1784039400@livingskiesrc.ca
SUMMARY:Ministry Personnel Gathering
DESCRIPTION:Ministry Personnel are warmly invited to join colleagues over Zoom for conversation\, support and information sharing. \nJoin the Zoom meeting at:  https://united-church.zoom.us/j/85752646432?pwd=pl2baPuxTFLuY7KpizBr5MMEtFvKh5.1 \n  \n  \n  \n 
URL:https://livingskiesrc.ca/event/ministry-personnel-gathering-218/
LOCATION:Zoom
CATEGORIES:Pastoral Relations,Regional Events
END:VEVENT
END:VCALENDAR