BEGIN:VCALENDAR
VERSION:2.0
PRODID:-//Living Skies Regional Council - ECPv6.15.20//NONSGML v1.0//EN
CALSCALE:GREGORIAN
METHOD:PUBLISH
X-ORIGINAL-URL:https://livingskiesrc.ca
X-WR-CALDESC:Events for Living Skies Regional Council
REFRESH-INTERVAL;VALUE=DURATION:PT1H
X-Robots-Tag:noindex
X-PUBLISHED-TTL:PT1H
BEGIN:VTIMEZONE
TZID:America/Regina
BEGIN:STANDARD
TZOFFSETFROM:-0600
TZOFFSETTO:-0600
TZNAME:CST
DTSTART:20240101T000000
END:STANDARD
END:VTIMEZONE
BEGIN:VEVENT
DTSTART;TZID=America/Regina:20250613T080000
DTEND;TZID=America/Regina:20250707T120000
DTSTAMP:20260422T041924
CREATED:20250613T172106Z
LAST-MODIFIED:20250613T172106Z
UID:10001652-1749801600-1751889600@livingskiesrc.ca
SUMMARY:Harmony United Church Annual Blueberry Sale
DESCRIPTION:Our annual blueberry sale offers BC fresh blueberries for sale to raise funds to support food security and social justice programs in Regina.
URL:https://livingskiesrc.ca/event/harmony-united-church-annual-blueberry-sale/
LOCATION:Harmony United Church\, 177 SUNSET DRIVE\, REGINA\, S4S 6Y7
CATEGORIES:Community of Faith Events
ATTACH;FMTTYPE=image/png:https://livingskiesrc.ca/wp-content/uploads/2025/06/2025-Blueberry-Pre-Order-Poster-FINAL-REV-scaled.png
ORGANIZER;CN="Harmony United Church%2C Regina":MAILTO:harmonyunited.offce@gmail.com
END:VEVENT
BEGIN:VEVENT
DTSTART;TZID=America/Regina:20250621T130000
DTEND;TZID=America/Regina:20250622T183000
DTSTAMP:20260422T041924
CREATED:20250529T212750Z
LAST-MODIFIED:20250529T212750Z
UID:10001643-1750510800-1750617000@livingskiesrc.ca
SUMMARY:Final Closing Celebration Services for Benito and Kenville United Churches  Manitoba
DESCRIPTION:Celebration of the 100th Anniversary of the United Church and Final Closing Service Kenville United Church Kenville Manitoba Service 10:00 a.m. Manitoba time followed by pot luck lunch.  Please call 1-204-734-4383 for further information \nCelebration of the 100th Anniversary of the United Church and Final Closing Service Benito United Church Benito Manitoba Service at 3:00 p.m. Manitoba Time\nSalad Supper at 5:00p.m. Manitoba Time at the Benito Legion Hall Please call 204-539-2805 or 431-363-0332 to RSVP for the Salad Supper. Please come and join in our celebrations. \nOpen House in each church from 1:00 to 4:00p.m. Manitoba Time on Saturday June 21 \nWe also have Church stuff such as communion sets\, pulpits\, communion tables\, pianos and baptismal fonts etc. to go to good homes.
URL:https://livingskiesrc.ca/event/final-closing-celebration-services-for-benito-and-kenville-united-churches-manitoba/
CATEGORIES:100th Anniversary of the UCC,Community of Faith Events
END:VEVENT
BEGIN:VEVENT
DTSTART;TZID=America/Regina:20250622T103000
DTEND;TZID=America/Regina:20250622T130000
DTSTAMP:20260422T041924
CREATED:20250602T155042Z
LAST-MODIFIED:20250602T155042Z
UID:10001644-1750588200-1750597200@livingskiesrc.ca
SUMMARY:Worship service and potluck picnic
DESCRIPTION:The Birsay and Lucky Lake United Churches of the Coteau Hills Pastoral Charge are holding a worship service and potluck picnic to celebrate the 100th Anniversary of The United Church of Canada on June 22\, 2025\, at 10:30 AM at The Shack at Hitchcock Bay.
URL:https://livingskiesrc.ca/event/worship-service-and-potluck-picnic/
CATEGORIES:100th Anniversary of the UCC,Community of Faith Events
ATTACH;FMTTYPE=image/jpeg:https://livingskiesrc.ca/wp-content/uploads/2025/05/UC-Poster.jpg
END:VEVENT
BEGIN:VEVENT
DTSTART;TZID=America/Regina:20250622T160000
DTEND;TZID=America/Regina:20250622T190000
DTSTAMP:20260422T041924
CREATED:20250611T191027Z
LAST-MODIFIED:20250611T205017Z
UID:10001650-1750608000-1750618800@livingskiesrc.ca
SUMMARY:Young United Church Closing Worship Service
DESCRIPTION:Young United Church will hold its final worship service on Sunday\, June 22\, at 4 pm\, with potluck supper to follow. Everyone is welcome to join us at Christ Lutheran/Young United Church\, 505 – 2nd Ave. Young\, SK.
URL:https://livingskiesrc.ca/event/young-united-church-closing-worship-service/
LOCATION:Young United Church\, 505 – 2nd Ave.\, Young\, Saskatchewan\, S0K 4Y0\, Canada
CATEGORIES:Community of Faith Events
END:VEVENT
END:VCALENDAR