BEGIN:VCALENDAR
VERSION:2.0
PRODID:-//Living Skies Regional Council - ECPv6.15.20//NONSGML v1.0//EN
CALSCALE:GREGORIAN
METHOD:PUBLISH
X-ORIGINAL-URL:https://livingskiesrc.ca
X-WR-CALDESC:Events for Living Skies Regional Council
REFRESH-INTERVAL;VALUE=DURATION:PT1H
X-Robots-Tag:noindex
X-PUBLISHED-TTL:PT1H
BEGIN:VTIMEZONE
TZID:America/Regina
BEGIN:STANDARD
TZOFFSETFROM:-0600
TZOFFSETTO:-0600
TZNAME:CST
DTSTART:20240101T000000
END:STANDARD
END:VTIMEZONE
BEGIN:VEVENT
DTSTART;VALUE=DATE:20250507
DTEND;VALUE=DATE:20250609
DTSTAMP:20260420T054221
CREATED:20250507T221025Z
LAST-MODIFIED:20250507T221025Z
UID:10001631-1746576000-1749427199@livingskiesrc.ca
SUMMARY:100 pairs of socks for 100 years
DESCRIPTION:On June 10\, the United Church of Canada will be celebrating its 100th birthday. To commemorate this occasion\, the Lafleche – Limerick Pastoral Charge will be collecting 100 pairs of socks to be given to people in need. If you would like to donate a pair of socks to our outreach program\, please drop them off at the Lafleche United Church Saturday May 10th from 10 am to 7 pm\, at the Lafleche Credit Union or contact Beth Tallon at 306 472 7816.
URL:https://livingskiesrc.ca/event/100-pairs-of-socks-for-100-years/
LOCATION:Lafleche United Church\, 102 2nd Street East\, Lafleche\, S0H2K0
CATEGORIES:100th Anniversary of the UCC,Community of Faith Events
ATTACH;FMTTYPE=image/png:https://livingskiesrc.ca/wp-content/uploads/2025/05/CCF_000003-1.png
END:VEVENT
BEGIN:VEVENT
DTSTART;TZID=America/Regina:20250604T080000
DTEND;TZID=America/Regina:20250604T170000
DTSTAMP:20260420T054221
CREATED:20250507T221508Z
LAST-MODIFIED:20250507T221508Z
UID:10001629-1749024000-1749056400@livingskiesrc.ca
SUMMARY:Unmarked Graves Reading Group
DESCRIPTION:Our next Zoom meeting for the Unmarked graves Reading Group will be on Wednesday\, June 4 at 7 pm CST (Saskatchewan). We’re focusing this time on pages 77-100 of the executive summary – please read before the meeting. We will begin with a time of reading short excerpts which have touched us\, with silence before we begin. \nWe intend to read and reflect on the Special Interlocutor’s Final Report\, starting with the Executive Summary\, in order to learn more about the missing and disappeared Indigenous children who never came home from IRS institutions. We want to learn about the Interlocutor’s recommendations on “identifying obligations that must be met to implement an Indigenous-led Reparations Framework for truth\, accountability\, justice and reconciliation.” Anyone is welcome to join via Zoom.
URL:https://livingskiesrc.ca/event/unmarked-graves-reading-group-2/
CATEGORIES:Community of Faith Events,Intercultural,LGBTQIA+ Affirming
ATTACH;FMTTYPE=image/jpeg:https://livingskiesrc.ca/wp-content/uploads/2025/05/Unmarked-Graves-Reading-Group-June-4-2025-1.jpg
ORGANIZER;CN="Grosvenor Park United Church%2C Saskatoon SK":MAILTO:gpuc@sasktel.net
END:VEVENT
BEGIN:VEVENT
DTSTART;TZID=America/Regina:20250604T130000
DTEND;TZID=America/Regina:20250604T150000
DTSTAMP:20260420T054221
CREATED:20250423T212543Z
LAST-MODIFIED:20250423T212543Z
UID:10001623-1749042000-1749049200@livingskiesrc.ca
SUMMARY:Weekly Online Bible Study
DESCRIPTION:Join a with folks from Saskatchewan and beyond every Wednesday at 1pm for online Bible study.\nDig into scripture\, wonder together about what you are hearing\, draw out meaning for your life.\nHave a whole lot of fun and make new friends along the way! \nUse this zoom link to join: https://us02web.zoom.us/j/86276287258… \nNew participants always warmly welcomed.
URL:https://livingskiesrc.ca/event/weekly-online-bible-study-6/
CATEGORIES:Regional Events
END:VEVENT
BEGIN:VEVENT
DTSTART;TZID=America/Regina:20250604T190000
DTEND;TZID=America/Regina:20250604T203000
DTSTAMP:20260420T054221
CREATED:20250507T221508Z
LAST-MODIFIED:20250507T221508Z
UID:10001630-1749063600-1749069000@livingskiesrc.ca
SUMMARY:Unmarked Graves Reading Group
DESCRIPTION:Our next Zoom meeting for the Unmarked graves Reading Group will be on Wednesday\, June 4 at 7 pm CST (Saskatchewan). We’re focusing this time on pages 77-100 of the executive summary – please read before the meeting. We will begin with a time of reading short excerpts which have touched us\, with silence before we begin. \nWe intend to read and reflect on the Special Interlocutor’s Final Report\, starting with the Executive Summary\, in order to learn more about the missing and disappeared Indigenous children who never came home from IRS institutions. We want to learn about the Interlocutor’s recommendations on “identifying obligations that must be met to implement an Indigenous-led Reparations Framework for truth\, accountability\, justice and reconciliation.” Anyone is welcome to join via Zoom.
URL:https://livingskiesrc.ca/event/unmarked-graves-reading-group-2/
CATEGORIES:Community of Faith Events,Intercultural,LGBTQIA+ Affirming
ATTACH;FMTTYPE=image/jpeg:https://livingskiesrc.ca/wp-content/uploads/2025/05/Unmarked-Graves-Reading-Group-June-4-2025-1.jpg
ORGANIZER;CN="Grosvenor Park United Church%2C Saskatoon SK":MAILTO:gpuc@sasktel.net
END:VEVENT
END:VCALENDAR