BEGIN:VCALENDAR
VERSION:2.0
PRODID:-//Living Skies Regional Council - ECPv6.15.20//NONSGML v1.0//EN
CALSCALE:GREGORIAN
METHOD:PUBLISH
X-WR-CALNAME:Living Skies Regional Council
X-ORIGINAL-URL:https://livingskiesrc.ca
X-WR-CALDESC:Events for Living Skies Regional Council
REFRESH-INTERVAL;VALUE=DURATION:PT1H
X-Robots-Tag:noindex
X-PUBLISHED-TTL:PT1H
BEGIN:VTIMEZONE
TZID:America/Regina
BEGIN:STANDARD
TZOFFSETFROM:-0600
TZOFFSETTO:-0600
TZNAME:CST
DTSTART:20240101T000000
END:STANDARD
END:VTIMEZONE
BEGIN:VEVENT
DTSTART;TZID=America/Regina:20250305T080000
DTEND;TZID=America/Regina:20250305T170000
DTSTAMP:20260422T042313
CREATED:20250213T174848Z
LAST-MODIFIED:20250213T175110Z
UID:10001583-1741161600-1741194000@livingskiesrc.ca
SUMMARY:Unmarked Graves Reading Group
DESCRIPTION:In June 2022\, Kimberly Murray was appointed as the Independent Special Interlocutor for a two-year term by the Minister of Justice and Attorney General of Canada.  The Independent Special Interlocutor is to function independently and impartially\, in a non-partisan and transparent manner\, and to take part in conversations with Survivors\, Indigenous families\, and communities who are leading the Sacred work of recovering the missing children and unmarked burials. \nThis group will gather to decide how they want to read the reports of the Independent Special Interlocutor.
URL:https://livingskiesrc.ca/event/unmarked-graves-reading-group/
CATEGORIES:Community of Faith Events,Intercultural,Justice
ATTACH;FMTTYPE=image/jpeg:https://livingskiesrc.ca/wp-content/uploads/2025/02/Unmarked-Graves-Reading-Group-FB-1.jpg
ORGANIZER;CN="Grosvenor Park United Church%2C Saskatoon SK":MAILTO:gpuc@sasktel.net
END:VEVENT
BEGIN:VEVENT
DTSTART;TZID=America/Regina:20250305T200000
DTEND;TZID=America/Regina:20250305T210000
DTSTAMP:20260422T042313
CREATED:20250213T174848Z
LAST-MODIFIED:20250213T175110Z
UID:10001584-1741204800-1741208400@livingskiesrc.ca
SUMMARY:Unmarked Graves Reading Group
DESCRIPTION:In June 2022\, Kimberly Murray was appointed as the Independent Special Interlocutor for a two-year term by the Minister of Justice and Attorney General of Canada.  The Independent Special Interlocutor is to function independently and impartially\, in a non-partisan and transparent manner\, and to take part in conversations with Survivors\, Indigenous families\, and communities who are leading the Sacred work of recovering the missing children and unmarked burials. \nThis group will gather to decide how they want to read the reports of the Independent Special Interlocutor.
URL:https://livingskiesrc.ca/event/unmarked-graves-reading-group/
CATEGORIES:Community of Faith Events,Intercultural,Justice
ATTACH;FMTTYPE=image/jpeg:https://livingskiesrc.ca/wp-content/uploads/2025/02/Unmarked-Graves-Reading-Group-FB-1.jpg
ORGANIZER;CN="Grosvenor Park United Church%2C Saskatoon SK":MAILTO:gpuc@sasktel.net
END:VEVENT
END:VCALENDAR