BEGIN:VCALENDAR
VERSION:2.0
PRODID:-//Living Skies Regional Council - ECPv6.15.20//NONSGML v1.0//EN
CALSCALE:GREGORIAN
METHOD:PUBLISH
X-ORIGINAL-URL:https://livingskiesrc.ca
X-WR-CALDESC:Events for Living Skies Regional Council
REFRESH-INTERVAL;VALUE=DURATION:PT1H
X-Robots-Tag:noindex
X-PUBLISHED-TTL:PT1H
BEGIN:VTIMEZONE
TZID:America/Regina
BEGIN:STANDARD
TZOFFSETFROM:-0600
TZOFFSETTO:-0600
TZNAME:CST
DTSTART:20200101T000000
END:STANDARD
END:VTIMEZONE
BEGIN:VEVENT
DTSTART;TZID=America/Regina:20210316T093000
DTEND;TZID=America/Regina:20210316T153000
DTSTAMP:20260423T231251
CREATED:20210223T164503Z
LAST-MODIFIED:20210224T225218Z
UID:10000232-1615887000-1615908600@livingskiesrc.ca
SUMMARY:Care for the Pastoral\, Prophetic and Priestly Self in a Pandemic
DESCRIPTION:Ministry Personnel Lenten Retreat \nCost: $25 \nDraft Agenda: \n9:30am – Gathering\n9:45am – Self Care: Reframing it for Reclaiming It with Diane Strickland \n11:30am – Break \n1:30pm – Learning Together Options\n3:00pm – Closing worship\n3:30pm – Ending \nFor Learning Together Options\, please see the poster: https://livingskiesrc.ca/care-for-the-pastoral-prophetic-and-priestly-self-in-a-pandemic/ \nTo Register: https://form.jotform.com/210427209973255 \nRegistration will include discounted resources.  A prepared worship service for use March 21 and will also be provided. \nCo-Hosted by:\nCommittee on Ministry Personnel Support (Living Skies) and St. Andrew’s College \n 
URL:https://livingskiesrc.ca/event/care-for-the-pastoral-prophetic-and-priestly-self-in-a-pandemic/2021-03-16/
CATEGORIES:COVID-19,Regional Events
ATTACH;FMTTYPE=image/jpeg:https://livingskiesrc.ca/wp-content/uploads/2021/02/Retreat-logo-2-e1614285473999.jpg
ORGANIZER;CN="Living Skies Regional Council":MAILTO:livingskies@united-church.ca
END:VEVENT
BEGIN:VEVENT
DTSTART;TZID=America/Regina:20210316T130000
DTEND;TZID=America/Regina:20210316T140000
DTSTAMP:20260423T231251
CREATED:20210201T163411Z
LAST-MODIFIED:20210308T155538Z
UID:10000218-1615899600-1615903200@livingskiesrc.ca
SUMMARY:Ministry Personnel Gatherings
DESCRIPTION:The Ministry Personnel gathering for today has been CANCELLED due to the retreat. \n 
URL:https://livingskiesrc.ca/event/ministry-personnel-gatherings-19/
LOCATION:Zoom
CATEGORIES:Regional Events
END:VEVENT
BEGIN:VEVENT
DTSTART;TZID=America/Regina:20210316T180000
DTEND;TZID=America/Regina:20210316T200000
DTSTAMP:20260423T231251
CREATED:20210304T015020Z
LAST-MODIFIED:20210304T015020Z
UID:10000235-1615917600-1615924800@livingskiesrc.ca
SUMMARY:Bill C-15: Step forward or step back?
DESCRIPTION:Bill C-15: Step Forward or Step Back? Tuesday March 16 2021\, 6:00PM in AB/ SK. Join us for diverse Indigenous perspectives on the federal bill to implement the United Nations Declaration on the Rights of Indigenous Peoples. Speakers: Mary Ellen Turpel-Lafond (Aki-kwe); Sylvia McAdam (Saysewahum); Brenda Gunn; and moderator Maureen Johns (Goes with Eagle Woman). \nAll welcome!\nOrganized by KAIROS Prairies North. Register here: The Zoom link will be sent automatically\, so please check your spam folder. Click here for the Facebook event. \nClick here for the PDF poster\nClick here for the JPG poster (photo)
URL:https://livingskiesrc.ca/event/bill-c-15-step-forward-or-step-back/
LOCATION:Zoom
CATEGORIES:Events,Intercultural,Regional Events,Right Relations
ATTACH;FMTTYPE=image/jpeg:https://livingskiesrc.ca/wp-content/uploads/2021/03/BillC-15EventPosterFINALJPG-scaled.jpg
END:VEVENT
END:VCALENDAR