BEGIN:VCALENDAR
VERSION:2.0
PRODID:-//Living Skies Regional Council - ECPv6.15.20//NONSGML v1.0//EN
CALSCALE:GREGORIAN
METHOD:PUBLISH
X-ORIGINAL-URL:https://livingskiesrc.ca
X-WR-CALDESC:Events for Living Skies Regional Council
REFRESH-INTERVAL;VALUE=DURATION:PT1H
X-Robots-Tag:noindex
X-PUBLISHED-TTL:PT1H
BEGIN:VTIMEZONE
TZID:America/Regina
BEGIN:STANDARD
TZOFFSETFROM:-0600
TZOFFSETTO:-0600
TZNAME:CST
DTSTART:20200101T000000
END:STANDARD
END:VTIMEZONE
BEGIN:VEVENT
DTSTART;TZID=America/Regina:20210212T190000
DTEND;TZID=America/Regina:20210212T210000
DTSTAMP:20260423T152646
CREATED:20210126T021815Z
LAST-MODIFIED:20210126T022504Z
UID:10000035-1613156400-1613163600@livingskiesrc.ca
SUMMARY:ZEEBU 2021: Youth Retreat for gr.7-12 (hosted by Prairie to Pine Region)
DESCRIPTION:ZEEBU 2021 – hosted by Prairie to Pine Region (aka Manitoba)\nFREE ONLINE EVENT IN 2 PARTS\nFriday\, February 12th – 7 pm to 9 pm\nSaturday\, February 13th – 9:30 am to 12 noon \nTHEME: ALL OUR RELATIONS\nThe event will include:\nInteractive Theme Time\nWorship and Music\nGames Night\nHome groups divided by age \nPLEASE REGISTER BY FEB 5TH\, SO WE CAN SNAIL-MAIL YOU A PACKAGE FOR THE EVENT.\nhttps://prairietopinerc.ca/programs/youth-and-young-adults/
URL:https://livingskiesrc.ca/event/zeebu-2021-youth-retreat-for-gr-7-12-hosted-by-prairie-to-pine-region/2021-02-12/
LOCATION:Online Event
CATEGORIES:Events,Regional Events,YAYAC
END:VEVENT
END:VCALENDAR