BEGIN:VCALENDAR
VERSION:2.0
PRODID:-//Living Skies Regional Council - ECPv6.15.20//NONSGML v1.0//EN
CALSCALE:GREGORIAN
METHOD:PUBLISH
X-ORIGINAL-URL:https://livingskiesrc.ca
X-WR-CALDESC:Events for Living Skies Regional Council
REFRESH-INTERVAL;VALUE=DURATION:PT1H
X-Robots-Tag:noindex
X-PUBLISHED-TTL:PT1H
BEGIN:VTIMEZONE
TZID:America/Regina
BEGIN:STANDARD
TZOFFSETFROM:-0600
TZOFFSETTO:-0600
TZNAME:CST
DTSTART:20200101T000000
END:STANDARD
END:VTIMEZONE
BEGIN:VEVENT
DTSTART;TZID=America/Regina:20210209T080000
DTEND;TZID=America/Regina:20210209T170000
DTSTAMP:20260423T140556
CREATED:20210209T223956Z
LAST-MODIFIED:20210209T223956Z
UID:10000220-1612857600-1612890000@livingskiesrc.ca
SUMMARY:Practically Prophetic: Grief\, Depression & Anxiety
DESCRIPTION:Grief\, Depression & Anxiety\nThurs\, Feb 25 & Thurs\, Mar 4th \nTo Register: https://form.jotform.com/210376040663247 \nThe excitement and sparkle of Christmas is over.  We are heading into the toughest season of the year for folks who struggle with their mood.  Statistically\, this is the season where we face the greatest risk of people dying by suicide.  This year particularly\, we are becoming more and more isolated from friends and family with restrictions related to COVID.  For folks who find their motivation and energy disappear with the short days and chilly weather it’s hard to do all the things that experts recommend to maintain / manage mood.  (Getting outside!? – getting exercise!? – cutting down on carbs??!!! That is crazy talk!!!)  It becomes easy to just not answer the phone when loved ones attempt to make contact. \nGrief is NOT a mood disorder but it often gets mistaken for one because the experience is so similar.  The risk is that treating grief like an illness means that a normal reaction to loss becomes medicalized and pathologized.  In those situations\, people don’t trust their natural coping strategies. \nWe are more likely to reach out for help when we know what we are dealing with – when we can give a name to the symptoms that we are experiencing. These sessions are designed to give basic information so that it is possible to name what we are experiencing and then to look for the most helpful forms of support. \nSession One\nBasic Facts: Grief\, Depression & Anxiety\nThurs\, Feb. 25th\, 7:00 pm (Zoom online)\n“What are the Symptoms of Depression & Anxiety?”\n“How are these disorders similar to and different from Grief?” \nSession Two\nSelf-help Strategies: Managing our own mood disorders & supporting others with mood disorders.\nThurs\, Mar. 4th\, 7:00 pm (Zoom online)\n“What is helpful for you to do for yourself when you struggle with mood disorders?”\n“How can you be supportive to friends and family with these disorders?” \n  \nAbout our presenter:\nRuth Mireau (MSW) (RSW) SK\, is a social worker who worked in Mental Health and Addictions in Saskatchewan for 38 years as a counsellor.  In addition to providing counselling to clients with a wide variety of mental health issues she supervised health authority staff\, taught counselling skills to counsellors across the province and was an Instructor with the U of R\, Faculty of Social Work. \nRuth is an active member of McClure United Church in Saskatoon.  As a preacher’s kid\, she grew up in the church in a variety of rural communities.  She has always found the connections she has made in the church to be an important source of personal support. \n  \n\n\n\n\n\n\n\n\n\n\n\n“Practically Prophetic” is a new speaker series focused on tools & tips for our UCC ministry together. Think of it as Com-Ed (Community Education) for all: speakers\, presentations\, and panel discussions related to just about anything & everything in the vibrant faith-life of the church.  Oh yeah\, we’re excited that Practically Prophetic is a pretty cool collaboration of Living Skies Region Faith Formation (UCC)\, St. Andrew’s College\, and the Centre for Christian Studies.  \n\n\n\n\n\n\n\n  \n 
URL:https://livingskiesrc.ca/event/practically-prophetic-grief-depression-anxiety/
END:VEVENT
BEGIN:VEVENT
DTSTART;TZID=America/Regina:20210209T130000
DTEND;TZID=America/Regina:20210209T140000
DTSTAMP:20260423T140556
CREATED:20210201T162355Z
LAST-MODIFIED:20210203T204559Z
UID:10000213-1612875600-1612879200@livingskiesrc.ca
SUMMARY:Ministry Personnel Gatherings
DESCRIPTION:Ministry Personnel are warmly invited to attend any or all gatherings. \nJoin Zoom Meeting: \nhttps://united-church.zoom.us/j/97027021739?pwd=WXMvQXdsMmlTRGRnT1dwVTRHSE5iUT09 
URL:https://livingskiesrc.ca/event/ministry-personnel-gatherings-14/
LOCATION:Zoom
CATEGORIES:Regional Events
END:VEVENT
END:VCALENDAR