BEGIN:VCALENDAR
VERSION:2.0
PRODID:-//Living Skies Regional Council - ECPv6.15.20//NONSGML v1.0//EN
CALSCALE:GREGORIAN
METHOD:PUBLISH
X-ORIGINAL-URL:https://livingskiesrc.ca
X-WR-CALDESC:Events for Living Skies Regional Council
REFRESH-INTERVAL;VALUE=DURATION:PT1H
X-Robots-Tag:noindex
X-PUBLISHED-TTL:PT1H
BEGIN:VTIMEZONE
TZID:America/Regina
BEGIN:STANDARD
TZOFFSETFROM:-0600
TZOFFSETTO:-0600
TZNAME:CST
DTSTART:20200101T000000
END:STANDARD
END:VTIMEZONE
BEGIN:VEVENT
DTSTART;TZID=America/Regina:20210123T120000
DTEND;TZID=America/Regina:20210123T130000
DTSTAMP:20260423T124531
CREATED:20210115T190357Z
LAST-MODIFIED:20210115T190431Z
UID:10000060-1611403200-1611406800@livingskiesrc.ca
SUMMARY:SK Week of Prayer for Christian Unity online Bible study
DESCRIPTION:Saskatchewan’s first ever Week of Prayer for Christian Unity online 8-day Bible study\, daily January 18-25. Sponsored in partnership with The Prairie Centre for Ecumenism and the Regina Council of Churches. Click here for details and to register. \n\n\n\nA daily Bible study based on the theme of the 2021 Week of Prayer for Christian Unity. Jan. 18-25\, 2021\n\n\n\n \n\n\nAbout this Event\n\n\nA daily Bible study on the theme of the 2021 Week of Prayer for Christian Unity. \nMonday\, January 18 to Monday January 25 from 12:15-1:00pm CST (except Sunday\, Jan 24 at 1:00pm CST) \nNOTE: Zoom admission for first 100 participants each day. Livestream available on YouTube for others. \nHosted by the Prairie Centre for Ecumenism and the Regina Council of Churches\, this study is free and open to all. A different Christian leader will guide us each day as we explore the theme “Abide in my love and you shall bear much fruit” (John 15:5-9). \nThe 2021 theme calls us to pray and to work for reconciliation and unity in the church\, with our human family\, and with all of creation. Drawing on the Gospel image of vine and branches\, it invites us to nourish unity with God and with one another through contemplative silence\, prayer\, and common action. Grafted into Christ the vine as many diverse branches\, may we bear rich fruit and create new ways of living\, with respect for and communion with all of creation. \nNote: 12:15pm CST is 1:15pm EST\, 11:15am MST\, and 10:15am PST
URL:https://livingskiesrc.ca/event/sk-week-of-prayer-for-christian-unity-online-bible-study/2021-01-23/
LOCATION:Zoom
CATEGORIES:Events,Regional Events
END:VEVENT
BEGIN:VEVENT
DTSTART;TZID=America/Regina:20210123T180000
DTEND;TZID=America/Regina:20210123T200000
DTSTAMP:20260423T124531
CREATED:20201230T194347Z
LAST-MODIFIED:20201230T194443Z
UID:10000171-1611424800-1611432000@livingskiesrc.ca
SUMMARY:Camp Christopher: Robbie Burns Virtually Fundraiser
DESCRIPTION:Camp Christopher is hosting a “virtual” Robbie Burns night. \nYou can even order a Burns Dinner for pick-up in Saskatoon or Regina! \nHow? Fill out the form attached here: \n2021ROBBIE BURNS NIGHT Form Robbie Burns Virtually Information Sheet2021ROBBIE BURNS NIGHT Form \nRobbie Burns Virtually Information Sheet \nand order a dinner and zoom event \nor only the zoom event. \nTwo days before the event you will receive the Burns Zoom event link- you are welcome to call Martha 306 270 2378 for a zoom practice session \nThe Program is being woven together as we speak! \nFeaturing MC Rev Roberto DeSandoli \nWill there be an Address to the Haggis? YES \nWill there be a wee bit of bagpipes? YES \nWill I learn about bit more about Camp Christopher? YES \nalso….. \nA Minister from Scotland saying the Grace.. – Virtual Scottish Dancing \n  \nWe’ll tak a cup o’ kindness yet \nFor auld lang syne \n  \nJoin us to raise monies for Camp Christopher and have some truly Scottish fun. \nQuestions? Contact Donna Wilkinson 306-535-6916 or Shelia Coulter 306-280-8165
URL:https://livingskiesrc.ca/event/camp-christopher-robbie-burns-virtually-fundraiser/
LOCATION:Online Event
CATEGORIES:Community of Faith Events,Events
ATTACH;FMTTYPE=image/png:https://livingskiesrc.ca/wp-content/uploads/2020/12/cc-logo.png
END:VEVENT
END:VCALENDAR