BEGIN:VCALENDAR
VERSION:2.0
PRODID:-//Living Skies Regional Council - ECPv6.15.20//NONSGML v1.0//EN
CALSCALE:GREGORIAN
METHOD:PUBLISH
X-WR-CALNAME:Living Skies Regional Council
X-ORIGINAL-URL:https://livingskiesrc.ca
X-WR-CALDESC:Events for Living Skies Regional Council
REFRESH-INTERVAL;VALUE=DURATION:PT1H
X-Robots-Tag:noindex
X-PUBLISHED-TTL:PT1H
BEGIN:VTIMEZONE
TZID:America/Regina
BEGIN:STANDARD
TZOFFSETFROM:-0600
TZOFFSETTO:-0600
TZNAME:CST
DTSTART:20200101T000000
END:STANDARD
END:VTIMEZONE
BEGIN:VEVENT
DTSTART;TZID=America/Regina:20210117T150000
DTEND;TZID=America/Regina:20210117T170000
DTSTAMP:20260423T124401
CREATED:20201221T185413Z
LAST-MODIFIED:20201221T185633Z
UID:10000169-1610895600-1610902800@livingskiesrc.ca
SUMMARY:Young People of Faith and the Climate Crisis—A Conversation
DESCRIPTION:What does your faith say about the climate crisis? How are you coping with and responding to this crisis as a young person of faith? \nJoin with other young people and staff from across The United Church of Canada on Sunday\, January 17th at 4:00pm EST as we talk about faith and the climate crisis together. There’s no set agenda\, other than to start a conversation—bring your insights\, questions\, fears\, and hopes\, and let’s talk! \nZoom link: https://united-church.zoom.us/j/98031820051?pwd=QXl1bEN3K1ZIUnoxVHJ0SUlacU13UT09\nMeeting ID: 980 3182 0051\nPassword: 806899 \nIf you have any questions\, please contact Ren Ito (rito@united-church.ca). And if you know other young people who’d be interested\, please pass this invitation along!
URL:https://livingskiesrc.ca/event/young-people-of-faith-and-the-climate-crisis-a-conversation/
LOCATION:Online Event
CATEGORIES:Events,Regional Events,YAYAC
END:VEVENT
END:VCALENDAR