BEGIN:VCALENDAR
VERSION:2.0
PRODID:-//Living Skies Regional Council - ECPv6.15.20//NONSGML v1.0//EN
CALSCALE:GREGORIAN
METHOD:PUBLISH
X-ORIGINAL-URL:https://livingskiesrc.ca
X-WR-CALDESC:Events for Living Skies Regional Council
REFRESH-INTERVAL;VALUE=DURATION:PT1H
X-Robots-Tag:noindex
X-PUBLISHED-TTL:PT1H
BEGIN:VTIMEZONE
TZID:America/Regina
BEGIN:STANDARD
TZOFFSETFROM:-0600
TZOFFSETTO:-0600
TZNAME:CST
DTSTART:20190101T000000
END:STANDARD
END:VTIMEZONE
BEGIN:VEVENT
DTSTART;TZID=America/Regina:20201215T130000
DTEND;TZID=America/Regina:20201215T140000
DTSTAMP:20260423T081308
CREATED:20201118T192814Z
LAST-MODIFIED:20201118T192814Z
UID:10000163-1608037200-1608040800@livingskiesrc.ca
SUMMARY:Ministry Personnel Gatherings
DESCRIPTION:For the Advent season\, we will spend time together working through the themes of hope\, peace\, joy and love (today). \nMinistry Personnel are warmly invited to attend any or all gatherings; be sure to have a candle nearby to light together. \nJoin Zoom Meeting\nhttps://united-church.zoom.us/j/97402570199?pwd=U0tybFVWOXNYbTFObXBhMDg4YUE5UT09
URL:https://livingskiesrc.ca/event/ministry-personnel-gatherings-8/
LOCATION:Zoom
CATEGORIES:Regional Events
END:VEVENT
END:VCALENDAR