BEGIN:VCALENDAR
VERSION:2.0
PRODID:-//Living Skies Regional Council - ECPv6.15.20//NONSGML v1.0//EN
CALSCALE:GREGORIAN
METHOD:PUBLISH
X-ORIGINAL-URL:https://livingskiesrc.ca
X-WR-CALDESC:Events for Living Skies Regional Council
REFRESH-INTERVAL;VALUE=DURATION:PT1H
X-Robots-Tag:noindex
X-PUBLISHED-TTL:PT1H
BEGIN:VTIMEZONE
TZID:America/Regina
BEGIN:STANDARD
TZOFFSETFROM:-0600
TZOFFSETTO:-0600
TZNAME:CST
DTSTART:20190101T000000
END:STANDARD
END:VTIMEZONE
BEGIN:VEVENT
DTSTART;TZID=America/Regina:20200317T160000
DTEND;TZID=America/Regina:20200319T130000
DTSTAMP:20260421T020113
CREATED:20200131T030212Z
LAST-MODIFIED:20200229T025349Z
UID:10000083-1584460800-1584622800@livingskiesrc.ca
SUMMARY:Listening for the Still\, Small Voice within Retreat
DESCRIPTION:In this retreat we will be invited to engage in energetic practices that boost our energy throughout the day. We will be inspired to connect with the still\, small voice within us creatively as we reflect on the challenges the biblical character Elijah had in hearing the still\, small voice. Our time together will lead us towards greater awareness of the still small voice within\, that guides us towards health and wellness. \nLeadership:  Marg Janick-Grayston; and Janicka Grayston.\nRegistration Fee to be paid by March 3:  $260 (Includes cost of facility rental\, meals\, accommodation & supplies) .\nFacilitation Donation:  Suggested Range $110-$160 (Paid during the retreat)\nFor full details visit: https://www.freeflowwellness.ca/retreats
URL:https://livingskiesrc.ca/event/listening-for-the-still-small-voice-within-retreat/
LOCATION:Ancient Spirals Retreat Centre\, Saskatoon\, SK\, Canada
CATEGORIES:Regional Events
END:VEVENT
BEGIN:VEVENT
DTSTART;TZID=America/Regina:20200318T183000
DTEND;TZID=America/Regina:20200318T200000
DTSTAMP:20260421T020113
CREATED:20200316T225027Z
LAST-MODIFIED:20200331T185542Z
UID:10000079-1584556200-1584561600@livingskiesrc.ca
SUMMARY:Zoom meeting for lay leadership
DESCRIPTION:Pastoral charge supervisors\, Board and Council members\, M&P committee members\, pastoral care teams\, and more.  All welcome.  These will be supportive spaces for lay leadership to gather with pastoral relations ministers\, the Executive Minister\, and possibly members of the Committee of Support to Communities of Faith. \nWednesday 18 March\, 6:30 PM AB and SK\, 7:30PM MB and NW Ontario\, 5:30 in BC.\nZoom link: https://united-church.zoom.us/j/623080479\nThe meeting ID you’ll need is the number that’s in the link above.  Toll free number for everyone: 1-855-703-8985. PLEASE NOTE: please arrive on time. The meeting may be locked for security purposes five to ten minutes after the start. 
URL:https://livingskiesrc.ca/event/zoom-meeting-for-lay-leadership/
CATEGORIES:Regional Events
END:VEVENT
END:VCALENDAR