BEGIN:VCALENDAR
VERSION:2.0
PRODID:-//Living Skies Regional Council - ECPv6.15.20//NONSGML v1.0//EN
CALSCALE:GREGORIAN
METHOD:PUBLISH
X-ORIGINAL-URL:https://livingskiesrc.ca
X-WR-CALDESC:Events for Living Skies Regional Council
REFRESH-INTERVAL;VALUE=DURATION:PT1H
X-Robots-Tag:noindex
X-PUBLISHED-TTL:PT1H
BEGIN:VTIMEZONE
TZID:America/Regina
BEGIN:STANDARD
TZOFFSETFROM:-0600
TZOFFSETTO:-0600
TZNAME:CST
DTSTART:20190101T000000
END:STANDARD
END:VTIMEZONE
BEGIN:VEVENT
DTSTART;TZID=America/Regina:20200314T140000
DTEND;TZID=America/Regina:20200314T160000
DTSTAMP:20260421T021154
CREATED:20200226T185238Z
LAST-MODIFIED:20200229T220448Z
UID:10000134-1584194400-1584201600@livingskiesrc.ca
SUMMARY:CAM(PIE) Fun!
DESCRIPTION:Saskatoon Affirming Ministries invites you to join us for our 2nd annual PIE Day on Saturday\, March 14 from 2-4pm at St. Martins United Church. \nWhy PIE? PIE = Public. Intentional. Explicit. Those are the standards we hold ourselves and our welcome to when we become Affirming\, Welcoming\, or Inclusive communities. \nOur theme this year is CAMPING. Wear your favourite camping attire\, join us in a camp fire\, camp songs and camp snacks. \nWe’ll have lots of campy fun and learn a few things too. \nAny funds raised will help send a child to Camp fYrefly or Camp Caterpillar.\nContact: Laura Fouhse\nEmail: laura@mcclureunitedchurch.org\nPhone: 306-373-1753
URL:https://livingskiesrc.ca/event/campie-fun/
LOCATION:St Martin’s United Church\, 2617 Clarence Ave S\, Saskatoon\, SK\, S7J 1M5\, Canada
CATEGORIES:Clusters and Networks,Community of Faith Events,LGBTQIA+ Affirming
ATTACH;FMTTYPE=image/jpeg:https://livingskiesrc.ca/wp-content/uploads/2020/02/PIE-Day-2020-Poster-Logo-PRINT-e1583015215414.jpg
END:VEVENT
BEGIN:VEVENT
DTSTART;TZID=America/Regina:20200314T190000
DTEND;TZID=America/Regina:20200314T210000
DTSTAMP:20260421T021154
CREATED:20200229T222713Z
LAST-MODIFIED:20200229T222820Z
UID:10000108-1584212400-1584219600@livingskiesrc.ca
SUMMARY:PIE Day Coffeehouse in Humboldt!
DESCRIPTION:Join the Westminster Affirm Team for PIE and entertainment at the PIE DAY Coffeehouse.\nJoin us for PIE and music! Guest: Andrew Matheson\, Co-ordinator\, Rainbow Youth Coffee\nAdmission: Donations Welcome (but don’t let it be a barrier to attendance) \nWestminster United Church Hall\nContact: Allison Sarauer\nEmail: dankd@sasktel.net\nPhone: 306-231-7663 \n  \n 
URL:https://livingskiesrc.ca/event/pie-day-coffeehouse-in-humboldt/
LOCATION:Humboldt: Westminster United Church\, 708 13th Ave.\, Humboldt\, Saskatchewan\, S0K 2A0
CATEGORIES:Community of Faith Events,LGBTQIA+ Affirming
ATTACH;FMTTYPE=image/jpeg:https://livingskiesrc.ca/wp-content/uploads/2020/02/PIE-Day-2020-Poster-Logo-PRINT-e1583015215414.jpg
END:VEVENT
BEGIN:VEVENT
DTSTART;TZID=America/Regina:20200314T190000
DTEND;TZID=America/Regina:20200314T210000
DTSTAMP:20260421T021154
CREATED:20200229T223210Z
LAST-MODIFIED:20200301T040321Z
UID:10000127-1584212400-1584219600@livingskiesrc.ca
SUMMARY:PIE Day Coffee House\, Regina SK
DESCRIPTION:Celebration of Diversity and Inclusion; Signature Concert: songs & Stories of Wanda Gronhovd;\nOpen Mic; Pie\, Refreshments\, Fellowship. All welcome! \nContact: Kent Stewart\nEmail: wesleyuc@sasktel.net\nPhone: 306-586-5220 \n  \n 
URL:https://livingskiesrc.ca/event/pie-day-coffee-house-regina-sk/
LOCATION:Wesley United Church\, 3913 Hillsdale Street\, Regina\, SK\, S4S 3Y6\, Canada
CATEGORIES:Community of Faith Events,LGBTQIA+ Affirming
ATTACH;FMTTYPE=image/jpeg:https://livingskiesrc.ca/wp-content/uploads/2020/02/PIE-Day-2020-Poster-Logo-PRINT-e1583015215414.jpg
END:VEVENT
END:VCALENDAR