BEGIN:VCALENDAR
VERSION:2.0
PRODID:-//Living Skies Regional Council - ECPv6.15.20//NONSGML v1.0//EN
CALSCALE:GREGORIAN
METHOD:PUBLISH
X-ORIGINAL-URL:https://livingskiesrc.ca
X-WR-CALDESC:Events for Living Skies Regional Council
REFRESH-INTERVAL;VALUE=DURATION:PT1H
X-Robots-Tag:noindex
X-PUBLISHED-TTL:PT1H
BEGIN:VTIMEZONE
TZID:America/Regina
BEGIN:STANDARD
TZOFFSETFROM:-0600
TZOFFSETTO:-0600
TZNAME:CST
DTSTART:20190101T000000
END:STANDARD
END:VTIMEZONE
BEGIN:VEVENT
DTSTART;TZID=America/Regina:20200206T030000
DTEND;TZID=America/Regina:20200206T043000
DTSTAMP:20260423T085339
CREATED:20200130T222700Z
LAST-MODIFIED:20200131T021623Z
UID:10000081-1580958000-1580963400@livingskiesrc.ca
SUMMARY:Pastoral Relations Commission meeting
DESCRIPTION:Paperwork for this meeting (i.e. appointment forms\, ministry profiles\, etc) need to be submitted to Bev Diebert ( bdiebert@united-church.ca ) the Friday before the meeting. \nFor this meeting\, any paperwork needs to be submitted by Friday\, January 31 in order to be considered on February 6.  As always\, if you have any questions or concerns\, please do not hesitate to contact Tracy Murton at tmurton@united-church.ca .
URL:https://livingskiesrc.ca/event/pastoral-relations-commission-meeting-2/
CATEGORIES:Meetings
END:VEVENT
END:VCALENDAR